Workbook

Sheet Math Grids
D2: Problem Solving Questions | G2: Data Sufficiency Questions
B3: Lesson Module | D3: # answered | E3: # correct | F3: % correct | G3: # answered | H3: # correct | I3: % correct | J3: Total % correct
B4: Arithmetic | D4: =SUMIFS(ANS!$I$5:$I$180,ANS!$F$5:$F$180,1,ANS!$I$5:$I$180,1) -> 0 | E4: =SUMIFS(ANS!$I$5:$I$180,ANS!$F$5:$F$180,1,ANS!$I$5:$I$180,1,ANS!$J$5:$J$180,1) -> 0 | F4: =IFERROR(E4/D4,0) -> 0 | G4: =SUMIFS(ANS!$S$5:$S$128,ANS!$P$5:$P$128,1,ANS!$S$5:$S$128,1) -> 0 | H4: =SUMIFS(ANS!$S$5:$S$128,ANS!$P$5:$P$128,1,ANS!$S$5:$S$128,1,ANS!$T$5:$T$128,1) -> 0 | I4: =IFERROR(H4/G4,0) -> 0 | J4: =IFERROR((H4+E4)/(G4+D4),0) -> 0
B5: Powers & Roots | D5: =SUMIFS(ANS!$I$5:$I$180,ANS!$F$5:$F$180,2,ANS!$I$5:$I$180,1) -> 0 | E5: =SUMIFS(ANS!$I$5:$I$180,ANS!$F$5:$F$180,2,ANS!$I$5:$I$180,1,ANS!$J$5:$J$180,1) -> 0 | F5: =IFERROR(E5/D5,0) -> 0 | G5: =SUMIFS(ANS!$S$5:$S$128,ANS!$P$5:$P$128,2,ANS!$S$5:$S$128,1) -> 0 | H5: =SUMIFS(ANS!$S$5:$S$128,ANS!$P$5:$P$128,2,ANS!$S$5:$S$128,1,ANS!$T$5:$T$128,1) -> 0 | I5: =IFERROR(H5/G5,0) -> 0 | J5: =IFERROR((H5+E5)/(G5+D5),0) -> 0
B6: Algebra & Equations | D6: =SUMIFS(ANS!$I$5:$I$180,ANS!$F$5:$F$180,3,ANS!$I$5:$I$180,1) -> 0 | E6: =SUMIFS(ANS!$I$5:$I$180,ANS!$F$5:$F$180,3,ANS!$I$5:$I$180,1,ANS!$J$5:$J$180,1) -> 0 | F6: =IFERROR(E6/D6,0) -> 0 | G6: =SUMIFS(ANS!$S$5:$S$128,ANS!$P$5:$P$128,3,ANS!$S$5:$S$128,1) -> 0 | H6: =SUMIFS(ANS!$S$5:$S$128,ANS!$P$5:$P$128,3,ANS!$S$5:$S$128,1,ANS!$T$5:$T$128,1) -> 0 | I6: =IFERROR(H6/G6,0) -> 0 | J6: =IFERROR((H6+E6)/(G6+D6),0) -> 0
B7: Geometry | D7: =SUMIFS(ANS!$I$5:$I$180,ANS!$F$5:$F$180,4,ANS!$I$5:$I$180,1) -> 0 | E7: =SUMIFS(ANS!$I$5:$I$180,ANS!$F$5:$F$180,4,ANS!$I$5:$I$180,1,ANS!$J$5:$J$180,1) -> 0 | F7: =IFERROR(E7/D7,0) -> 0 | G7: =SUMIFS(ANS!$S$5:$S$128,ANS!$P$5:$P$128,4,ANS!$S$5:$S$128,1) -> 0 | H7: =SUMIFS(ANS!$S$5:$S$128,ANS!$P$5:$P$128,4,ANS!$S$5:$S$128,1,ANS!$T$5:$T$128,1) -> 0 | I7: =IFERROR(H7/G7,0) -> 0 | J7: =IFERROR((H7+E7)/(G7+D7),0) -> 0
B8: Word Problems | D8: =SUMIFS(ANS!$I$5:$I$180,ANS!$F$5:$F$180,5,ANS!$I$5:$I$180,1) -> 0 | E8: =SUMIFS(ANS!$I$5:$I$180,ANS!$F$5:$F$180,5,ANS!$I$5:$I$180,1,ANS!$J$5:$J$180,1) -> 0 | F8: =IFERROR(E8/D8,0) -> 0 | G8: =SUMIFS(ANS!$S$5:$S$128,ANS!$P$5:$P$128,5,ANS!$S$5:$S$128,1) -> 0 | H8: =SUMIFS(ANS!$S$5:$S$128,ANS!$P$5:$P$128,5,ANS!$S$5:$S$128,1,ANS!$T$5:$T$128,1) -> 0 | I8: =IFERROR(H8/G8,0) -> 0 | J8: =IFERROR((H8+E8)/(G8+D8),0) -> 0
B9: Integer Properties | D9: =SUMIFS(ANS!$I$5:$I$180,ANS!$F$5:$F$180,6,ANS!$I$5:$I$180,1) -> 0 | E9: =SUMIFS(ANS!$I$5:$I$180,ANS!$F$5:$F$180,6,ANS!$I$5:$I$180,1,ANS!$J$5:$J$180,1) -> 0 | F9: =IFERROR(E9/D9,0) -> 0 | G9: =SUMIFS(ANS!$S$5:$S$128,ANS!$P$5:$P$128,6,ANS!$S$5:$S$128,1) -> 0 | H9: =SUMIFS(ANS!$S$5:$S$128,ANS!$P$5:$P$128,6,ANS!$S$5:$S$128,1,ANS!$T$5:$T$128,1) -> 0 | I9: =IFERROR(H9/G9,0) -> 0 | J9: =IFERROR((H9+E9)/(G9+D9),0) -> 0
B10: Statistics | D10: =SUMIFS(ANS!$I$5:$I$180,ANS!$F$5:$F$180,7,ANS!$I$5:$I$180,1) -> 0 | E10: =SUMIFS(ANS!$I$5:$I$180,ANS!$F$5:$F$180,7,ANS!$I$5:$I$180,1,ANS!$J$5:$J$180,1) -> 0 | F10: =IFERROR(E10/D10,0) -> 0 | G10: =SUMIFS(ANS!$S$5:$S$128,ANS!$P$5:$P$128,7,ANS!$S$5:$S$128,1) -> 0 | H10: =SUMIFS(ANS!$S$5:$S$128,ANS!$P$5:$P$128,7,ANS!$S$5:$S$128,1,ANS!$T$5:$T$128,1) -> 0 | I10: =IFERROR(H10/G10,0) -> 0 | J10: =IFERROR((H10+E10)/(G10+D10),0) -> 0
B11: Counting | D11: =SUMIFS(ANS!$I$5:$I$180,ANS!$F$5:$F$180,8,ANS!$I$5:$I$180,1) -> 0 | E11: =SUMIFS(ANS!$I$5:$I$180,ANS!$F$5:$F$180,8,ANS!$I$5:$I$180,1,ANS!$J$5:$J$180,1) -> 0 | F11: =IFERROR(E11/D11,0) -> 0 | G11: =SUMIFS(ANS!$S$5:$S$128,ANS!$P$5:$P$128,8,ANS!$S$5:$S$128,1) -> 0 | H11: =SUMIFS(ANS!$S$5:$S$128,ANS!$P$5:$P$128,8,ANS!$S$5:$S$128,1,ANS!$T$5:$T$128,1) -> 0 | I11: =IFERROR(H11/G11,0) -> 0 | J11: =IFERROR((H11+E11)/(G11+D11),0) -> 0
B12: Probability | D12: =SUMIFS(ANS!$I$5:$I$180,ANS!$F$5:$F$180,9,ANS!$I$5:$I$180,1) -> 0 | E12: =SUMIFS(ANS!$I$5:$I$180,ANS!$F$5:$F$180,9,ANS!$I$5:$I$180,1,ANS!$J$5:$J$180,1) -> 0 | F12: =IFERROR(E12/D12,0) -> 0 | G12: =SUMIFS(ANS!$S$5:$S$128,ANS!$P$5:$P$128,9,ANS!$S$5:$S$128,1) -> 0 | H12: =SUMIFS(ANS!$S$5:$S$128,ANS!$P$5:$P$128,9,ANS!$S$5:$S$128,1,ANS!$T$5:$T$128,1) -> 0 | I12: =IFERROR(H12/G12,0) -> 0 | J12: =IFERROR((H12+E12)/(G12+D12),0) -> 0
B15: Problem Solving Questions | G15: Data Sufficiency Questions
B16: Question | C16: Your answer | D16: Correct Answer | E16: Flag | G16: Question | H16: Your answer | I16: Correct Answer | J16: Flag
B17: 1 | D17: =IF(ANS!H5<>"",ANS!G5,"") | G17: 1 | I17: =IF(ANS!R5<>"",ANS!Q5,"")
B18: 2 | D18: =IF(ANS!H6<>"",ANS!G6,"") | G18: 2 | I18: =IF(ANS!R6<>"",ANS!Q6,"")
B19: 3 | D19: =IF(ANS!H7<>"",ANS!G7,"") | G19: 3 | I19: =IF(ANS!R7<>"",ANS!Q7,"")
B20: 4 | D20: =IF(ANS!H8<>"",ANS!G8,"") | G20: 4 | I20: =IF(ANS!R8<>"",ANS!Q8,"")
B21: 5 | D21: =IF(ANS!H9<>"",ANS!G9,"") | G21: 5 | I21: =IF(ANS!R9<>"",ANS!Q9,"")
B22: 6 | D22: =IF(ANS!H10<>"",ANS!G10,"") | G22: 6 | I22: =IF(ANS!R10<>"",ANS!Q10,"")
B23: 7 | D23: =IF(ANS!H11<>"",ANS!G11,"") | G23: 7 | I23: =IF(ANS!R11<>"",ANS!Q11,"")
B24: 8 | D24: =IF(ANS!H12<>"",ANS!G12,"") | G24: 8 | I24: =IF(ANS!R12<>"",ANS!Q12,"")
B25: 9 | D25: =IF(ANS!H13<>"",ANS!G13,"") | G25: 9 | I25: =IF(ANS!R13<>"",ANS!Q13,"")
B26: 10 | D26: =IF(ANS!H14<>"",ANS!G14,"") | G26: 10 | I26: =IF(ANS!R14<>"",ANS!Q14,"")
B27: 11 | D27: =IF(ANS!H15<>"",ANS!G15,"") | G27: 11 | I27: =IF(ANS!R15<>"",ANS!Q15,"")
B28: 12 | D28: =IF(ANS!H16<>"",ANS!G16,"") | G28: 12 | I28: =IF(ANS!R16<>"",ANS!Q16,"")
... B140: 124 | D140: =IF(ANS!H128<>"",ANS!G128,"") | G140: 124 | I140: =IF(ANS!R128<>"",ANS!Q128,"")
B141: 125 | D141: =IF(ANS!H129<>"",ANS!G129,"")
B142: 126 | D142: =IF(ANS!H130<>"",ANS!G130,"")
B143: 127 | D143: =IF(ANS!H131<>"",ANS!G131,"")
B144: 128 | D144: =IF(ANS!H132<>"",ANS!G132,"")
B145: 129 | D145: =IF(ANS!H133<>"",ANS!G133,"")
B146: 130 | D146: =IF(ANS!H134<>"",ANS!G134,"")
B147: 131 | D147: =IF(ANS!H135<>"",ANS!G135,"")
B148: 132 | D148: =IF(ANS!H136<>"",ANS!G136,"")
B149: 133 | D149: =IF(ANS!H137<>"",ANS!G137,"")
B150: 134 | D150: =IF(ANS!H138<>"",ANS!G138,"")
B151: 135 | D151: =IF(ANS!H139<>"",ANS!G139,"")
B152: 136 | D152: =IF(ANS!H140<>"",ANS!G140,"")
... B192: 176 | D192: =IF(ANS!H180<>"",ANS!G180,"")

Sheet Question Sets
B2: 1 | E2: 2 | H2: 3 | K2: 4 | N2: 5 | Q2: 6 | T2: 7 | W2: 8
B3: P. Solving | C3: D. Sufficiency | E3: P. Solving | F3: D. Sufficiency | H3: P. Solving | I3: D. Sufficiency | K3: P. Solving | L3: D. Sufficiency | N3: P. Solving | O3: D. Sufficiency | Q3: P. Solving | R3: D. Sufficiency | T3: P. Solving | U3: D. Sufficiency | W3: P. Solving | X3: D. Sufficiency
B4: 21 | C4: 3 | E4: 2 | F4: 13 | H4: 1 | I4: 10 | K4: 3 | L4: 7 | N4: 9 | O4: 27 | Q4: 39 | R4: 1 | T4: 6 | U4: 6 | W4: 5 | X4: 2
B5: 23 | C5: 32 | E5: 29 | F5: 22 | H5: 4 | I5: 14 | K5: 7 | L5: 8 | N5: 13 | O5: 31 | Q5: 40 | R5: 4 | T5: 8 | U5: 17 | W5: 14 | X5: 5
B6: 38 | C6: 44 | E6: 36 | F6: 37 | H6: 10 | I6: 16 | K6: 12 | L6: 25 | N6: 19 | O6: 34 | Q6: 45 | R6: 15 | T6: 11 | U6: 20 | W6: 15 | X6: 9
B7: 47 | C7: 53 | E7: 53 | F7: 38 | H7: 18 | I7: 19 | K7: 25 | L7: 36 | N7: 24 | O7: 35 | Q7: 56 | R7: 18 | T7: 16 | U7: 21 | W7: 17 | X7: 11
B8: 50 | C8: 54 | E8: 62 | F8: 46 | H8: 34 | I8: 29 | K8: 28 | L8: 48 | N8: 35 | O8: 58 | Q8: 58 | R8: 23 | T8: 32 | U8: 43 | W8: 20 | X8: 12
B9: 52 | C9: 59 | E9: 66 | F9: 49 | H9: 46 | I9: 30 | K9: 31 | L9: 50 | N9: 44 | O9: 61 | Q9: 61 | R9: 26 | T9: 33 | U9: 60 | W9: 22 | X9: 24
B10: 63 | C10: 69 | E10: 72 | F10: 51 | H10: 69 | I10: 40 | K10: 49 | L10: 52 | N10: 48 | O10: 75 | Q10: 78 | R10: 33 | T10: 37 | U10: 68 | W10: 26 | X10: 28
B11: 65 | C11: 89 | E11: 73 | F11: 71 | H11: 77 | I11: 41 | K11: 51 | L11: 63 | N11: 64 | O11: 76 | Q11: 80 | R11: 45 | T11: 42 | U11: 79 | W11: 27 | X11: 39
B12: 67 | C12: 90 | E12: 75 | F12: 74 | H12: 86 | I12: 55 | K12: 55 | L12: 64 | N12: 70 | O12: 82 | Q12: 81 | R12: 56 | T12: 43 | U12: 80 | W12: 30 | X12: 42
B13: 68 | C13: 94 | E13: 79 | F13: 78 | H13: 94 | I13: 57 | K13: 59 | L13: 65 | N13: 74 | O13: 85 | Q13: 89 | R13: 62 | T13: 54 | U13: 84 | W13: 41 | X13: 47
B14: 71 | C14: 95 | E14: 84 | F14: 87 | H14: 104 | I14: 99 | K14: 60 | L14: 66 | N14: 82 | O14: 98 | Q14: 93 | R14: 67 | T14: 57 | U14: 106 | W14: 76 | X14: 91
B15: 101 | C15: 97 | E15: 85 | F15: 93 | H15: 113 | I15: 113 | K15: 87 | L15: 72 | N15: 83 | O15: 102 | Q15: 96 | R15: 70 | T15: 92 | U15: 107 | W15: 88 | X15: 92
... B17: 105 | C17: 108 | E17: 106 | F17: 109 | H17: 132 | I17: 116 | K17: 109 | L17: 86 | N17: 111 | O17: 111 | Q17: 131 | R17: 77 | T17: 110 | U17: 118 | W17: 95 | X17: 105
B18: 120 | C18: 112 | E18: 108 | H18: 136 | I18: 121 | K18: 119 | L18: 96 | N18: 124 | O18: 114 | Q18: 133 | R18: 81 | T18: 117 | U18: 120 | W18: 97 | X18: 123
B19: 122 | C19: 117 | E19: 116 | H19: 141 | K19: 121 | L19: 122 | N19: 125 | Q19: 134 | R19: 88 | T19: 146 | W19: 98
B20: 140 | C20: 119 | E20: 123 | H20: 142 | K20: 128 | N20: 129 | Q20: 139 | T20: 148 | W20: 112
B21: 165 | E21: 143 | H21: 144 | K21: 135 | N21: 151 | Q21: 154 | T21: 149 | W21: 115
B22: 174 | E22: 147 | H22: 152 | K22: 137 | N22: 156 | Q22: 160 | T22: 150 | W22: 118
B23: 175 | E23: 153 | H23: 157 | K23: 163 | N23: 159 | Q23: 167 | T23: 169 | W23: 127
E24: 155 | H24: 158 | K24: 173 | N24: 166 | Q24: 172 | T24: 170 | W24: 130
E25: 162 | H25: 176 | N25: 168 | T25: 171 | W25: 161
E26: 164

Sheet ANS
B2: Problem Solving | L2: Data Sufficiency
B3: Raw | E3: Sorted | L3: Raw | O3: Sorted
B4: # in section | C4: Problem | D4: ID | E4: Problem | F4: ID | G4: ANSWER | H4: USER | I4: ANSWERED | J4: CORRECT | L4: # in section | M4: Problem | N4: ID | O4: Problem | P4: ID | Q4: ANSWER | R4: USER | S4: ANSWERED | T4: CORRECT
B5: =IF(D5=D4,B4+1,1) -> 1 | C5: 4 | D5: 1 | E5: 1 | F5: =VLOOKUP(E5,$C$5:$D$180,2,FALSE) -> 3 | G5: B | H5: =IF(AND('Math Grids'!C17>="A",'Math Grids'!C17<="E"),'Math Grids'!C17,"") | I5: =IF(H5<>"",1,0) -> 0 | J5: =IF(AND(I5=1,G5=H5),1,0) -> 0 | L5: =IF(N5=N4,L4+1,1) -> 1 | M5: 8 | N5: 1 | O5: 1 | P5: =VLOOKUP(O5,$M$5:$N$180,2,FALSE) -> 7 | Q5: C | R5: =IF(AND('Math Grids'!H17>="A",'Math Grids'!H17<="E"),'Math Grids'!H17,"") | S5: =IF(R5<>"",1,0) -> 0 | T5: =IF(AND(S5=1,Q5=R5),1,0) -> 0
B6: =IF(D6=D5,B5+1,1) -> 2 | C6: 6 | D6: 1 | E6: 2 | F6: =VLOOKUP(E6,$C$5:$D$180,2,FALSE) -> 5 | G6: C | H6: =IF(AND('Math Grids'!C18>="A",'Math Grids'!C18<="E"),'Math Grids'!C18,"") | I6: =IF(H6<>"",1,0) -> 0 | J6: =IF(AND(I6=1,G6=H6),1,0) -> 0 | L6: =IF(N6=N5,L5+1,1) -> 2 | M6: 10 | N6: 1 | O6: 2 | P6: =VLOOKUP(O6,$M$5:$N$180,2,FALSE) -> 3 | Q6: D | R6: =IF(AND('Math Grids'!H18>="A",'Math Grids'!H18<="E"),'Math Grids'!H18,"") | S6: =IF(R6<>"",1,0) -> 0 | T6: =IF(AND(S6=1,Q6=R6),1,0) -> 0
B7: =IF(D7=D6,B6+1,1) -> 3 | C7: 8 | D7: 1 | E7: 3 | F7: =VLOOKUP(E7,$C$5:$D$180,2,FALSE) -> 5 | G7: C | H7: =IF(AND('Math Grids'!C19>="A",'Math Grids'!C19<="E"),'Math Grids'!C19,"") | I7: =IF(H7<>"",1,0) -> 0 | J7: =IF(AND(I7=1,G7=H7),1,0) -> 0 | L7: =IF(N7=N6,L6+1,1) -> 3 | M7: 12 | N7: 1 | O7: 3 | P7: =VLOOKUP(O7,$M$5:$N$180,2,FALSE) -> 6 | Q7: D | R7: =IF(AND('Math Grids'!H19>="A",'Math Grids'!H19<="E"),'Math Grids'!H19,"") | S7: =IF(R7<>"",1,0) -> 0 | T7: =IF(AND(S7=1,Q7=R7),1,0) -> 0
B8: =IF(D8=D7,B7+1,1) -> 4 | C8: 9 | D8: 1 | E8: 4 | F8: =VLOOKUP(E8,$C$5:$D$180,2,FALSE) -> 1 | G8: E | H8: =IF(AND('Math Grids'!C20>="A",'Math Grids'!C20<="E"),'Math Grids'!C20,"") | I8: =IF(H8<>"",1,0) -> 0 | J8: =IF(AND(I8=1,G8=H8),1,0) -> 0 | L8: =IF(N8=N7,L7+1,1) -> 4 | M8: 17 | N8: 1 | O8: 4 | P8: =VLOOKUP(O8,$M$5:$N$180,2,FALSE) -> 4 | Q8: B | R8: =IF(AND('Math Grids'!H20>="A",'Math Grids'!H20<="E"),'Math Grids'!H20,"") | S8: =IF(R8<>"",1,0) -> 0 | T8: =IF(AND(S8=1,Q8=R8),1,0) -> 0
B9: =IF(D9=D8,B8+1,1) -> 5 | C9: 10 | D9: 1 | E9: 5 | F9: =VLOOKUP(E9,$C$5:$D$180,2,FALSE) -> 3 | G9: C | H9: =IF(AND('Math Grids'!C21>="A",'Math Grids'!C21<="E"),'Math Grids'!C21,"") | I9: =IF(H9<>"",1,0) -> 0 | J9: =IF(AND(I9=1,G9=H9),1,0) -> 0 | L9: =IF(N9=N8,L8+1,1) -> 5 | M9: 18 | N9: 1 | O9: 5 | P9: =VLOOKUP(O9,$M$5:$N$180,2,FALSE) -> 5 | Q9: E | R9: =IF(AND('Math Grids'!H21>="A",'Math Grids'!H21<="E"),'Math Grids'!H21,"") | S9: =IF(R9<>"",1,0) -> 0 | T9: =IF(AND(S9=1,Q9=R9),1,0) -> 0
B10: =IF(D10=D9,B9+1,1) -> 6 | C10: 12 | D10: 1 | E10: 6 | F10: =VLOOKUP(E10,$C$5:$D$180,2,FALSE) -> 1 | G10: C | H10: =IF(AND('Math Grids'!C22>="A",'Math Grids'!C22<="E"),'Math Grids'!C22,"") | I10: =IF(H10<>"",1,0) -> 0 | J10: =IF(AND(I10=1,G10=H10),1,0) -> 0 | L10: =IF(N10=N9,L9+1,1) -> 6 | M10: 21 | N10: 1 | O10: 6 | P10: =VLOOKUP(O10,$M$5:$N$180,2,FALSE) -> 5 | Q10: C | R10: =IF(AND('Math Grids'!H22>="A",'Math Grids'!H22<="E"),'Math Grids'!H22,"") | S10: =IF(R10<>"",1,0) -> 0 | T10: =IF(AND(S10=1,Q10=R10),1,0) -> 0
B11: =IF(D11=D10,B10+1,1) -> 7 | C11: 14 | D11: 1 | E11: 7 | F11: =VLOOKUP(E11,$C$5:$D$180,2,FALSE) -> 4 | G11: E | H11: =IF(AND('Math Grids'!C23>="A",'Math Grids'!C23<="E"),'Math Grids'!C23,"") | I11: =IF(H11<>"",1,0) -> 0 | J11: =IF(AND(I11=1,G11=H11),1,0) -> 0 | L11: =IF(N11=N10,L10+1,1) -> 7 | M11: 24 | N11: 1 | O11: 7 | P11: =VLOOKUP(O11,$M$5:$N$180,2,FALSE) -> 5 | Q11: C | R11: =IF(AND('Math Grids'!H23>="A",'Math Grids'!H23<="E"),'Math Grids'!H23,"") | S11: =IF(R11<>"",1,0) -> 0 | T11: =IF(AND(S11=1,Q11=R11),1,0) -> 0
B12: =IF(D12=D11,B11+1,1) -> 8 | C12: 17 | D12: 1 | E12: 8 | F12: =VLOOKUP(E12,$C$5:$D$180,2,FALSE) -> 1 | G12: D | H12: =IF(AND('Math Grids'!C24>="A",'Math Grids'!C24<="E"),'Math Grids'!C24,"") | I12: =IF(H12<>"",1,0) -> 0 | J12: =IF(AND(I12=1,G12=H12),1,0) -> 0 | L12: =IF(N12=N11,L11+1,1) -> 8 | M12: 36 | N12: 1 | O12: 8 | P12: =VLOOKUP(O12,$M$5:$N$180,2,FALSE) -> 1 | Q12: C | R12: =IF(AND('Math Grids'!H24>="A",'Math Grids'!H24<="E"),'Math Grids'!H24,"") | S12: =IF(R12<>"",1,0) -> 0 | T12: =IF(AND(S12=1,Q12=R12),1,0) -> 0
B13: =IF(D13=D12,B12+1,1) -> 9 | C13: 19 | D13: 1 | E13: 9 | F13: =VLOOKUP(E13,$C$5:$D$180,2,FALSE) -> 1 | G13: B | H13: =IF(AND('Math Grids'!C25>="A",'Math Grids'!C25<="E"),'Math Grids'!C25,"") | I13: =IF(H13<>"",1,0) -> 0 | J13: =IF(AND(I13=1,G13=H13),1,0) -> 0 | L13: =IF(N13=N12,L12+1,1) -> 9 | M13: 49 | N13: 1 | O13: 9 | P13: =VLOOKUP(O13,$M$5:$N$180,2,FALSE) -> 5 | Q13: D | R13: =IF(AND('Math Grids'!H25>="A",'Math Grids'!H25<="E"),'Math Grids'!H25,"") | S13: =IF(R13<>"",1,0) -> 0 | T13: =IF(AND(S13=1,Q13=R13),1,0) -> 0
B14: =IF(D14=D13,B13+1,1) -> 10 | C14: 26 | D14: 1 | E14: 10 | F14: =VLOOKUP(E14,$C$5:$D$180,2,FALSE) -> 1 | G14: D | H14: =IF(AND('Math Grids'!C26>="A",'Math Grids'!C26<="E"),'Math Grids'!C26,"") | I14: =IF(H14<>"",1,0) -> 0 | J14: =IF(AND(I14=1,G14=H14),1,0) -> 0 | L14: =IF(N14=N13,L13+1,1) -> 10 | M14: 53 | N14: 1 | O14: 10 | P14: =VLOOKUP(O14,$M$5:$N$180,2,FALSE) -> 1 | Q14: E | R14: =IF(AND('Math Grids'!H26>="A",'Math Grids'!H26<="E"),'Math Grids'!H26,"") | S14: =IF(R14<>"",1,0) -> 0 | T14: =IF(AND(S14=1,Q14=R14),1,0) -> 0
B15: =IF(D15=D14,B14+1,1) -> 11 | C15: 27 | D15: 1 | E15: 11 | F15: =VLOOKUP(E15,$C$5:$D$180,2,FALSE) -> 5 | G15: B | H15: =IF(AND('Math Grids'!C27>="A",'Math Grids'!C27<="E"),'Math Grids'!C27,"") | I15: =IF(H15<>"",1,0) -> 0 | J15: =IF(AND(I15=1,G15=H15),1,0) -> 0 | L15: =IF(N15=N14,L14+1,1) -> 11 | M15: 77 | N15: 1 | O15: 11 | P15: =VLOOKUP(O15,$M$5:$N$180,2,FALSE) -> 4 | Q15: E | R15: =IF(AND('Math Grids'!H27>="A",'Math Grids'!H27<="E"),'Math Grids'!H27,"") | S15: =IF(R15<>"",1,0) -> 0 | T15: =IF(AND(S15=1,Q15=R15),1,0) -> 0
B16: =IF(D16=D15,B15+1,1) -> 12 | C16: 29 | D16: 1 | E16: 12 | F16: =VLOOKUP(E16,$C$5:$D$180,2,FALSE) -> 1 | G16: D | H16: =IF(AND('Math Grids'!C28>="A",'Math Grids'!C28<="E"),'Math Grids'!C28,"") | I16: =IF(H16<>"",1,0) -> 0 | J16: =IF(AND(I16=1,G16=H16),1,0) -> 0 | L16: =IF(N16=N15,L15+1,1) -> 12 | M16: 93 | N16: 1 | O16: 12 | P16: =VLOOKUP(O16,$M$5:$N$180,2,FALSE) -> 1 | Q16: E | R16: =IF(AND('Math Grids'!H28>="A",'Math Grids'!H28<="E"),'Math Grids'!H28,"") | S16: =IF(R16<>"",1,0) -> 0 | T16: =IF(AND(S16=1,Q16=R16),1,0) -> 0
... B128: =IF(D128=D127,B127+1,1) -> 19 | C128: 69 | D128: 5 | E128: 124 | F128: =VLOOKUP(E128,$C$5:$D$180,2,FALSE) -> 5 | G128: E | H128: =IF(AND('Math Grids'!C140>="A",'Math Grids'!C140<="E"),'Math Grids'!C140,"") | I128: =IF(H128<>"",1,0) -> 0 | J128: =IF(AND(I128=1,G128=H128),1,0) -> 0 | L128: =IF(N128=N127,L127+1,1) -> 1 | M128: 122 | N128: 9 | O128: 124 | P128: =VLOOKUP(O128,$M$5:$N$180,2,FALSE) -> 3 | Q128: A | R128: =IF(AND('Math Grids'!H140>="A",'Math Grids'!H140<="E"),'Math Grids'!H140,"") | S128: =IF(R128<>"",1,0) -> 0 | T128: =IF(AND(S128=1,Q128=R128),1,0) -> 0
B129: =IF(D129=D128,B128+1,1) -> 20 | C129: 73 | D129: 5 | E129: 125 | F129: =VLOOKUP(E129,$C$5:$D$180,2,FALSE) -> 6 | G129: C | H129: =IF(AND('Math Grids'!C141>="A",'Math Grids'!C141<="E"),'Math Grids'!C141,"") | I129: =IF(H129<>"",1,0) -> 0 | J129: =IF(AND(I129=1,G129=H129),1,0) -> 0
B130: =IF(D130=D129,B129+1,1) -> 21 | C130: 75 | D130: 5 | E130: 126 | F130: =VLOOKUP(E130,$C$5:$D$180,2,FALSE) -> 1 | G130: B | H130: =IF(AND('Math Grids'!C142>="A",'Math Grids'!C142<="E"),'Math Grids'!C142,"") | I130: =IF(H130<>"",1,0) -> 0 | J130: =IF(AND(I130=1,G130=H130),1,0) -> 0
B131: =IF(D131=D130,B130+1,1) -> 22 | C131: 87 | D131: 5 | E131: 127 | F131: =VLOOKUP(E131,$C$5:$D$180,2,FALSE) -> 5 | G131: C | H131: =IF(AND('Math Grids'!C143>="A",'Math Grids'!C143<="E"),'Math Grids'!C143,"") | I131: =IF(H131<>"",1,0) -> 0 | J131: =IF(AND(I131=1,G131=H131),1,0) -> 0
B132: =IF(D132=D131,B131+1,1) -> 23 | C132: 90 | D132: 5 | E132: 128 | F132: =VLOOKUP(E132,$C$5:$D$180,2,FALSE) -> 3 | G132: A | H132: =IF(AND('Math Grids'!C144>="A",'Math Grids'!C144<="E"),'Math Grids'!C144,"") | I132: =IF(H132<>"",1,0) -> 0 | J132: =IF(AND(I132=1,G132=H132),1,0) -> 0
B133: =IF(D133=D132,B132+1,1) -> 24 | C133: 114 | D133: 5 | E133: 129 | F133: =VLOOKUP(E133,$C$5:$D$180,2,FALSE) -> 7 | G133: B | H133: =IF(AND('Math Grids'!C145>="A",'Math Grids'!C145<="E"),'Math Grids'!C145,"") | I133: =IF(H133<>"",1,0) -> 0 | J133: =IF(AND(I133=1,G133=H133),1,0) -> 0
B134: =IF(D134=D133,B133+1,1) -> 25 | C134: 115 | D134: 5 | E134: 130 | F134: =VLOOKUP(E134,$C$5:$D$180,2,FALSE) -> 5 | G134: D | H134: =IF(AND('Math Grids'!C146>="A",'Math Grids'!C146<="E"),'Math Grids'!C146,"") | I134: =IF(H134<>"",1,0) -> 0 | J134: =IF(AND(I134=1,G134=H134),1,0) -> 0
B135: =IF(D135=D134,B134+1,1) -> 26 | C135: 118 | D135: 5 | E135: 131 | F135: =VLOOKUP(E135,$C$5:$D$180,2,FALSE) -> 5 | G135: D | H135: =IF(AND('Math Grids'!C147>="A",'Math Grids'!C147<="E"),'Math Grids'!C147,"") | I135: =IF(H135<>"",1,0) -> 0 | J135: =IF(AND(I135=1,G135=H135),1,0) -> 0
B136: =IF(D136=D135,B135+1,1) -> 27 | C136: 119 | D136: 5 | E136: 132 | F136: =VLOOKUP(E136,$C$5:$D$180,2,FALSE) -> 8 | G136: B | H136: =IF(AND('Math Grids'!C148>="A",'Math Grids'!C148<="E"),'Math Grids'!C148,"") | I136: =IF(H136<>"",1,0) -> 0 | J136: =IF(AND(I136=1,G136=H136),1,0) -> 0
B137: =IF(D137=D136,B136+1,1) -> 28 | C137: 120 | D137: 5 | E137: 133 | F137: =VLOOKUP(E137,$C$5:$D$180,2,FALSE) -> 3 | G137: D | H137: =IF(AND('Math Grids'!C149>="A",'Math Grids'!C149<="E"),'Math Grids'!C149,"") | I137: =IF(H137<>"",1,0) -> 0 | J137: =IF(AND(I137=1,G137=H137),1,0) -> 0
B138: =IF(D138=D137,B137+1,1) -> 29 | C138: 124 | D138: 5 | E138: 134 | F138: =VLOOKUP(E138,$C$5:$D$180,2,FALSE) -> 3 | G138: C | H138: =IF(AND('Math Grids'!C150>="A",'Math Grids'!C150<="E"),'Math Grids'!C150,"") | I138: =IF(H138<>"",1,0) -> 0 | J138: =IF(AND(I138=1,G138=H138),1,0) -> 0
B139: =IF(D139=D138,B138+1,1) -> 30 | C139: 127 | D139: 5 | E139: 135 | F139: =VLOOKUP(E139,$C$5:$D$180,2,FALSE) -> 4 | G139: B | H139: =IF(AND('Math Grids'!C151>="A",'Math Grids'!C151<="E"),'Math Grids'!C151,"") | I139: =IF(H139<>"",1,0) -> 0 | J139: =IF(AND(I139=1,G139=H139),1,0) -> 0
B140: =IF(D140=D139,B139+1,1) -> 31 | C140: 130 | D140: 5 | E140: 136 | F140: =VLOOKUP(E140,$C$5:$D$180,2,FALSE) -> 5 | G140: B | H140: =IF(AND('Math Grids'!C152>="A",'Math Grids'!C152<="E"),'Math Grids'!C152,"") | I140: =IF(H140<>"",1,0) -> 0 | J140: =IF(AND(I140=1,G140=H140),1,0) -> 0
... B180: =IF(D180=D179,B179+1,1) -> 2 | C180: 160 | D180: 9 | E180: 176 | F180: =VLOOKUP(E180,$C$5:$D$180,2,FALSE) -> 1 | G180: B | H180: =IF(AND('Math Grids'!C192>="A",'Math Grids'!C192<="E"),'Math Grids'!C192,"") | I180: =IF(H180<>"",1,0) -> 0 | J180: =IF(AND(I180=1,G180=H180),1,0) -> 0
B183: Flag
