Workbook

Sheet Math Grids
D2: Problem Solving Questions | G2: Data Sufficiency Questions
B3: Lesson Module | D3: # answered | E3: # correct | F3: % correct | G3: # answered | H3: # correct | I3: % correct | J3: Total % correct
B4: Arithmetic | D4: =SUMIFS(ANS!$I$5:$I$180,ANS!$F$5:$F$180,1,ANS!$I$5:$I$180,1) -> 0 | E4: =SUMIFS(ANS!$I$5:$I$180,ANS!$F$5:$F$180,1,ANS!$I$5:$I$180,1,ANS!$J$5:$J$180,1) -> 0 | F4: =IFERROR(E4/D4,0) -> 0 | G4: =SUMIFS(ANS!$S$5:$S$128,ANS!$P$5:$P$128,1,ANS!$S$5:$S$128,1) -> 0 | H4: =SUMIFS(ANS!$S$5:$S$128,ANS!$P$5:$P$128,1,ANS!$S$5:$S$128,1,ANS!$T$5:$T$128,1) -> 0 | I4: =IFERROR(H4/G4,0) -> 0 | J4: =IFERROR((H4+E4)/(G4+D4),0) -> 0
B5: Powers & Roots | D5: =SUMIFS(ANS!$I$5:$I$180,ANS!$F$5:$F$180,2,ANS!$I$5:$I$180,1) -> 0 | E5: =SUMIFS(ANS!$I$5:$I$180,ANS!$F$5:$F$180,2,ANS!$I$5:$I$180,1,ANS!$J$5:$J$180,1) -> 0 | F5: =IFERROR(E5/D5,0) -> 0 | G5: =SUMIFS(ANS!$S$5:$S$128,ANS!$P$5:$P$128,2,ANS!$S$5:$S$128,1) -> 0 | H5: =SUMIFS(ANS!$S$5:$S$128,ANS!$P$5:$P$128,2,ANS!$S$5:$S$128,1,ANS!$T$5:$T$128,1) -> 0 | I5: =IFERROR(H5/G5,0) -> 0 | J5: =IFERROR((H5+E5)/(G5+D5),0) -> 0
B6: Algebra & Equations | D6: =SUMIFS(ANS!$I$5:$I$180,ANS!$F$5:$F$180,3,ANS!$I$5:$I$180,1) -> 0 | E6: =SUMIFS(ANS!$I$5:$I$180,ANS!$F$5:$F$180,3,ANS!$I$5:$I$180,1,ANS!$J$5:$J$180,1) -> 0 | F6: =IFERROR(E6/D6,0) -> 0 | G6: =SUMIFS(ANS!$S$5:$S$128,ANS!$P$5:$P$128,3,ANS!$S$5:$S$128,1) -> 0 | H6: =SUMIFS(ANS!$S$5:$S$128,ANS!$P$5:$P$128,3,ANS!$S$5:$S$128,1,ANS!$T$5:$T$128,1) -> 0 | I6: =IFERROR(H6/G6,0) -> 0 | J6: =IFERROR((H6+E6)/(G6+D6),0) -> 0
B7: Geometry | D7: =SUMIFS(ANS!$I$5:$I$180,ANS!$F$5:$F$180,4,ANS!$I$5:$I$180,1) -> 0 | E7: =SUMIFS(ANS!$I$5:$I$180,ANS!$F$5:$F$180,4,ANS!$I$5:$I$180,1,ANS!$J$5:$J$180,1) -> 0 | F7: =IFERROR(E7/D7,0) -> 0 | G7: =SUMIFS(ANS!$S$5:$S$128,ANS!$P$5:$P$128,4,ANS!$S$5:$S$128,1) -> 0 | H7: =SUMIFS(ANS!$S$5:$S$128,ANS!$P$5:$P$128,4,ANS!$S$5:$S$128,1,ANS!$T$5:$T$128,1) -> 0 | I7: =IFERROR(H7/G7,0) -> 0 | J7: =IFERROR((H7+E7)/(G7+D7),0) -> 0
B8: Word Problems | D8: =SUMIFS(ANS!$I$5:$I$180,ANS!$F$5:$F$180,5,ANS!$I$5:$I$180,1) -> 0 | E8: =SUMIFS(ANS!$I$5:$I$180,ANS!$F$5:$F$180,5,ANS!$I$5:$I$180,1,ANS!$J$5:$J$180,1) -> 0 | F8: =IFERROR(E8/D8,0) -> 0 | G8: =SUMIFS(ANS!$S$5:$S$128,ANS!$P$5:$P$128,5,ANS!$S$5:$S$128,1) -> 0 | H8: =SUMIFS(ANS!$S$5:$S$128,ANS!$P$5:$P$128,5,ANS!$S$5:$S$128,1,ANS!$T$5:$T$128,1) -> 0 | I8: =IFERROR(H8/G8,0) -> 0 | J8: =IFERROR((H8+E8)/(G8+D8),0) -> 0
B9: Integer Properties | D9: =SUMIFS(ANS!$I$5:$I$180,ANS!$F$5:$F$180,6,ANS!$I$5:$I$180,1) -> 0 | E9: =SUMIFS(ANS!$I$5:$I$180,ANS!$F$5:$F$180,6,ANS!$I$5:$I$180,1,ANS!$J$5:$J$180,1) -> 0 | F9: =IFERROR(E9/D9,0) -> 0 | G9: =SUMIFS(ANS!$S$5:$S$128,ANS!$P$5:$P$128,6,ANS!$S$5:$S$128,1) -> 0 | H9: =SUMIFS(ANS!$S$5:$S$128,ANS!$P$5:$P$128,6,ANS!$S$5:$S$128,1,ANS!$T$5:$T$128,1) -> 0 | I9: =IFERROR(H9/G9,0) -> 0 | J9: =IFERROR((H9+E9)/(G9+D9),0) -> 0
B10: Statistics | D10: =SUMIFS(ANS!$I$5:$I$180,ANS!$F$5:$F$180,7,ANS!$I$5:$I$180,1) -> 0 | E10: =SUMIFS(ANS!$I$5:$I$180,ANS!$F$5:$F$180,7,ANS!$I$5:$I$180,1,ANS!$J$5:$J$180,1) -> 0 | F10: =IFERROR(E10/D10,0) -> 0 | G10: =SUMIFS(ANS!$S$5:$S$128,ANS!$P$5:$P$128,7,ANS!$S$5:$S$128,1) -> 0 | H10: =SUMIFS(ANS!$S$5:$S$128,ANS!$P$5:$P$128,7,ANS!$S$5:$S$128,1,ANS!$T$5:$T$128,1) -> 0 | I10: =IFERROR(H10/G10,0) -> 0 | J10: =IFERROR((H10+E10)/(G10+D10),0) -> 0
B11: Counting | D11: =SUMIFS(ANS!$I$5:$I$180,ANS!$F$5:$F$180,8,ANS!$I$5:$I$180,1) -> 0 | E11: =SUMIFS(ANS!$I$5:$I$180,ANS!$F$5:$F$180,8,ANS!$I$5:$I$180,1,ANS!$J$5:$J$180,1) -> 0 | F11: =IFERROR(E11/D11,0) -> 0 | G11: =SUMIFS(ANS!$S$5:$S$128,ANS!$P$5:$P$128,8,ANS!$S$5:$S$128,1) -> 0 | H11: =SUMIFS(ANS!$S$5:$S$128,ANS!$P$5:$P$128,8,ANS!$S$5:$S$128,1,ANS!$T$5:$T$128,1) -> 0 | I11: =IFERROR(H11/G11,0) -> 0 | J11: =IFERROR((H11+E11)/(G11+D11),0) -> 0
B12: Probability | D12: =SUMIFS(ANS!$I$5:$I$180,ANS!$F$5:$F$180,9,ANS!$I$5:$I$180,1) -> 0 | E12: =SUMIFS(ANS!$I$5:$I$180,ANS!$F$5:$F$180,9,ANS!$I$5:$I$180,1,ANS!$J$5:$J$180,1) -> 0 | F12: =IFERROR(E12/D12,0) -> 0 | G12: =SUMIFS(ANS!$S$5:$S$128,ANS!$P$5:$P$128,9,ANS!$S$5:$S$128,1) -> 0 | H12: =SUMIFS(ANS!$S$5:$S$128,ANS!$P$5:$P$128,9,ANS!$S$5:$S$128,1,ANS!$T$5:$T$128,1) -> 0 | I12: =IFERROR(H12/G12,0) -> 0 | J12: =IFERROR((H12+E12)/(G12+D12),0) -> 0
B15: Problem Solving Questions | G15: Data Sufficiency Questions
B16: Question | C16: Your answer | D16: Correct Answer | E16: Flag | G16: Question | H16: Your answer | I16: Correct Answer | J16: Flag
B17: 1 | D17: =IF(ANS!H5<>"",ANS!G5,"") | G17: 1 | I17: =IF(ANS!R5<>"",ANS!Q5,"")
B18: 2 | D18: =IF(ANS!H6<>"",ANS!G6,"") | G18: 2 | I18: =IF(ANS!R6<>"",ANS!Q6,"")
B19: 3 | D19: =IF(ANS!H7<>"",ANS!G7,"") | G19: 3 | I19: =IF(ANS!R7<>"",ANS!Q7,"")
B20: 4 | D20: =IF(ANS!H8<>"",ANS!G8,"") | G20: 4 | I20: =IF(ANS!R8<>"",ANS!Q8,"")
B21: 5 | D21: =IF(ANS!H9<>"",ANS!G9,"") | G21: 5 | I21: =IF(ANS!R9<>"",ANS!Q9,"")
B22: 6 | D22: =IF(ANS!H10<>"",ANS!G10,"") | G22: 6 | I22: =IF(ANS!R10<>"",ANS!Q10,"")
B23: 7 | D23: =IF(ANS!H11<>"",ANS!G11,"") | G23: 7 | I23: =IF(ANS!R11<>"",ANS!Q11,"")
B24: 8 | D24: =IF(ANS!H12<>"",ANS!G12,"") | G24: 8 | I24: =IF(ANS!R12<>"",ANS!Q12,"")
B25: 9 | D25: =IF(ANS!H13<>"",ANS!G13,"") | G25: 9 | I25: =IF(ANS!R13<>"",ANS!Q13,"")
B26: 10 | D26: =IF(ANS!H14<>"",ANS!G14,"") | G26: 10 | I26: =IF(ANS!R14<>"",ANS!Q14,"")
B27: 11 | D27: =IF(ANS!H15<>"",ANS!G15,"") | G27: 11 | I27: =IF(ANS!R15<>"",ANS!Q15,"")
B28: 12 | D28: =IF(ANS!H16<>"",ANS!G16,"") | G28: 12 | I28: =IF(ANS!R16<>"",ANS!Q16,"")
... B140: 124 | D140: =IF(ANS!H128<>"",ANS!G128,"") | G140: 124 | I140: =IF(ANS!R128<>"",ANS!Q128,"")
B141: 125 | D141: =IF(ANS!H129<>"",ANS!G129,"")
B142: 126 | D142: =IF(ANS!H130<>"",ANS!G130,"")
B143: 127 | D143: =IF(ANS!H131<>"",ANS!G131,"")
B144: 128 | D144: =IF(ANS!H132<>"",ANS!G132,"")
B145: 129 | D145: =IF(ANS!H133<>"",ANS!G133,"")
B146: 130 | D146: =IF(ANS!H134<>"",ANS!G134,"")
B147: 131 | D147: =IF(ANS!H135<>"",ANS!G135,"")
B148: 132 | D148: =IF(ANS!H136<>"",ANS!G136,"")
B149: 133 | D149: =IF(ANS!H137<>"",ANS!G137,"")
B150: 134 | D150: =IF(ANS!H138<>"",ANS!G138,"")
B151: 135 | D151: =IF(ANS!H139<>"",ANS!G139,"")
B152: 136 | D152: =IF(ANS!H140<>"",ANS!G140,"")
... B192: 176 | D192: =IF(ANS!H180<>"",ANS!G180,"")

Sheet Question Sets
B2: 1 | E2: 2 | H2: 3 | K2: 4 | N2: 5 | Q2: 6 | T2: 7 | W2: 8
B3: P. Solving | C3: D. Sufficiency | E3: P. Solving | F3: D. Sufficiency | H3: P. Solving | I3: D. Sufficiency | K3: P. Solving | L3: D. Sufficiency | N3: P. Solving | O3: D. Sufficiency | Q3: P. Solving | R3: D. Sufficiency | T3: P. Solving | U3: D. Sufficiency | W3: P. Solving | X3: D. Sufficiency
B4: =DRILLS!$D$187 -> 21 | C4: =DRILLS!$D$188 -> 3 | E4: =DRILLS!$D$190 -> 2 | F4: =DRILLS!$D$191 -> 13 | H4: =DRILLS!$D$193 -> 1 | I4: =DRILLS!$D$194 -> 10 | K4: =DRILLS!$D$196 -> 3 | L4: =DRILLS!$D$197 -> 7 | N4: =DRILLS!$D$199 -> 9 | O4: =DRILLS!$D$200 -> 27 | Q4: =DRILLS!$D$202 -> 39 | R4: =DRILLS!$D$203 -> 1 | T4: =DRILLS!$D$205 -> 6 | U4: =DRILLS!$D$206 -> 6 | W4: =DRILLS!$D$208 -> 5 | X4: =DRILLS!$D$209 -> 2
B5: =DRILLS!$E$187 -> 23 | C5: =DRILLS!$E$188 -> 32 | E5: =DRILLS!$E$190 -> 29 | F5: =DRILLS!$E$191 -> 22 | H5: =DRILLS!$E$193 -> 4 | I5: =DRILLS!$E$194 -> 14 | K5: =DRILLS!$E$196 -> 7 | L5: =DRILLS!$E$197 -> 8 | N5: =DRILLS!$E$199 -> 13 | O5: =DRILLS!$E$200 -> 31 | Q5: =DRILLS!$E$202 -> 40 | R5: =DRILLS!$E$203 -> 4 | T5: =DRILLS!$E$205 -> 8 | U5: =DRILLS!$E$206 -> 17 | W5: =DRILLS!$E$208 -> 14 | X5: =DRILLS!$E$209 -> 5
B6: =DRILLS!$F$187 -> 38 | C6: =DRILLS!$F$188 -> 44 | E6: =DRILLS!$F$190 -> 36 | F6: =DRILLS!$F$191 -> 37 | H6: =DRILLS!$F$193 -> 10 | I6: =DRILLS!$F$194 -> 16 | K6: =DRILLS!$F$196 -> 12 | L6: =DRILLS!$F$197 -> 25 | N6: =DRILLS!$F$199 -> 19 | O6: =DRILLS!$F$200 -> 34 | Q6: =DRILLS!$F$202 -> 45 | R6: =DRILLS!$F$203 -> 15 | T6: =DRILLS!$F$205 -> 11 | U6: =DRILLS!$F$206 -> 20 | W6: =DRILLS!$F$208 -> 15 | X6: =DRILLS!$F$209 -> 9
B7: =DRILLS!$G$187 -> 47 | C7: =DRILLS!$G$188 -> 53 | E7: =DRILLS!$G$190 -> 53 | F7: =DRILLS!$G$191 -> 38 | H7: =DRILLS!$G$193 -> 18 | I7: =DRILLS!$G$194 -> 19 | K7: =DRILLS!$G$196 -> 25 | L7: =DRILLS!$G$197 -> 36 | N7: =DRILLS!$G$199 -> 24 | O7: =DRILLS!$G$200 -> 35 | Q7: =DRILLS!$G$202 -> 56 | R7: =DRILLS!$G$203 -> 18 | T7: =DRILLS!$G$205 -> 16 | U7: =DRILLS!$G$206 -> 21 | W7: =DRILLS!$G$208 -> 17 | X7: =DRILLS!$G$209 -> 11
B8: =DRILLS!H$187 -> 50 | C8: =DRILLS!$H$188 -> 54 | E8: =DRILLS!$H$190 -> 62 | F8: =DRILLS!$H$191 -> 46 | H8: =DRILLS!$H$193 -> 34 | I8: =DRILLS!$H$194 -> 29 | K8: =DRILLS!$H$196 -> 28 | L8: =DRILLS!$H$197 -> 48 | N8: =DRILLS!$H$199 -> 35 | O8: =DRILLS!$H$200 -> 58 | Q8: =DRILLS!$H$202 -> 58 | R8: =DRILLS!$H$203 -> 23 | T8: =DRILLS!$H$205 -> 32 | U8: =DRILLS!$H$206 -> 43 | W8: =DRILLS!$H$208 -> 20 | X8: =DRILLS!$H$209 -> 12
B9: =DRILLS!$I$187 -> 52 | C9: =DRILLS!$I$188 -> 59 | E9: =DRILLS!$I$190 -> 66 | F9: =DRILLS!$I$191 -> 49 | H9: =DRILLS!$I$193 -> 46 | I9: =DRILLS!$I$194 -> 30 | K9: =DRILLS!$I$196 -> 31 | L9: =DRILLS!$I$197 -> 50 | N9: =DRILLS!$I$199 -> 44 | O9: =DRILLS!$I$200 -> 61 | Q9: =DRILLS!$I$202 -> 61 | R9: =DRILLS!$I$203 -> 26 | T9: =DRILLS!$I$205 -> 33 | U9: =DRILLS!$I$206 -> 60 | W9: =DRILLS!$I$208 -> 22 | X9: =DRILLS!$I$209 -> 24
B10: =DRILLS!$J$187 -> 63 | C10: =DRILLS!$J$188 -> 69 | E10: =DRILLS!$J$190 -> 72 | F10: =DRILLS!$J$191 -> 51 | H10: =DRILLS!$J$193 -> 69 | I10: =DRILLS!$J$194 -> 40 | K10: =DRILLS!$J$196 -> 49 | L10: =DRILLS!$J$197 -> 52 | N10: =DRILLS!$J$199 -> 48 | O10: =DRILLS!$J$200 -> 75 | Q10: =DRILLS!$J$202 -> 78 | R10: =DRILLS!$J$203 -> 33 | T10: =DRILLS!$J$205 -> 37 | U10: =DRILLS!$J$206 -> 68 | W10: =DRILLS!$J$208 -> 26 | X10: =DRILLS!$J$209 -> 28
B11: =DRILLS!$K$187 -> 65 | C11: =DRILLS!$K$188 -> 89 | E11: =DRILLS!$K$190 -> 73 | F11: =DRILLS!$K$191 -> 71 | H11: =DRILLS!$K$193 -> 77 | I11: =DRILLS!$K$194 -> 41 | K11: =DRILLS!$K$196 -> 51 | L11: =DRILLS!$K$197 -> 63 | N11: =DRILLS!$K$199 -> 64 | O11: =DRILLS!$K$200 -> 76 | Q11: =DRILLS!$K$202 -> 80 | R11: =DRILLS!$K$203 -> 45 | T11: =DRILLS!$K$205 -> 42 | U11: =DRILLS!$K$206 -> 79 | W11: =DRILLS!$K$208 -> 27 | X11: =DRILLS!$K$209 -> 39
B12: =DRILLS!$L$187 -> 67 | C12: =DRILLS!$L$188 -> 90 | E12: =DRILLS!$L$190 -> 75 | F12: =DRILLS!$L$191 -> 74 | H12: =DRILLS!$L$193 -> 86 | I12: =DRILLS!$L$194 -> 55 | K12: =DRILLS!$L$196 -> 55 | L12: =DRILLS!$L$197 -> 64 | N12: =DRILLS!$L$199 -> 70 | O12: =DRILLS!$L$200 -> 82 | Q12: =DRILLS!$L$202 -> 81 | R12: =DRILLS!$L$203 -> 56 | T12: =DRILLS!$L$205 -> 43 | U12: =DRILLS!$L$206 -> 80 | W12: =DRILLS!$L$208 -> 30 | X12: =DRILLS!$L$209 -> 42
B13: =DRILLS!$M$187 -> 68 | C13: =DRILLS!$M$188 -> 94 | E13: =DRILLS!$M$190 -> 79 | F13: =DRILLS!$M$191 -> 78 | H13: =DRILLS!$M$193 -> 94 | I13: =DRILLS!$M$194 -> 57 | K13: =DRILLS!$M$196 -> 59 | L13: =DRILLS!$M$197 -> 65 | N13: =DRILLS!$M$199 -> 74 | O13: =DRILLS!$M$200 -> 85 | Q13: =DRILLS!$M$202 -> 89 | R13: =DRILLS!$M$203 -> 62 | T13: =DRILLS!$M$205 -> 54 | U13: =DRILLS!$M$206 -> 84 | W13: =DRILLS!$M$208 -> 41 | X13: =DRILLS!$M$209 -> 47
B14: =DRILLS!$N$187 -> 71 | C14: =DRILLS!$N$188 -> 95 | E14: =DRILLS!$N$190 -> 84 | F14: =DRILLS!$N$191 -> 87 | H14: =DRILLS!$N$193 -> 104 | I14: =DRILLS!$N$194 -> 99 | K14: =DRILLS!$N$196 -> 60 | L14: =DRILLS!$N$197 -> 66 | N14: =DRILLS!$N$199 -> 82 | O14: =DRILLS!$N$200 -> 98 | Q14: =DRILLS!$N$202 -> 93 | R14: =DRILLS!$N$203 -> 67 | T14: =DRILLS!$N$205 -> 57 | U14: =DRILLS!$N$206 -> 106 | W14: =DRILLS!$N$208 -> 76 | X14: =DRILLS!$N$209 -> 91
B15: =DRILLS!$O$187 -> 101 | C15: =DRILLS!$O$188 -> 97 | E15: =DRILLS!$O$190 -> 85 | F15: =DRILLS!$O$191 -> 93 | H15: =DRILLS!$O$193 -> 113 | I15: =DRILLS!$O$194 -> 113 | K15: =DRILLS!$O$196 -> 87 | L15: =DRILLS!$O$197 -> 72 | N15: =DRILLS!$O$199 -> 83 | O15: =DRILLS!$O$200 -> 102 | Q15: =DRILLS!$O$202 -> 96 | R15: =DRILLS!$O$203 -> 70 | T15: =DRILLS!$O$205 -> 92 | U15: =DRILLS!$O$206 -> 107 | W15: =DRILLS!$O$208 -> 88 | X15: =DRILLS!$O$209 -> 92
B16: =DRILLS!$P$187 -> 102 | C16: =DRILLS!$P$188 -> 101 | E16: =DRILLS!$P$190 -> 100 | F16: =DRILLS!$P$191 -> 100 | H16: =DRILLS!$P$193 -> 114 | I16: =DRILLS!$P$194 -> 115 | K16: =DRILLS!$P$196 -> 103 | L16: =DRILLS!$P$197 -> 83 | N16: =DRILLS!$P$199 -> 90 | O16: =DRILLS!$P$200 -> 104 | Q16: =DRILLS!$P$202 -> 107 | R16: =DRILLS!$P$203 -> 73 | T16: =DRILLS!$P$205 -> 99 | U16: =DRILLS!$P$206 -> 110 | W16: =DRILLS!$P$208 -> 91 | X16: =DRILLS!$P$209 -> 103
B17: =DRILLS!$Q$187 -> 105 | C17: =DRILLS!$Q$188 -> 108 | E17: =DRILLS!$Q$190 -> 106 | F17: =DRILLS!$Q$191 -> 109 | H17: =DRILLS!$Q$193 -> 132 | I17: =DRILLS!$Q$194 -> 116 | K17: =DRILLS!$Q$196 -> 109 | L17: =DRILLS!$Q$197 -> 86 | N17: =DRILLS!$Q$199 -> 111 | O17: =DRILLS!$Q$200 -> 111 | Q17: =DRILLS!$Q$202 -> 131 | R17: =DRILLS!$Q$203 -> 77 | T17: =DRILLS!$Q$205 -> 110 | U17: =DRILLS!$Q$206 -> 118 | W17: =DRILLS!$Q$208 -> 95 | X17: =DRILLS!$Q$209 -> 105
B18: =DRILLS!$R$187 -> 120 | C18: =DRILLS!$R$188 -> 112 | E18: =DRILLS!$R$190 -> 108 | F18: =DRILLS!$R$191 | H18: =DRILLS!$R$193 -> 136 | I18: =DRILLS!$R$194 -> 121 | K18: =DRILLS!$R$196 -> 119 | L18: =DRILLS!$R$197 -> 96 | N18: =DRILLS!$R$199 -> 124 | O18: =DRILLS!$R$200 -> 114 | Q18: =DRILLS!$R$202 -> 133 | R18: =DRILLS!$R$203 -> 81 | T18: =DRILLS!$R$205 -> 117 | U18: =DRILLS!$R$206 -> 120 | W18: =DRILLS!$R$208 -> 97 | X18: =DRILLS!$R$209 -> 123
B19: =DRILLS!$S$187 -> 122 | C19: =DRILLS!$S$188 -> 117 | E19: =DRILLS!$S$190 -> 116 | F19: =DRILLS!$S$191 | H19: =DRILLS!$S$193 -> 141 | I19: =DRILLS!$S$194 | K19: =DRILLS!$S$196 -> 121 | L19: =DRILLS!$S$197 -> 122 | N19: =DRILLS!$S$199 -> 125 | O19: =DRILLS!$S$200 | Q19: =DRILLS!$S$202 -> 134 | R19: =DRILLS!$S$203 -> 88 | T19: =DRILLS!$S$205 -> 146 | U19: =DRILLS!$S$206 | W19: =DRILLS!$S$208 -> 98 | X19: =DRILLS!$S$209
B20: =DRILLS!$T$187 -> 140 | C20: =DRILLS!$T$188 -> 119 | E20: =DRILLS!$T$190 -> 123 | F20: =DRILLS!$T$191 | H20: =DRILLS!$T$193 -> 142 | I20: =DRILLS!$T$194 | K20: =DRILLS!$T$196 -> 128 | L20: =DRILLS!$T$197 | N20: =DRILLS!$T$199 -> 129 | O20: =DRILLS!$T$200 | Q20: =DRILLS!$T$202 -> 139 | R20: =DRILLS!$T$203 | T20: =DRILLS!$T$205 -> 148 | U20: =DRILLS!$T$206 | W20: =DRILLS!$T$208 -> 112 | X20: =DRILLS!$T$209
B21: =DRILLS!$U$187 -> 165 | C21: =DRILLS!$U$188 | E21: =DRILLS!$U$190 -> 143 | F21: =DRILLS!$U$191 | H21: =DRILLS!$U$193 -> 144 | I21: =DRILLS!$U$194 | K21: =DRILLS!$U$196 -> 135 | L21: =DRILLS!$U$197 | N21: =DRILLS!$U$199 -> 151 | O21: =DRILLS!$U$200 | Q21: =DRILLS!$U$202 -> 154 | R21: =DRILLS!$U$203 | T21: =DRILLS!$U$205 -> 149 | U21: =DRILLS!$U$206 | W21: =DRILLS!$U$208 -> 115 | X21: =DRILLS!$U$209
B22: =DRILLS!$V$187 -> 174 | C22: =DRILLS!$V$188 | E22: =DRILLS!$V$190 -> 147 | F22: =DRILLS!$V$191 | H22: =DRILLS!$V$193 -> 152 | I22: =DRILLS!$V$194 | K22: =DRILLS!$V$196 -> 137 | L22: =DRILLS!$V$197 | N22: =DRILLS!$V$199 -> 156 | O22: =DRILLS!$V$200 | Q22: =DRILLS!$V$202 -> 160 | R22: =DRILLS!$V$203 | T22: =DRILLS!$V$205 -> 150 | U22: =DRILLS!$V$206 | W22: =DRILLS!$V$208 -> 118 | X22: =DRILLS!$V$209
B23: =DRILLS!$W$187 -> 175 | C23: =DRILLS!$W$188 | E23: =DRILLS!$W$190 -> 153 | F23: =DRILLS!$W$191 | H23: =DRILLS!$W$193 -> 157 | I23: =DRILLS!$W$194 | K23: =DRILLS!$W$196 -> 163 | L23: =DRILLS!$W$197 | N23: =DRILLS!$W$199 -> 159 | O23: =DRILLS!$W$200 | Q23: =DRILLS!$W$202 -> 167 | R23: =DRILLS!$W$203 | T23: =DRILLS!$W$205 -> 169 | U23: =DRILLS!$W$206 | W23: =DRILLS!$W$208 -> 127 | X23: =DRILLS!$W$209
B24: =DRILLS!$X$187 | C24: =DRILLS!$X$188 | E24: =DRILLS!$X$190 -> 155 | F24: =DRILLS!$X$191 | H24: =DRILLS!$X$193 -> 158 | I24: =DRILLS!$X$194 | K24: =DRILLS!$X$196 -> 173 | L24: =DRILLS!$X$197 | N24: =DRILLS!$X$199 -> 166 | O24: =DRILLS!$X$200 | Q24: =DRILLS!$X$202 -> 172 | R24: =DRILLS!$X$203 | T24: =DRILLS!$X$205 -> 170 | U24: =DRILLS!$X$206 | W24: =DRILLS!$X$208 -> 130 | X24: =DRILLS!$X$209
B25: =DRILLS!$Y$187 | C25: =DRILLS!$Y$188 | E25: =DRILLS!$Y$190 -> 162 | F25: =DRILLS!$Y$191 | H25: =DRILLS!$Y$193 -> 176 | I25: =DRILLS!$Y$194 | K25: =DRILLS!$Y$196 | L25: =DRILLS!$Y$197 | N25: =DRILLS!$Y$199 -> 168 | O25: =DRILLS!$Y$200 | Q25: =DRILLS!$Y$202 | R25: =DRILLS!$Y$203 | T25: =DRILLS!$Y$205 -> 171 | U25: =DRILLS!$Y$206 | W25: =DRILLS!$Y$208 -> 161 | X25: =DRILLS!$Y$209
B26: =DRILLS!$Z$187 | C26: =DRILLS!$Z$188 | E26: =DRILLS!$Z$190 -> 164 | F26: =DRILLS!$Z$191 | H26: =DRILLS!$Z$193 | I26: =DRILLS!$Z$194 | K26: =DRILLS!$Z$196 | L26: =DRILLS!$Z$197 | N26: =DRILLS!$Z$199 | O26: =DRILLS!$Z$200 | Q26: =DRILLS!$Z$202 | R26: =DRILLS!$Z$203 | T26: =DRILLS!$Z$205 | U26: =DRILLS!$Z$206 | W26: =DRILLS!$Z$208 | X26: =DRILLS!$Z$209
B27: =DRILLS!$AA$187 | C27: =DRILLS!$AA$188 | E27: =DRILLS!$AA$190 | F27: =DRILLS!$AA$191 | H27: =DRILLS!$AA$193 | I27: =DRILLS!$AA$194 | K27: =DRILLS!$AA$196 | L27: =DRILLS!$AA$197 | N27: =DRILLS!$AA$199 | O27: =DRILLS!$AA$200 | Q27: =DRILLS!$AA$202 | R27: =DRILLS!$AA$203 | T27: =DRILLS!$AA$205 | U27: =DRILLS!$AA$206 | W27: =DRILLS!$AA$208 | X27: =DRILLS!$AA$209
B30: Reset | C30: 1
B31: Check | C31: =DRILLS!R7 -> 0
B32: Check | C32: =DRILLS!AS7 -> 0

Sheet ANS
B2: Problem Solving | L2: Data Sufficiency
B3: Raw | E3: Sorted | L3: Raw | O3: Sorted
B4: # in section | C4: Problem | D4: ID | E4: Problem | F4: ID | G4: ANSWER | H4: USER | I4: ANSWERED | J4: CORRECT | L4: # in section | M4: Problem | N4: ID | O4: Problem | P4: ID | Q4: ANSWER | R4: USER | S4: ANSWERED | T4: CORRECT
B5: =IF(D5=D4,B4+1,1) -> 1 | C5: 4 | D5: 1 | E5: 1 | F5: =VLOOKUP(E5,$C$5:$D$180,2,FALSE) -> 3 | G5: B | H5: =IF(AND('Math Grids'!C17>="A",'Math Grids'!C17<="E"),'Math Grids'!C17,"") | I5: =IF(H5<>"",1,0) -> 0 | J5: =IF(AND(I5=1,G5=H5),1,0) -> 0 | L5: =IF(N5=N4,L4+1,1) -> 1 | M5: 8 | N5: 1 | O5: 1 | P5: =VLOOKUP(O5,$M$5:$N$180,2,FALSE) -> 7 | Q5: C | R5: =IF(AND('Math Grids'!H17>="A",'Math Grids'!H17<="E"),'Math Grids'!H17,"") | S5: =IF(R5<>"",1,0) -> 0 | T5: =IF(AND(S5=1,Q5=R5),1,0) -> 0
B6: =IF(D6=D5,B5+1,1) -> 2 | C6: 6 | D6: 1 | E6: 2 | F6: =VLOOKUP(E6,$C$5:$D$180,2,FALSE) -> 5 | G6: C | H6: =IF(AND('Math Grids'!C18>="A",'Math Grids'!C18<="E"),'Math Grids'!C18,"") | I6: =IF(H6<>"",1,0) -> 0 | J6: =IF(AND(I6=1,G6=H6),1,0) -> 0 | L6: =IF(N6=N5,L5+1,1) -> 2 | M6: 10 | N6: 1 | O6: 2 | P6: =VLOOKUP(O6,$M$5:$N$180,2,FALSE) -> 3 | Q6: D | R6: =IF(AND('Math Grids'!H18>="A",'Math Grids'!H18<="E"),'Math Grids'!H18,"") | S6: =IF(R6<>"",1,0) -> 0 | T6: =IF(AND(S6=1,Q6=R6),1,0) -> 0
B7: =IF(D7=D6,B6+1,1) -> 3 | C7: 8 | D7: 1 | E7: 3 | F7: =VLOOKUP(E7,$C$5:$D$180,2,FALSE) -> 5 | G7: C | H7: =IF(AND('Math Grids'!C19>="A",'Math Grids'!C19<="E"),'Math Grids'!C19,"") | I7: =IF(H7<>"",1,0) -> 0 | J7: =IF(AND(I7=1,G7=H7),1,0) -> 0 | L7: =IF(N7=N6,L6+1,1) -> 3 | M7: 12 | N7: 1 | O7: 3 | P7: =VLOOKUP(O7,$M$5:$N$180,2,FALSE) -> 6 | Q7: D | R7: =IF(AND('Math Grids'!H19>="A",'Math Grids'!H19<="E"),'Math Grids'!H19,"") | S7: =IF(R7<>"",1,0) -> 0 | T7: =IF(AND(S7=1,Q7=R7),1,0) -> 0
B8: =IF(D8=D7,B7+1,1) -> 4 | C8: 9 | D8: 1 | E8: 4 | F8: =VLOOKUP(E8,$C$5:$D$180,2,FALSE) -> 1 | G8: E | H8: =IF(AND('Math Grids'!C20>="A",'Math Grids'!C20<="E"),'Math Grids'!C20,"") | I8: =IF(H8<>"",1,0) -> 0 | J8: =IF(AND(I8=1,G8=H8),1,0) -> 0 | L8: =IF(N8=N7,L7+1,1) -> 4 | M8: 17 | N8: 1 | O8: 4 | P8: =VLOOKUP(O8,$M$5:$N$180,2,FALSE) -> 4 | Q8: B | R8: =IF(AND('Math Grids'!H20>="A",'Math Grids'!H20<="E"),'Math Grids'!H20,"") | S8: =IF(R8<>"",1,0) -> 0 | T8: =IF(AND(S8=1,Q8=R8),1,0) -> 0
B9: =IF(D9=D8,B8+1,1) -> 5 | C9: 10 | D9: 1 | E9: 5 | F9: =VLOOKUP(E9,$C$5:$D$180,2,FALSE) -> 3 | G9: C | H9: =IF(AND('Math Grids'!C21>="A",'Math Grids'!C21<="E"),'Math Grids'!C21,"") | I9: =IF(H9<>"",1,0) -> 0 | J9: =IF(AND(I9=1,G9=H9),1,0) -> 0 | L9: =IF(N9=N8,L8+1,1) -> 5 | M9: 18 | N9: 1 | O9: 5 | P9: =VLOOKUP(O9,$M$5:$N$180,2,FALSE) -> 5 | Q9: E | R9: =IF(AND('Math Grids'!H21>="A",'Math Grids'!H21<="E"),'Math Grids'!H21,"") | S9: =IF(R9<>"",1,0) -> 0 | T9: =IF(AND(S9=1,Q9=R9),1,0) -> 0
B10: =IF(D10=D9,B9+1,1) -> 6 | C10: 12 | D10: 1 | E10: 6 | F10: =VLOOKUP(E10,$C$5:$D$180,2,FALSE) -> 1 | G10: C | H10: =IF(AND('Math Grids'!C22>="A",'Math Grids'!C22<="E"),'Math Grids'!C22,"") | I10: =IF(H10<>"",1,0) -> 0 | J10: =IF(AND(I10=1,G10=H10),1,0) -> 0 | L10: =IF(N10=N9,L9+1,1) -> 6 | M10: 21 | N10: 1 | O10: 6 | P10: =VLOOKUP(O10,$M$5:$N$180,2,FALSE) -> 5 | Q10: C | R10: =IF(AND('Math Grids'!H22>="A",'Math Grids'!H22<="E"),'Math Grids'!H22,"") | S10: =IF(R10<>"",1,0) -> 0 | T10: =IF(AND(S10=1,Q10=R10),1,0) -> 0
B11: =IF(D11=D10,B10+1,1) -> 7 | C11: 14 | D11: 1 | E11: 7 | F11: =VLOOKUP(E11,$C$5:$D$180,2,FALSE) -> 4 | G11: E | H11: =IF(AND('Math Grids'!C23>="A",'Math Grids'!C23<="E"),'Math Grids'!C23,"") | I11: =IF(H11<>"",1,0) -> 0 | J11: =IF(AND(I11=1,G11=H11),1,0) -> 0 | L11: =IF(N11=N10,L10+1,1) -> 7 | M11: 24 | N11: 1 | O11: 7 | P11: =VLOOKUP(O11,$M$5:$N$180,2,FALSE) -> 5 | Q11: C | R11: =IF(AND('Math Grids'!H23>="A",'Math Grids'!H23<="E"),'Math Grids'!H23,"") | S11: =IF(R11<>"",1,0) -> 0 | T11: =IF(AND(S11=1,Q11=R11),1,0) -> 0
B12: =IF(D12=D11,B11+1,1) -> 8 | C12: 17 | D12: 1 | E12: 8 | F12: =VLOOKUP(E12,$C$5:$D$180,2,FALSE) -> 1 | G12: D | H12: =IF(AND('Math Grids'!C24>="A",'Math Grids'!C24<="E"),'Math Grids'!C24,"") | I12: =IF(H12<>"",1,0) -> 0 | J12: =IF(AND(I12=1,G12=H12),1,0) -> 0 | L12: =IF(N12=N11,L11+1,1) -> 8 | M12: 36 | N12: 1 | O12: 8 | P12: =VLOOKUP(O12,$M$5:$N$180,2,FALSE) -> 1 | Q12: C | R12: =IF(AND('Math Grids'!H24>="A",'Math Grids'!H24<="E"),'Math Grids'!H24,"") | S12: =IF(R12<>"",1,0) -> 0 | T12: =IF(AND(S12=1,Q12=R12),1,0) -> 0
B13: =IF(D13=D12,B12+1,1) -> 9 | C13: 19 | D13: 1 | E13: 9 | F13: =VLOOKUP(E13,$C$5:$D$180,2,FALSE) -> 1 | G13: B | H13: =IF(AND('Math Grids'!C25>="A",'Math Grids'!C25<="E"),'Math Grids'!C25,"") | I13: =IF(H13<>"",1,0) -> 0 | J13: =IF(AND(I13=1,G13=H13),1,0) -> 0 | L13: =IF(N13=N12,L12+1,1) -> 9 | M13: 49 | N13: 1 | O13: 9 | P13: =VLOOKUP(O13,$M$5:$N$180,2,FALSE) -> 5 | Q13: D | R13: =IF(AND('Math Grids'!H25>="A",'Math Grids'!H25<="E"),'Math Grids'!H25,"") | S13: =IF(R13<>"",1,0) -> 0 | T13: =IF(AND(S13=1,Q13=R13),1,0) -> 0
B14: =IF(D14=D13,B13+1,1) -> 10 | C14: 26 | D14: 1 | E14: 10 | F14: =VLOOKUP(E14,$C$5:$D$180,2,FALSE) -> 1 | G14: D | H14: =IF(AND('Math Grids'!C26>="A",'Math Grids'!C26<="E"),'Math Grids'!C26,"") | I14: =IF(H14<>"",1,0) -> 0 | J14: =IF(AND(I14=1,G14=H14),1,0) -> 0 | L14: =IF(N14=N13,L13+1,1) -> 10 | M14: 53 | N14: 1 | O14: 10 | P14: =VLOOKUP(O14,$M$5:$N$180,2,FALSE) -> 1 | Q14: E | R14: =IF(AND('Math Grids'!H26>="A",'Math Grids'!H26<="E"),'Math Grids'!H26,"") | S14: =IF(R14<>"",1,0) -> 0 | T14: =IF(AND(S14=1,Q14=R14),1,0) -> 0
B15: =IF(D15=D14,B14+1,1) -> 11 | C15: 27 | D15: 1 | E15: 11 | F15: =VLOOKUP(E15,$C$5:$D$180,2,FALSE) -> 5 | G15: B | H15: =IF(AND('Math Grids'!C27>="A",'Math Grids'!C27<="E"),'Math Grids'!C27,"") | I15: =IF(H15<>"",1,0) -> 0 | J15: =IF(AND(I15=1,G15=H15),1,0) -> 0 | L15: =IF(N15=N14,L14+1,1) -> 11 | M15: 77 | N15: 1 | O15: 11 | P15: =VLOOKUP(O15,$M$5:$N$180,2,FALSE) -> 4 | Q15: E | R15: =IF(AND('Math Grids'!H27>="A",'Math Grids'!H27<="E"),'Math Grids'!H27,"") | S15: =IF(R15<>"",1,0) -> 0 | T15: =IF(AND(S15=1,Q15=R15),1,0) -> 0
B16: =IF(D16=D15,B15+1,1) -> 12 | C16: 29 | D16: 1 | E16: 12 | F16: =VLOOKUP(E16,$C$5:$D$180,2,FALSE) -> 1 | G16: D | H16: =IF(AND('Math Grids'!C28>="A",'Math Grids'!C28<="E"),'Math Grids'!C28,"") | I16: =IF(H16<>"",1,0) -> 0 | J16: =IF(AND(I16=1,G16=H16),1,0) -> 0 | L16: =IF(N16=N15,L15+1,1) -> 12 | M16: 93 | N16: 1 | O16: 12 | P16: =VLOOKUP(O16,$M$5:$N$180,2,FALSE) -> 1 | Q16: E | R16: =IF(AND('Math Grids'!H28>="A",'Math Grids'!H28<="E"),'Math Grids'!H28,"") | S16: =IF(R16<>"",1,0) -> 0 | T16: =IF(AND(S16=1,Q16=R16),1,0) -> 0
... B128: =IF(D128=D127,B127+1,1) -> 19 | C128: 69 | D128: 5 | E128: 124 | F128: =VLOOKUP(E128,$C$5:$D$180,2,FALSE) -> 5 | G128: E | H128: =IF(AND('Math Grids'!C140>="A",'Math Grids'!C140<="E"),'Math Grids'!C140,"") | I128: =IF(H128<>"",1,0) -> 0 | J128: =IF(AND(I128=1,G128=H128),1,0) -> 0 | L128: =IF(N128=N127,L127+1,1) -> 1 | M128: 122 | N128: 9 | O128: 124 | P128: =VLOOKUP(O128,$M$5:$N$180,2,FALSE) -> 3 | Q128: A | R128: =IF(AND('Math Grids'!H140>="A",'Math Grids'!H140<="E"),'Math Grids'!H140,"") | S128: =IF(R128<>"",1,0) -> 0 | T128: =IF(AND(S128=1,Q128=R128),1,0) -> 0
B129: =IF(D129=D128,B128+1,1) -> 20 | C129: 73 | D129: 5 | E129: 125 | F129: =VLOOKUP(E129,$C$5:$D$180,2,FALSE) -> 6 | G129: C | H129: =IF(AND('Math Grids'!C141>="A",'Math Grids'!C141<="E"),'Math Grids'!C141,"") | I129: =IF(H129<>"",1,0) -> 0 | J129: =IF(AND(I129=1,G129=H129),1,0) -> 0
B130: =IF(D130=D129,B129+1,1) -> 21 | C130: 75 | D130: 5 | E130: 126 | F130: =VLOOKUP(E130,$C$5:$D$180,2,FALSE) -> 1 | G130: B | H130: =IF(AND('Math Grids'!C142>="A",'Math Grids'!C142<="E"),'Math Grids'!C142,"") | I130: =IF(H130<>"",1,0) -> 0 | J130: =IF(AND(I130=1,G130=H130),1,0) -> 0
B131: =IF(D131=D130,B130+1,1) -> 22 | C131: 87 | D131: 5 | E131: 127 | F131: =VLOOKUP(E131,$C$5:$D$180,2,FALSE) -> 5 | G131: C | H131: =IF(AND('Math Grids'!C143>="A",'Math Grids'!C143<="E"),'Math Grids'!C143,"") | I131: =IF(H131<>"",1,0) -> 0 | J131: =IF(AND(I131=1,G131=H131),1,0) -> 0
B132: =IF(D132=D131,B131+1,1) -> 23 | C132: 90 | D132: 5 | E132: 128 | F132: =VLOOKUP(E132,$C$5:$D$180,2,FALSE) -> 3 | G132: A | H132: =IF(AND('Math Grids'!C144>="A",'Math Grids'!C144<="E"),'Math Grids'!C144,"") | I132: =IF(H132<>"",1,0) -> 0 | J132: =IF(AND(I132=1,G132=H132),1,0) -> 0
B133: =IF(D133=D132,B132+1,1) -> 24 | C133: 114 | D133: 5 | E133: 129 | F133: =VLOOKUP(E133,$C$5:$D$180,2,FALSE) -> 7 | G133: B | H133: =IF(AND('Math Grids'!C145>="A",'Math Grids'!C145<="E"),'Math Grids'!C145,"") | I133: =IF(H133<>"",1,0) -> 0 | J133: =IF(AND(I133=1,G133=H133),1,0) -> 0
B134: =IF(D134=D133,B133+1,1) -> 25 | C134: 115 | D134: 5 | E134: 130 | F134: =VLOOKUP(E134,$C$5:$D$180,2,FALSE) -> 5 | G134: D | H134: =IF(AND('Math Grids'!C146>="A",'Math Grids'!C146<="E"),'Math Grids'!C146,"") | I134: =IF(H134<>"",1,0) -> 0 | J134: =IF(AND(I134=1,G134=H134),1,0) -> 0
B135: =IF(D135=D134,B134+1,1) -> 26 | C135: 118 | D135: 5 | E135: 131 | F135: =VLOOKUP(E135,$C$5:$D$180,2,FALSE) -> 5 | G135: D | H135: =IF(AND('Math Grids'!C147>="A",'Math Grids'!C147<="E"),'Math Grids'!C147,"") | I135: =IF(H135<>"",1,0) -> 0 | J135: =IF(AND(I135=1,G135=H135),1,0) -> 0
B136: =IF(D136=D135,B135+1,1) -> 27 | C136: 119 | D136: 5 | E136: 132 | F136: =VLOOKUP(E136,$C$5:$D$180,2,FALSE) -> 8 | G136: B | H136: =IF(AND('Math Grids'!C148>="A",'Math Grids'!C148<="E"),'Math Grids'!C148,"") | I136: =IF(H136<>"",1,0) -> 0 | J136: =IF(AND(I136=1,G136=H136),1,0) -> 0
B137: =IF(D137=D136,B136+1,1) -> 28 | C137: 120 | D137: 5 | E137: 133 | F137: =VLOOKUP(E137,$C$5:$D$180,2,FALSE) -> 3 | G137: D | H137: =IF(AND('Math Grids'!C149>="A",'Math Grids'!C149<="E"),'Math Grids'!C149,"") | I137: =IF(H137<>"",1,0) -> 0 | J137: =IF(AND(I137=1,G137=H137),1,0) -> 0
B138: =IF(D138=D137,B137+1,1) -> 29 | C138: 124 | D138: 5 | E138: 134 | F138: =VLOOKUP(E138,$C$5:$D$180,2,FALSE) -> 3 | G138: C | H138: =IF(AND('Math Grids'!C150>="A",'Math Grids'!C150<="E"),'Math Grids'!C150,"") | I138: =IF(H138<>"",1,0) -> 0 | J138: =IF(AND(I138=1,G138=H138),1,0) -> 0
B139: =IF(D139=D138,B138+1,1) -> 30 | C139: 127 | D139: 5 | E139: 135 | F139: =VLOOKUP(E139,$C$5:$D$180,2,FALSE) -> 4 | G139: B | H139: =IF(AND('Math Grids'!C151>="A",'Math Grids'!C151<="E"),'Math Grids'!C151,"") | I139: =IF(H139<>"",1,0) -> 0 | J139: =IF(AND(I139=1,G139=H139),1,0) -> 0
B140: =IF(D140=D139,B139+1,1) -> 31 | C140: 130 | D140: 5 | E140: 136 | F140: =VLOOKUP(E140,$C$5:$D$180,2,FALSE) -> 5 | G140: B | H140: =IF(AND('Math Grids'!C152>="A",'Math Grids'!C152<="E"),'Math Grids'!C152,"") | I140: =IF(H140<>"",1,0) -> 0 | J140: =IF(AND(I140=1,G140=H140),1,0) -> 0
... B180: =IF(D180=D179,B179+1,1) -> 2 | C180: 160 | D180: 9 | E180: 176 | F180: =VLOOKUP(E180,$C$5:$D$180,2,FALSE) -> 1 | G180: B | H180: =IF(AND('Math Grids'!C192>="A",'Math Grids'!C192<="E"),'Math Grids'!C192,"") | I180: =IF(H180<>"",1,0) -> 0 | J180: =IF(AND(I180=1,G180=H180),1,0) -> 0
B183: Flag

Sheet WEIGHTS
C2: # of problems per drill | D2: 37
C3: # of drills | D3: 8
C4: # of questions to be used | D4: =D2*D3 -> 296
C5: # of questions to dismiss | D5: =300-D4 -> 4
D7: Problem Solving | F7: Data Suficiency | H7: Total | K7: # to dismiss
B8: ID | D8: # of Problems | E8: % of Section | F8: # of Problems | G8: % of Section | H8: # of Problems | I8: % of Total | K8: P.S. | L8: D.S | M8: Total
B9: 1 | C9: Arithmetic | D9: =COUNTIF(ANS!$F$5:$F$180,B9) -> 45 | E9: =D9/$D$18 -> 0.25568182 | F9: =COUNTIF(ANS!$P$5:$P$128,B9) -> 14 | G9: =F9/$F$18 -> 0.11290323 | H9: =D9+F9 -> 59 | I9: =H9/$H$18 -> 0.19666667 | K9: 1 | L9: 0 | M9: =L9+K9 -> 1
B10: 2 | C10: Powers & Roots | D10: =COUNTIF(ANS!$F$5:$F$180,B10) -> 9 | E10: =D10/$D$18 -> 0.051136364 | F10: =COUNTIF(ANS!$P$5:$P$128,B10) -> 6 | G10: =F10/$F$18 -> 0.048387097 | H10: =D10+F10 -> 15 | I10: =H10/$H$18 -> 0.05 | K10: 0 | L10: 0 | M10: =L10+K10 -> 0
B11: 3 | C11: Algebra & Equations | D11: =COUNTIF(ANS!$F$5:$F$180,B11) -> 32 | E11: =D11/$D$18 -> 0.18181818 | F11: =COUNTIF(ANS!$P$5:$P$128,B11) -> 35 | G11: =F11/$F$18 -> 0.28225806 | H11: =D11+F11 -> 67 | I11: =H11/$H$18 -> 0.22333333 | K11: 0 | L11: 1 | M11: =L11+K11 -> 1
B12: 4 | C12: Geometry | D12: =COUNTIF(ANS!$F$5:$F$180,B12) -> 19 | E12: =D12/$D$18 -> 0.10795455 | F12: =COUNTIF(ANS!$P$5:$P$128,B12) -> 16 | G12: =F12/$F$18 -> 0.12903226 | H12: =D12+F12 -> 35 | I12: =H12/$H$18 -> 0.11666667 | K12: 1 | L12: 0 | M12: =L12+K12 -> 1
B13: 5 | C13: Word Problems | D13: =COUNTIF(ANS!$F$5:$F$180,B13) -> 43 | E13: =D13/$D$18 -> 0.24431818 | F13: =COUNTIF(ANS!$P$5:$P$128,B13) -> 26 | G13: =F13/$F$18 -> 0.20967742 | H13: =D13+F13 -> 69 | I13: =H13/$H$18 -> 0.23 | K13: 1 | L13: 0 | M13: =L13+K13 -> 1
B14: 6 | C14: Integer Properties | D14: =COUNTIF(ANS!$F$5:$F$180,B14) -> 13 | E14: =D14/$D$18 -> 0.073863636 | F14: =COUNTIF(ANS!$P$5:$P$128,B14) -> 16 | G14: =F14/$F$18 -> 0.12903226 | H14: =D14+F14 -> 29 | I14: =H14/$H$18 -> 0.096666667 | K14: 0 | L14: 0 | M14: =L14+K14 -> 0
B15: 7 | C15: Statistics | D15: =COUNTIF(ANS!$F$5:$F$180,B15) -> 11 | E15: =D15/$D$18 -> 0.0625 | F15: =COUNTIF(ANS!$P$5:$P$128,B15) -> 10 | G15: =F15/$F$18 -> 0.080645161 | H15: =D15+F15 -> 21 | I15: =H15/$H$18 -> 0.07 | K15: 0 | L15: 0 | M15: =L15+K15 -> 0
B16: 8 | C16: Counting | D16: =COUNTIF(ANS!$F$5:$F$180,B16) -> 2 | E16: =D16/$D$18 -> 0.011363636 | F16: =COUNTIF(ANS!$P$5:$P$128,B16) -> 0 | G16: =F16/$F$18 -> 0 | H16: =D16+F16 -> 2 | I16: =H16/$H$18 -> 0.0066666667 | K16: 0 | L16: 0 | M16: =L16+K16 -> 0
B17: 9 | C17: Probability | D17: =COUNTIF(ANS!$F$5:$F$180,B17) -> 2 | E17: =D17/$D$18 -> 0.011363636 | F17: =COUNTIF(ANS!$P$5:$P$128,B17) -> 1 | G17: =F17/$F$18 -> 0.0080645161 | H17: =D17+F17 -> 3 | I17: =H17/$H$18 -> 0.01 | K17: 0 | L17: 0 | M17: =L17+K17 -> 0
C18: TOTAL | D18: =SUM(D9:D17) -> 176 | E18: =SUM(E9:E17) -> 1 | F18: =SUM(F9:F17) -> 124 | G18: =SUM(G9:G17) -> 1 | H18: =SUM(H9:H17) -> 300 | I18: =SUM(I9:I17) -> 1 | K18: =SUM(K9:K17) -> 3 | L18: =SUM(L9:L17) -> 1 | M18: =SUM(M9:M17) -> 4
D20: Bucket Size
B21: ID | D21: P.S. | E21: % of Bucket | F21: D.S | G21: % of Bucket | H21: Total | I21: Weight
B22: 1 | C22: Arithmetic | D22: =D9-K9 -> 44 | E22: =D22/H22 -> 0.75862069 | F22: =F9-L9 -> 14 | G22: =F22/H22 -> 0.24137931 | H22: =D22+F22 -> 58 | I22: =H22/$H$31 -> 0.19594595
B23: 2 | C23: Powers & Roots | D23: =D10-K10 -> 9 | E23: =D23/H23 -> 0.6 | F23: =F10-L10 -> 6 | G23: =F23/H23 -> 0.4 | H23: =D23+F23 -> 15 | I23: =H23/$H$31 -> 0.050675676
B24: 3 | C24: Algebra & Equations | D24: =D11-K11 -> 32 | E24: =D24/H24 -> 0.48484848 | F24: =F11-L11 -> 34 | G24: =F24/H24 -> 0.51515152 | H24: =D24+F24 -> 66 | I24: =H24/$H$31 -> 0.22297297
B25: 4 | C25: Geometry | D25: =D12-K12 -> 18 | E25: =D25/H25 -> 0.52941176 | F25: =F12-L12 -> 16 | G25: =F25/H25 -> 0.47058824 | H25: =D25+F25 -> 34 | I25: =H25/$H$31 -> 0.11486486
B26: 5 | C26: Word Problems | D26: =D13-K13 -> 42 | E26: =D26/H26 -> 0.61764706 | F26: =F13-L13 -> 26 | G26: =F26/H26 -> 0.38235294 | H26: =D26+F26 -> 68 | I26: =H26/$H$31 -> 0.22972973
B27: 6 | C27: Integer Properties | D27: =D14-K14 -> 13 | E27: =D27/H27 -> 0.44827586 | F27: =F14-L14 -> 16 | G27: =F27/H27 -> 0.55172414 | H27: =D27+F27 -> 29 | I27: =H27/$H$31 -> 0.097972973
B28: 7 | C28: Statistics | D28: =D15-K15 -> 11 | E28: =D28/H28 -> 0.52380952 | F28: =F15-L15 -> 10 | G28: =F28/H28 -> 0.47619048 | H28: =D28+F28 -> 21 | I28: =H28/$H$31 -> 0.070945946
B29: 8 | C29: Counting | D29: =D16-K16 -> 2 | E29: =D29/H29 -> 1 | F29: =F16-L16 -> 0 | G29: =F29/H29 -> 0 | H29: =D29+F29 -> 2 | I29: =H29/$H$31 -> 0.0067567568
B30: 9 | C30: Probability | D30: =D17-K17 -> 2 | E30: =D30/H30 -> 0.66666667 | F30: =F17-L17 -> 1 | G30: =F30/H30 -> 0.33333333 | H30: =D30+F30 -> 3 | I30: =H30/$H$31 -> 0.010135135
D31: =SUM(D22:D30) -> 173 | F31: =SUM(F22:F30) -> 123 | H31: =SUM(H22:H30) -> 296 | I31: =SUM(I22:I30) -> 1
D34: Total questions per drill
B35: ID | D35: 1 | E35: 2 | F35: 3 | G35: 4 | H35: 5 | I35: 6 | J35: 7 | K35: 8 | L35: Total | M35: Check
B36: 1 | C36: Arithmetic | D36: 8 | E36: =ROUND($I22*$D$2,0) -> 7 | F36: =ROUND($I22*$D$2,0) -> 7 | G36: =ROUND($I22*$D$2,0) -> 7 | H36: =ROUND($I22*$D$2,0) -> 7 | I36: =ROUND($I22*$D$2,0) -> 7 | J36: =ROUND($I22*$D$2,0) -> 7 | K36: 8 | L36: =SUM(D36:K36) -> 58 | M36: =H22-L36 -> 0
B37: 2 | C37: Powers & Roots | D37: =ROUND($I23*$D$2,0) -> 2 | E37: =ROUND($I23*$D$2,0) -> 2 | F37: =ROUND($I23*$D$2,0) -> 2 | G37: =ROUND($I23*$D$2,0) -> 2 | H37: =ROUND($I23*$D$2,0) -> 2 | I37: =ROUND($I23*$D$2,0) -> 2 | J37: =ROUND($I23*$D$2,0) -> 2 | K37: 1 | L37: =SUM(D37:K37) -> 15 | M37: =H23-L37 -> 0
B38: 3 | C38: Algebra & Equations | D38: =ROUND($I24*$D$2,0) -> 8 | E38: =ROUND($I24*$D$2,0) -> 8 | F38: =ROUND($I24*$D$2,0) -> 8 | G38: 9 | H38: =ROUND($I24*$D$2,0) -> 8 | I38: 9 | J38: =ROUND($I24*$D$2,0) -> 8 | K38: =ROUND($I24*$D$2,0) -> 8 | L38: =SUM(D38:K38) -> 66 | M38: =H24-L38 -> 0
B39: 4 | C39: Geometry | D39: =ROUND($I25*$D$2,0) -> 4 | E39: =ROUND($I25*$D$2,0) -> 4 | F39: =ROUND($I25*$D$2,0) -> 4 | G39: =ROUND($I25*$D$2,0) -> 4 | H39: =ROUND($I25*$D$2,0) -> 4 | I39: =ROUND($I25*$D$2,0) -> 4 | J39: =ROUND($I25*$D$2,0) -> 4 | K39: 6 | L39: =SUM(D39:K39) -> 34 | M39: =H25-L39 -> 0
B40: 5 | C40: Word Problems | D40: =ROUND($I26*$D$2,0) -> 9 | E40: 8 | F40: =ROUND($I26*$D$2,0) -> 9 | G40: 8 | H40: =ROUND($I26*$D$2,0) -> 9 | I40: 8 | J40: =ROUND($I26*$D$2,0) -> 9 | K40: 8 | L40: =SUM(D40:K40) -> 68 | M40: =H26-L40 -> 0
B41: 6 | C41: Integer Properties | D41: 3 | E41: =ROUND($I27*$D$2,0) -> 4 | F41: 3 | G41: =ROUND($I27*$D$2,0) -> 4 | H41: 3 | I41: =ROUND($I27*$D$2,0) -> 4 | J41: =ROUND($I27*$D$2,0) -> 4 | K41: =ROUND($I27*$D$2,0) -> 4 | L41: =SUM(D41:K41) -> 29 | M41: =H27-L41 -> 0
B42: 7 | C42: Statistics | D42: =ROUND($I28*$D$2,0) -> 3 | E42: =ROUND($I28*$D$2,0) -> 3 | F42: =ROUND($I28*$D$2,0) -> 3 | G42: 2 | H42: =ROUND($I28*$D$2,0) -> 3 | I42: 2 | J42: =ROUND($I28*$D$2,0) -> 3 | K42: 2 | L42: =SUM(D42:K42) -> 21 | M42: =H28-L42 -> 0
B43: 8 | C43: Counting | D43: =ROUND($I29*$D$2,0) -> 0 | E43: =ROUND($I29*$D$2,0) -> 0 | F43: 1 | G43: =ROUND($I29*$D$2,0) -> 0 | H43: 1 | I43: =ROUND($I29*$D$2,0) -> 0 | J43: =ROUND($I29*$D$2,0) -> 0 | K43: =ROUND($I29*$D$2,0) -> 0 | L43: =SUM(D43:K43) -> 2 | M43: =H29-L43 -> 0
B44: 9 | C44: Probability | D44: =ROUND($I30*$D$2,0) -> 0 | E44: 1 | F44: =ROUND($I30*$D$2,0) -> 0 | G44: 1 | H44: =ROUND($I30*$D$2,0) -> 0 | I44: 1 | J44: =ROUND($I30*$D$2,0) -> 0 | K44: =ROUND($I30*$D$2,0) -> 0 | L44: =SUM(D44:K44) -> 3 | M44: =H30-L44 -> 0
D45: =SUM(D36:D44) -> 37 | E45: =SUM(E36:E44) -> 37 | F45: =SUM(F36:F44) -> 37 | G45: =SUM(G36:G44) -> 37 | H45: =SUM(H36:H44) -> 37 | I45: =SUM(I36:I44) -> 37 | J45: =SUM(J36:J44) -> 37 | K45: =SUM(K36:K44) -> 37 | L45: =SUM(L36:L44) -> 296 | M45: =H31-L45 -> 0
...

Sheet DRILLS
B2: Problem Solving | AC2: Data Sufficiency
B4: Question tally per module | J4: Random Drill Generator | AC4: Question tally per module | AK4: Random Drill Generator
B5: Module | C5: Drawn Question | D5: Is Available? | E5: Avail. Question Bucket | F5: Grouped Avail. | G5: Avail. Per Module | H5: Disscarded Per Module | AC5: Module | AD5: Drawn Question | AE5: Is Available? | AF5: Avail. Question Bucket | AG5: Grouped Avail. | AH5: Avail. Per Module | AI5: Disscarded Per Module
B6: 1 | C6: =IFERROR(HLOOKUP(ANS!C5,$M$21:$R$21,1,FALSE),0)+IFERROR(HLOOKUP(ANS!C5,$M$31:$R$31,1,FALSE),0)+IFERROR(HLOOKUP(ANS!C5,$M$41:$R$41,1,FALSE),0)+IFERROR(HLOOKUP(ANS!C5,$M$51:$R$51,1,FALSE),0)+IFERROR(HLOOKUP(ANS!C5,$M$61:$R$61,1,FALSE),0)+IFERROR(HLOOKUP(ANS!C5,$M$71:$R$71,1,FALSE),0)+IFERROR(HLOOKUP(ANS!C5,$M$81:$R$81,1,FALSE),0) -> 4 | D6: =IF(C6>=ANS!C5,0,1) -> 0 | E6: =IF(D6,ANS!C5,"") | F6: =IFERROR(SMALL($E$6:$E$50,ANS!B5),"") -> 14 | G6: =COUNT(F6:F50) -> 7 | H6: =G6-L91 -> 1 | J6: Drill | K6: Unique | L6: Random | M6: Populated | N6: Run | O6: Populate | Q6: Reset/Run | R6: Check | AC6: 1 | AD6: =IFERROR(HLOOKUP(ANS!M5,$AN$21:$AS$21,1,FALSE),0)+IFERROR(HLOOKUP(ANS!M5,$AN$31:$AS$31,1,FALSE),0)+IFERROR(HLOOKUP(ANS!M5,$AN$41:$AS$41,1,FALSE),0)+IFERROR(HLOOKUP(ANS!M5,$AN$51:$AS$51,1,FALSE),0)+IFERROR(HLOOKUP(ANS!M5,$AN$61:$AS$61,1,FALSE),0)+IFERROR(HLOOKUP(ANS!M5,$AN$71:$AS$71,1,FALSE),0)+IFERROR(HLOOKUP(ANS!M5,$AN$81:$AS$81,1,FALSE),0) -> 8 | AE6: =IF(AD6>=ANS!M5,0,1) -> 0 | AF6: =IF(AE6,ANS!M5,"") | AG6: =IFERROR(SMALL($AF$6:$AF$19,ANS!L5),"") -> 12 | AH6: =COUNT(AG6:AG19) -> 2 | AI6: =AH6-AM91 -> 0 | AK6: Drill | AL6: Unique | AM6: Random | AN6: Populated | AO6: Run | AP6: Populate | AR6: Reset/Run | AS6: Check
B7: =B6 -> 1 | C7: =IFERROR(HLOOKUP(ANS!C6,$M$21:$R$21,1,FALSE),0)+IFERROR(HLOOKUP(ANS!C6,$M$31:$R$31,1,FALSE),0)+IFERROR(HLOOKUP(ANS!C6,$M$41:$R$41,1,FALSE),0)+IFERROR(HLOOKUP(ANS!C6,$M$51:$R$51,1,FALSE),0)+IFERROR(HLOOKUP(ANS!C6,$M$61:$R$61,1,FALSE),0)+IFERROR(HLOOKUP(ANS!C6,$M$71:$R$71,1,FALSE),0)+IFERROR(HLOOKUP(ANS!C6,$M$81:$R$81,1,FALSE),0) -> 6 | D7: =IF(C7>=ANS!C6,0,1) -> 0 | E7: =IF(D7,ANS!C6,"") | F7: =IFERROR(SMALL($E$6:$E$50,ANS!B6),"") -> 17 | J7: 1 | K7: =IFERROR(IF(SUM(S21:S29)=0,1,0),0) -> 1 | L7: =IFERROR(IF(AND(S20=0,M7=1),1,0),1) -> 1 | M7: =IFERROR(IF(SUM($M$21:$R$29)=0,0,1),1) -> 1 | N7: =IF(AND(M7=1,L7=0),1,0) -> 0 | O7: =Q7 -> 1 | Q7: ='Question Sets'!C30 -> 1 | R7: =IF(OR(AND(Q7=1,COUNTIF(K7:K14,1)=8,COUNTIF(L7:L14,1)=8),AND(Q7=0,SUM(M21:R29,M31:R39,M41:R49,M51:R59,M61:R69,M71:R79,M81:R89,M91:R99,T21:Y29,T31:Y39,T41:Y49,T51:Y59,T61:Y69,T71:Y79,T81:Y89)=0)),0,1) -> 0 | AC7: =AC6 -> 1 | AD7: =IFERROR(HLOOKUP(ANS!M6,$AN$21:$AS$21,1,FALSE),0)+IFERROR(HLOOKUP(ANS!M6,$AN$31:$AS$31,1,FALSE),0)+IFERROR(HLOOKUP(ANS!M6,$AN$41:$AS$41,1,FALSE),0)+IFERROR(HLOOKUP(ANS!M6,$AN$51:$AS$51,1,FALSE),0)+IFERROR(HLOOKUP(ANS!M6,$AN$61:$AS$61,1,FALSE),0)+IFERROR(HLOOKUP(ANS!M6,$AN$71:$AS$71,1,FALSE),0)+IFERROR(HLOOKUP(ANS!M6,$AN$81:$AS$81,1,FALSE),0) -> 10 | AE7: =IF(AD7>=ANS!M6,0,1) -> 0 | AF7: =IF(AE7,ANS!M6,"") | AG7: =IFERROR(SMALL($AF$6:$AF$19,ANS!L6),"") -> 24 | AK7: 1 | AL7: =IFERROR(IF(SUM(AT21:AT29)=0,1,0),0) -> 1 | AM7: =IFERROR(IF(AND(AT20=0,AN7=1),1,0),1) -> 1 | AN7: =IFERROR(IF(SUM($AN$21:$AS$29)=0,0,1),1) -> 1 | AO7: =IF(AND(AN7=1,AM7=0),1,0) -> 0 | AP7: =AR7 -> 1 | AR7: ='Question Sets'!C30 -> 1 | AS7: =IF(OR(AND(AR7=1,COUNTIF(AL7:AL14,1)=8,COUNTIF(AM7:AM14,1)=8),AND(AR7=0,SUM(AN21:AS29,AN31:AS39,AN41:AS49,AN51:AS59,AN61:AS69,AN71:AS79,AN81:AS89,AN91:AS99,AU21:AZ29,AU31:AZ39,AU41:AZ49,AU51:AZ59,AU61:AZ69,AU71:AZ79,AU81:AZ89)=0)),0,1) -> 0
B8: =B7 -> 1 | C8: =IFERROR(HLOOKUP(ANS!C7,$M$21:$R$21,1,FALSE),0)+IFERROR(HLOOKUP(ANS!C7,$M$31:$R$31,1,FALSE),0)+IFERROR(HLOOKUP(ANS!C7,$M$41:$R$41,1,FALSE),0)+IFERROR(HLOOKUP(ANS!C7,$M$51:$R$51,1,FALSE),0)+IFERROR(HLOOKUP(ANS!C7,$M$61:$R$61,1,FALSE),0)+IFERROR(HLOOKUP(ANS!C7,$M$71:$R$71,1,FALSE),0)+IFERROR(HLOOKUP(ANS!C7,$M$81:$R$81,1,FALSE),0) -> 8 | D8: =IF(C8>=ANS!C7,0,1) -> 0 | E8: =IF(D8,ANS!C7,"") | F8: =IFERROR(SMALL($E$6:$E$50,ANS!B7),"") -> 26 | J8: 2 | K8: =IFERROR(IF(SUM(S31:S39)=0,1,0),0) -> 1 | L8: =IFERROR(IF(AND(S30=0,M8=1),1,0),1) -> 1 | M8: =IFERROR(IF(SUM($M$31:$R$39)=0,0,1),1) -> 1 | N8: =IF(AND(M8=1,L8=0),1,0) -> 0 | O8: =IF(AND(O7=1,M7=1,L7=1,N7=0,K7=1),1,0) -> 1 | AC8: =AC7 -> 1 | AD8: =IFERROR(HLOOKUP(ANS!M7,$AN$21:$AS$21,1,FALSE),0)+IFERROR(HLOOKUP(ANS!M7,$AN$31:$AS$31,1,FALSE),0)+IFERROR(HLOOKUP(ANS!M7,$AN$41:$AS$41,1,FALSE),0)+IFERROR(HLOOKUP(ANS!M7,$AN$51:$AS$51,1,FALSE),0)+IFERROR(HLOOKUP(ANS!M7,$AN$61:$AS$61,1,FALSE),0)+IFERROR(HLOOKUP(ANS!M7,$AN$71:$AS$71,1,FALSE),0)+IFERROR(HLOOKUP(ANS!M7,$AN$81:$AS$81,1,FALSE),0) -> 0 | AE8: =IF(AD8>=ANS!M7,0,1) -> 1 | AF8: =IF(AE8,ANS!M7,"") -> 12 | AG8: =IFERROR(SMALL($AF$6:$AF$19,ANS!L7),"") | AK8: 2 | AL8: =IFERROR(IF(SUM(AT31:AT39)=0,1,0),0) -> 1 | AM8: =IFERROR(IF(AND(AT30=0,AN8=1),1,0),1) -> 1 | AN8: =IFERROR(IF(SUM($AN$31:$AS$39)=0,0,1),1) -> 1 | AO8: =IF(AND(AN8=1,AM8=0),1,0) -> 0 | AP8: =IF(AND(AP7=1,AN7=1,AM7=1,AO7=0,AL7=1),1,0) -> 1
B9: =B8 -> 1 | C9: =IFERROR(HLOOKUP(ANS!C8,$M$21:$R$21,1,FALSE),0)+IFERROR(HLOOKUP(ANS!C8,$M$31:$R$31,1,FALSE),0)+IFERROR(HLOOKUP(ANS!C8,$M$41:$R$41,1,FALSE),0)+IFERROR(HLOOKUP(ANS!C8,$M$51:$R$51,1,FALSE),0)+IFERROR(HLOOKUP(ANS!C8,$M$61:$R$61,1,FALSE),0)+IFERROR(HLOOKUP(ANS!C8,$M$71:$R$71,1,FALSE),0)+IFERROR(HLOOKUP(ANS!C8,$M$81:$R$81,1,FALSE),0) -> 9 | D9: =IF(C9>=ANS!C8,0,1) -> 0 | E9: =IF(D9,ANS!C8,"") | F9: =IFERROR(SMALL($E$6:$E$50,ANS!B8),"") -> 27 | J9: 3 | K9: =IFERROR(IF(SUM(S41:S49)=0,1,0),0) -> 1 | L9: =IFERROR(IF(AND(S40=0,M9=1),1,0),1) -> 1 | M9: =IFERROR(IF(SUM($M$41:$R$49)=0,0,1),1) -> 1 | N9: =IF(AND(M9=1,L9=0),1,0) -> 0 | O9: =IF(AND(O8=1,M8=1,L8=1,N8=0,K8=1),1,0) -> 1 | AC9: =AC8 -> 1 | AD9: =IFERROR(HLOOKUP(ANS!M8,$AN$21:$AS$21,1,FALSE),0)+IFERROR(HLOOKUP(ANS!M8,$AN$31:$AS$31,1,FALSE),0)+IFERROR(HLOOKUP(ANS!M8,$AN$41:$AS$41,1,FALSE),0)+IFERROR(HLOOKUP(ANS!M8,$AN$51:$AS$51,1,FALSE),0)+IFERROR(HLOOKUP(ANS!M8,$AN$61:$AS$61,1,FALSE),0)+IFERROR(HLOOKUP(ANS!M8,$AN$71:$AS$71,1,FALSE),0)+IFERROR(HLOOKUP(ANS!M8,$AN$81:$AS$81,1,FALSE),0) -> 17 | AE9: =IF(AD9>=ANS!M8,0,1) -> 0 | AF9: =IF(AE9,ANS!M8,"") | AG9: =IFERROR(SMALL($AF$6:$AF$19,ANS!L8),"") | AK9: 3 | AL9: =IFERROR(IF(SUM(AT41:AT49)=0,1,0),0) -> 1 | AM9: =IFERROR(IF(AND(AT40=0,AN9=1),1,0),1) -> 1 | AN9: =IFERROR(IF(SUM($AN$41:$AS$49)=0,0,1),1) -> 1 | AO9: =IF(AND(AN9=1,AM9=0),1,0) -> 0 | AP9: =IF(AND(AP8=1,AN8=1,AM8=1,AO8=0,AL8=1),1,0) -> 1
B10: =B9 -> 1 | C10: =IFERROR(HLOOKUP(ANS!C9,$M$21:$R$21,1,FALSE),0)+IFERROR(HLOOKUP(ANS!C9,$M$31:$R$31,1,FALSE),0)+IFERROR(HLOOKUP(ANS!C9,$M$41:$R$41,1,FALSE),0)+IFERROR(HLOOKUP(ANS!C9,$M$51:$R$51,1,FALSE),0)+IFERROR(HLOOKUP(ANS!C9,$M$61:$R$61,1,FALSE),0)+IFERROR(HLOOKUP(ANS!C9,$M$71:$R$71,1,FALSE),0)+IFERROR(HLOOKUP(ANS!C9,$M$81:$R$81,1,FALSE),0) -> 10 | D10: =IF(C10>=ANS!C9,0,1) -> 0 | E10: =IF(D10,ANS!C9,"") | F10: =IFERROR(SMALL($E$6:$E$50,ANS!B9),"") -> 88 | J10: 4 | K10: =IFERROR(IF(SUM(S51:S59)=0,1,0),0) -> 1 | L10: =IFERROR(IF(AND(S50=0,M10=1),1,0),1) -> 1 | M10: =IFERROR(IF(SUM($M$51:$R$59)=0,0,1),1) -> 1 | N10: =IF(AND(M10=1,L10=0),1,0) -> 0 | O10: =IF(AND(O9=1,M9=1,L9=1,N9=0,K9=1),1,0) -> 1 | AC10: =AC9 -> 1 | AD10: =IFERROR(HLOOKUP(ANS!M9,$AN$21:$AS$21,1,FALSE),0)+IFERROR(HLOOKUP(ANS!M9,$AN$31:$AS$31,1,FALSE),0)+IFERROR(HLOOKUP(ANS!M9,$AN$41:$AS$41,1,FALSE),0)+IFERROR(HLOOKUP(ANS!M9,$AN$51:$AS$51,1,FALSE),0)+IFERROR(HLOOKUP(ANS!M9,$AN$61:$AS$61,1,FALSE),0)+IFERROR(HLOOKUP(ANS!M9,$AN$71:$AS$71,1,FALSE),0)+IFERROR(HLOOKUP(ANS!M9,$AN$81:$AS$81,1,FALSE),0) -> 18 | AE10: =IF(AD10>=ANS!M9,0,1) -> 0 | AF10: =IF(AE10,ANS!M9,"") | AG10: =IFERROR(SMALL($AF$6:$AF$19,ANS!L9),"") | AK10: 4 | AL10: =IFERROR(IF(SUM(AT51:AT59)=0,1,0),0) -> 1 | AM10: =IFERROR(IF(AND(AT50=0,AN10=1),1,0),1) -> 1 | AN10: =IFERROR(IF(SUM($AN$51:$AS$59)=0,0,1),1) -> 1 | AO10: =IF(AND(AN10=1,AM10=0),1,0) -> 0 | AP10: =IF(AND(AP9=1,AN9=1,AM9=1,AO9=0,AL9=1),1,0) -> 1
B11: =B10 -> 1 | C11: =IFERROR(HLOOKUP(ANS!C10,$M$21:$R$21,1,FALSE),0)+IFERROR(HLOOKUP(ANS!C10,$M$31:$R$31,1,FALSE),0)+IFERROR(HLOOKUP(ANS!C10,$M$41:$R$41,1,FALSE),0)+IFERROR(HLOOKUP(ANS!C10,$M$51:$R$51,1,FALSE),0)+IFERROR(HLOOKUP(ANS!C10,$M$61:$R$61,1,FALSE),0)+IFERROR(HLOOKUP(ANS!C10,$M$71:$R$71,1,FALSE),0)+IFERROR(HLOOKUP(ANS!C10,$M$81:$R$81,1,FALSE),0) -> 12 | D11: =IF(C11>=ANS!C10,0,1) -> 0 | E11: =IF(D11,ANS!C10,"") | F11: =IFERROR(SMALL($E$6:$E$50,ANS!B10),"") -> 95 | J11: 5 | K11: =IFERROR(IF(SUM(S61:S69)=0,1,0),0) -> 1 | L11: =IFERROR(IF(AND(S60=0,M11=1),1,0),1) -> 1 | M11: =IFERROR(IF(SUM($M$61:$R$69)=0,0,1),1) -> 1 | N11: =IF(AND(M11=1,L11=0),1,0) -> 0 | O11: =IF(AND(O10=1,M10=1,L10=1,N10=0,K10=1),1,0) -> 1 | AC11: =AC10 -> 1 | AD11: =IFERROR(HLOOKUP(ANS!M10,$AN$21:$AS$21,1,FALSE),0)+IFERROR(HLOOKUP(ANS!M10,$AN$31:$AS$31,1,FALSE),0)+IFERROR(HLOOKUP(ANS!M10,$AN$41:$AS$41,1,FALSE),0)+IFERROR(HLOOKUP(ANS!M10,$AN$51:$AS$51,1,FALSE),0)+IFERROR(HLOOKUP(ANS!M10,$AN$61:$AS$61,1,FALSE),0)+IFERROR(HLOOKUP(ANS!M10,$AN$71:$AS$71,1,FALSE),0)+IFERROR(HLOOKUP(ANS!M10,$AN$81:$AS$81,1,FALSE),0) -> 21 | AE11: =IF(AD11>=ANS!M10,0,1) -> 0 | AF11: =IF(AE11,ANS!M10,"") | AG11: =IFERROR(SMALL($AF$6:$AF$19,ANS!L10),"") | AK11: 5 | AL11: =IFERROR(IF(SUM(AT61:AT69)=0,1,0),0) -> 1 | AM11: =IFERROR(IF(AND(AT60=0,AN11=1),1,0),1) -> 1 | AN11: =IFERROR(IF(SUM($AN$61:$AS$69)=0,0,1),1) -> 1 | AO11: =IF(AND(AN11=1,AM11=0),1,0) -> 0 | AP11: =IF(AND(AP10=1,AN10=1,AM10=1,AO10=0,AL10=1),1,0) -> 1
B12: =B11 -> 1 | C12: =IFERROR(HLOOKUP(ANS!C11,$M$21:$R$21,1,FALSE),0)+IFERROR(HLOOKUP(ANS!C11,$M$31:$R$31,1,FALSE),0)+IFERROR(HLOOKUP(ANS!C11,$M$41:$R$41,1,FALSE),0)+IFERROR(HLOOKUP(ANS!C11,$M$51:$R$51,1,FALSE),0)+IFERROR(HLOOKUP(ANS!C11,$M$61:$R$61,1,FALSE),0)+IFERROR(HLOOKUP(ANS!C11,$M$71:$R$71,1,FALSE),0)+IFERROR(HLOOKUP(ANS!C11,$M$81:$R$81,1,FALSE),0) -> 0 | D12: =IF(C12>=ANS!C11,0,1) -> 1 | E12: =IF(D12,ANS!C11,"") -> 14 | F12: =IFERROR(SMALL($E$6:$E$50,ANS!B11),"") -> 126 | J12: 6 | K12: =IFERROR(IF(SUM(S71:S79)=0,1,0),0) -> 1 | L12: =IFERROR(IF(AND(S70=0,M12=1),1,0),1) -> 1 | M12: =IFERROR(IF(SUM($M$71:$R$79)=0,0,1),1) -> 1 | N12: =IF(AND(M12=1,L12=0),1,0) -> 0 | O12: =IF(AND(O11=1,M11=1,L11=1,N11=0,K11=1),1,0) -> 1 | AC12: =AC11 -> 1 | AD12: =IFERROR(HLOOKUP(ANS!M11,$AN$21:$AS$21,1,FALSE),0)+IFERROR(HLOOKUP(ANS!M11,$AN$31:$AS$31,1,FALSE),0)+IFERROR(HLOOKUP(ANS!M11,$AN$41:$AS$41,1,FALSE),0)+IFERROR(HLOOKUP(ANS!M11,$AN$51:$AS$51,1,FALSE),0)+IFERROR(HLOOKUP(ANS!M11,$AN$61:$AS$61,1,FALSE),0)+IFERROR(HLOOKUP(ANS!M11,$AN$71:$AS$71,1,FALSE),0)+IFERROR(HLOOKUP(ANS!M11,$AN$81:$AS$81,1,FALSE),0) -> 0 | AE12: =IF(AD12>=ANS!M11,0,1) -> 1 | AF12: =IF(AE12,ANS!M11,"") -> 24 | AG12: =IFERROR(SMALL($AF$6:$AF$19,ANS!L11),"") | AK12: 6 | AL12: =IFERROR(IF(SUM(AT71:AT79)=0,1,0),0) -> 1 | AM12: =IFERROR(IF(AND(AT70=0,AN12=1),1,0),1) -> 1 | AN12: =IFERROR(IF(SUM($AN$71:$AS$79)=0,0,1),1) -> 1 | AO12: =IF(AND(AN12=1,AM12=0),1,0) -> 0 | AP12: =IF(AND(AP11=1,AN11=1,AM11=1,AO11=0,AL11=1),1,0) -> 1
B13: =B12 -> 1 | C13: =IFERROR(HLOOKUP(ANS!C12,$M$21:$R$21,1,FALSE),0)+IFERROR(HLOOKUP(ANS!C12,$M$31:$R$31,1,FALSE),0)+IFERROR(HLOOKUP(ANS!C12,$M$41:$R$41,1,FALSE),0)+IFERROR(HLOOKUP(ANS!C12,$M$51:$R$51,1,FALSE),0)+IFERROR(HLOOKUP(ANS!C12,$M$61:$R$61,1,FALSE),0)+IFERROR(HLOOKUP(ANS!C12,$M$71:$R$71,1,FALSE),0)+IFERROR(HLOOKUP(ANS!C12,$M$81:$R$81,1,FALSE),0) -> 0 | D13: =IF(C13>=ANS!C12,0,1) -> 1 | E13: =IF(D13,ANS!C12,"") -> 17 | F13: =IFERROR(SMALL($E$6:$E$50,ANS!B12),"") | J13: 7 | K13: =IF(SUM(S81:S89)=0,1,0) -> 1 | L13: =IFERROR(IF(AND(S80=0,M13=1),1,0),1) -> 1 | M13: =IFERROR(IF(SUM($M$81:$R$89)=0,0,1),1) -> 1 | N13: =IF(AND(M13=1,L13=0),1,0) -> 0 | O13: =IF(AND(O12=1,M12=1,L12=1,N12=0,K12=1),1,0) -> 1 | AC13: =AC12 -> 1 | AD13: =IFERROR(HLOOKUP(ANS!M12,$AN$21:$AS$21,1,FALSE),0)+IFERROR(HLOOKUP(ANS!M12,$AN$31:$AS$31,1,FALSE),0)+IFERROR(HLOOKUP(ANS!M12,$AN$41:$AS$41,1,FALSE),0)+IFERROR(HLOOKUP(ANS!M12,$AN$51:$AS$51,1,FALSE),0)+IFERROR(HLOOKUP(ANS!M12,$AN$61:$AS$61,1,FALSE),0)+IFERROR(HLOOKUP(ANS!M12,$AN$71:$AS$71,1,FALSE),0)+IFERROR(HLOOKUP(ANS!M12,$AN$81:$AS$81,1,FALSE),0) -> 36 | AE13: =IF(AD13>=ANS!M12,0,1) -> 0 | AF13: =IF(AE13,ANS!M12,"") | AG13: =IFERROR(SMALL($AF$6:$AF$19,ANS!L12),"") | AK13: 7 | AL13: =IFERROR(IF(SUM(AT81:AT89)=0,1,0),0) -> 1 | AM13: =IFERROR(IF(AND(AT80=0,AN13=1),1,0),1) -> 1 | AN13: =IFERROR(IF(SUM($AN$81:$AS$89)=0,0,1),1) -> 1 | AO13: =IF(AND(AN13=1,AM13=0),1,0) -> 0 | AP13: =IF(AND(AP12=1,AN12=1,AM12=1,AO12=0,AL12=1),1,0) -> 1
B14: =B13 -> 1 | C14: =IFERROR(HLOOKUP(ANS!C13,$M$21:$R$21,1,FALSE),0)+IFERROR(HLOOKUP(ANS!C13,$M$31:$R$31,1,FALSE),0)+IFERROR(HLOOKUP(ANS!C13,$M$41:$R$41,1,FALSE),0)+IFERROR(HLOOKUP(ANS!C13,$M$51:$R$51,1,FALSE),0)+IFERROR(HLOOKUP(ANS!C13,$M$61:$R$61,1,FALSE),0)+IFERROR(HLOOKUP(ANS!C13,$M$71:$R$71,1,FALSE),0)+IFERROR(HLOOKUP(ANS!C13,$M$81:$R$81,1,FALSE),0) -> 19 | D14: =IF(C14>=ANS!C13,0,1) -> 0 | E14: =IF(D14,ANS!C13,"") | F14: =IFERROR(SMALL($E$6:$E$50,ANS!B13),"") | J14: 8 | K14: =IF(SUM(S91:S99)=0,1,0) -> 1 | L14: =IFERROR(IF(AND(S90=0,M14=1),1,0),1) -> 1 | M14: =IFERROR(IF(SUM($M$91:$R$99)=0,0,1),1) -> 1 | N14: =IF(AND(M14=1,L14=0),1,0) -> 0 | O14: =IF(AND(O13=1,M13=1,L13=1,N13=0,K13=1),1,0) -> 1 | AC14: =AC13 -> 1 | AD14: =IFERROR(HLOOKUP(ANS!M13,$AN$21:$AS$21,1,FALSE),0)+IFERROR(HLOOKUP(ANS!M13,$AN$31:$AS$31,1,FALSE),0)+IFERROR(HLOOKUP(ANS!M13,$AN$41:$AS$41,1,FALSE),0)+IFERROR(HLOOKUP(ANS!M13,$AN$51:$AS$51,1,FALSE),0)+IFERROR(HLOOKUP(ANS!M13,$AN$61:$AS$61,1,FALSE),0)+IFERROR(HLOOKUP(ANS!M13,$AN$71:$AS$71,1,FALSE),0)+IFERROR(HLOOKUP(ANS!M13,$AN$81:$AS$81,1,FALSE),0) -> 49 | AE14: =IF(AD14>=ANS!M13,0,1) -> 0 | AF14: =IF(AE14,ANS!M13,"") | AG14: =IFERROR(SMALL($AF$6:$AF$19,ANS!L13),"") | AK14: 8 | AL14: =IFERROR(IF(SUM(AT91:AT99)=0,1,0),0) -> 1 | AM14: =IFERROR(IF(AND(AT90=0,AN14=1),1,0),1) -> 1 | AN14: =IFERROR(IF(SUM($AN$91:$AS$99)=0,0,1),1) -> 1 | AO14: =IF(AND(AN14=1,AM14=0),1,0) -> 0 | AP14: =IF(AND(AP13=1,AN13=1,AM13=1,AO13=0,AL13=1),1,0) -> 1
B15: =B14 -> 1 | C15: =IFERROR(HLOOKUP(ANS!C14,$M$21:$R$21,1,FALSE),0)+IFERROR(HLOOKUP(ANS!C14,$M$31:$R$31,1,FALSE),0)+IFERROR(HLOOKUP(ANS!C14,$M$41:$R$41,1,FALSE),0)+IFERROR(HLOOKUP(ANS!C14,$M$51:$R$51,1,FALSE),0)+IFERROR(HLOOKUP(ANS!C14,$M$61:$R$61,1,FALSE),0)+IFERROR(HLOOKUP(ANS!C14,$M$71:$R$71,1,FALSE),0)+IFERROR(HLOOKUP(ANS!C14,$M$81:$R$81,1,FALSE),0) -> 0 | D15: =IF(C15>=ANS!C14,0,1) -> 1 | E15: =IF(D15,ANS!C14,"") -> 26 | F15: =IFERROR(SMALL($E$6:$E$50,ANS!B14),"") | AC15: =AC14 -> 1 | AD15: =IFERROR(HLOOKUP(ANS!M14,$AN$21:$AS$21,1,FALSE),0)+IFERROR(HLOOKUP(ANS!M14,$AN$31:$AS$31,1,FALSE),0)+IFERROR(HLOOKUP(ANS!M14,$AN$41:$AS$41,1,FALSE),0)+IFERROR(HLOOKUP(ANS!M14,$AN$51:$AS$51,1,FALSE),0)+IFERROR(HLOOKUP(ANS!M14,$AN$61:$AS$61,1,FALSE),0)+IFERROR(HLOOKUP(ANS!M14,$AN$71:$AS$71,1,FALSE),0)+IFERROR(HLOOKUP(ANS!M14,$AN$81:$AS$81,1,FALSE),0) -> 53 | AE15: =IF(AD15>=ANS!M14,0,1) -> 0 | AF15: =IF(AE15,ANS!M14,"") | AG15: =IFERROR(SMALL($AF$6:$AF$19,ANS!L14),"")
B16: =B15 -> 1 | C16: =IFERROR(HLOOKUP(ANS!C15,$M$21:$R$21,1,FALSE),0)+IFERROR(HLOOKUP(ANS!C15,$M$31:$R$31,1,FALSE),0)+IFERROR(HLOOKUP(ANS!C15,$M$41:$R$41,1,FALSE),0)+IFERROR(HLOOKUP(ANS!C15,$M$51:$R$51,1,FALSE),0)+IFERROR(HLOOKUP(ANS!C15,$M$61:$R$61,1,FALSE),0)+IFERROR(HLOOKUP(ANS!C15,$M$71:$R$71,1,FALSE),0)+IFERROR(HLOOKUP(ANS!C15,$M$81:$R$81,1,FALSE),0) -> 0 | D16: =IF(C16>=ANS!C15,0,1) -> 1 | E16: =IF(D16,ANS!C15,"") -> 27 | F16: =IFERROR(SMALL($E$6:$E$50,ANS!B15),"") | AC16: =AC15 -> 1 | AD16: =IFERROR(HLOOKUP(ANS!M15,$AN$21:$AS$21,1,FALSE),0)+IFERROR(HLOOKUP(ANS!M15,$AN$31:$AS$31,1,FALSE),0)+IFERROR(HLOOKUP(ANS!M15,$AN$41:$AS$41,1,FALSE),0)+IFERROR(HLOOKUP(ANS!M15,$AN$51:$AS$51,1,FALSE),0)+IFERROR(HLOOKUP(ANS!M15,$AN$61:$AS$61,1,FALSE),0)+IFERROR(HLOOKUP(ANS!M15,$AN$71:$AS$71,1,FALSE),0)+IFERROR(HLOOKUP(ANS!M15,$AN$81:$AS$81,1,FALSE),0) -> 77 | AE16: =IF(AD16>=ANS!M15,0,1) -> 0 | AF16: =IF(AE16,ANS!M15,"") | AG16: =IFERROR(SMALL($AF$6:$AF$19,ANS!L15),"")
B17: =B16 -> 1 | C17: =IFERROR(HLOOKUP(ANS!C16,$M$21:$R$21,1,FALSE),0)+IFERROR(HLOOKUP(ANS!C16,$M$31:$R$31,1,FALSE),0)+IFERROR(HLOOKUP(ANS!C16,$M$41:$R$41,1,FALSE),0)+IFERROR(HLOOKUP(ANS!C16,$M$51:$R$51,1,FALSE),0)+IFERROR(HLOOKUP(ANS!C16,$M$61:$R$61,1,FALSE),0)+IFERROR(HLOOKUP(ANS!C16,$M$71:$R$71,1,FALSE),0)+IFERROR(HLOOKUP(ANS!C16,$M$81:$R$81,1,FALSE),0) -> 29 | D17: =IF(C17>=ANS!C16,0,1) -> 0 | E17: =IF(D17,ANS!C16,"") | F17: =IFERROR(SMALL($E$6:$E$50,ANS!B16),"") | AC17: =AC16 -> 1 | AD17: =IFERROR(HLOOKUP(ANS!M16,$AN$21:$AS$21,1,FALSE),0)+IFERROR(HLOOKUP(ANS!M16,$AN$31:$AS$31,1,FALSE),0)+IFERROR(HLOOKUP(ANS!M16,$AN$41:$AS$41,1,FALSE),0)+IFERROR(HLOOKUP(ANS!M16,$AN$51:$AS$51,1,FALSE),0)+IFERROR(HLOOKUP(ANS!M16,$AN$61:$AS$61,1,FALSE),0)+IFERROR(HLOOKUP(ANS!M16,$AN$71:$AS$71,1,FALSE),0)+IFERROR(HLOOKUP(ANS!M16,$AN$81:$AS$81,1,FALSE),0) -> 93 | AE17: =IF(AD17>=ANS!M16,0,1) -> 0 | AF17: =IF(AE17,ANS!M16,"") | AG17: =IFERROR(SMALL($AF$6:$AF$19,ANS!L16),"")
B18: =B17 -> 1 | C18: =IFERROR(HLOOKUP(ANS!C17,$M$21:$R$21,1,FALSE),0)+IFERROR(HLOOKUP(ANS!C17,$M$31:$R$31,1,FALSE),0)+IFERROR(HLOOKUP(ANS!C17,$M$41:$R$41,1,FALSE),0)+IFERROR(HLOOKUP(ANS!C17,$M$51:$R$51,1,FALSE),0)+IFERROR(HLOOKUP(ANS!C17,$M$61:$R$61,1,FALSE),0)+IFERROR(HLOOKUP(ANS!C17,$M$71:$R$71,1,FALSE),0)+IFERROR(HLOOKUP(ANS!C17,$M$81:$R$81,1,FALSE),0) -> 38 | D18: =IF(C18>=ANS!C17,0,1) -> 0 | E18: =IF(D18,ANS!C17,"") | F18: =IFERROR(SMALL($E$6:$E$50,ANS!B17),"") | M18: Question # per module | T18: Random Balancer | AC18: =AC17 -> 1 | AD18: =IFERROR(HLOOKUP(ANS!M17,$AN$21:$AS$21,1,FALSE),0)+IFERROR(HLOOKUP(ANS!M17,$AN$31:$AS$31,1,FALSE),0)+IFERROR(HLOOKUP(ANS!M17,$AN$41:$AS$41,1,FALSE),0)+IFERROR(HLOOKUP(ANS!M17,$AN$51:$AS$51,1,FALSE),0)+IFERROR(HLOOKUP(ANS!M17,$AN$61:$AS$61,1,FALSE),0)+IFERROR(HLOOKUP(ANS!M17,$AN$71:$AS$71,1,FALSE),0)+IFERROR(HLOOKUP(ANS!M17,$AN$81:$AS$81,1,FALSE),0) -> 104 | AE18: =IF(AD18>=ANS!M17,0,1) -> 0 | AF18: =IF(AE18,ANS!M17,"") | AG18: =IFERROR(SMALL($AF$6:$AF$19,ANS!L17),"") | AN18: Question # per module | AU18: Random Balancer
B19: =B18 -> 1 | C19: =IFERROR(HLOOKUP(ANS!C18,$M$21:$R$21,1,FALSE),0)+IFERROR(HLOOKUP(ANS!C18,$M$31:$R$31,1,FALSE),0)+IFERROR(HLOOKUP(ANS!C18,$M$41:$R$41,1,FALSE),0)+IFERROR(HLOOKUP(ANS!C18,$M$51:$R$51,1,FALSE),0)+IFERROR(HLOOKUP(ANS!C18,$M$61:$R$61,1,FALSE),0)+IFERROR(HLOOKUP(ANS!C18,$M$71:$R$71,1,FALSE),0)+IFERROR(HLOOKUP(ANS!C18,$M$81:$R$81,1,FALSE),0) -> 39 | D19: =IF(C19>=ANS!C18,0,1) -> 0 | E19: =IF(D19,ANS!C18,"") | F19: =IFERROR(SMALL($E$6:$E$50,ANS!B18),"") | M19: 1 | N19: 2 | O19: 3 | P19: 4 | Q19: 5 | R19: 6 | S19: Check | T19: 1 | U19: 2 | V19: 3 | W19: 4 | X19: 5 | Y19: 6 | AC19: =AC18 -> 1 | AD19: =IFERROR(HLOOKUP(ANS!M18,$AN$21:$AS$21,1,FALSE),0)+IFERROR(HLOOKUP(ANS!M18,$AN$31:$AS$31,1,FALSE),0)+IFERROR(HLOOKUP(ANS!M18,$AN$41:$AS$41,1,FALSE),0)+IFERROR(HLOOKUP(ANS!M18,$AN$51:$AS$51,1,FALSE),0)+IFERROR(HLOOKUP(ANS!M18,$AN$61:$AS$61,1,FALSE),0)+IFERROR(HLOOKUP(ANS!M18,$AN$71:$AS$71,1,FALSE),0)+IFERROR(HLOOKUP(ANS!M18,$AN$81:$AS$81,1,FALSE),0) -> 119 | AE19: =IF(AD19>=ANS!M18,0,1) -> 0 | AF19: =IF(AE19,ANS!M18,"") | AG19: =IFERROR(SMALL($AF$6:$AF$19,ANS!L18),"") | AN19: 1 | AO19: 2 | AP19: 3 | AQ19: 4 | AR19: 5 | AS19: 6 | AT19: Check | AU19: 1 | AV19: 2 | AW19: 3 | AX19: 4 | AY19: 5 | AZ19: 6
B20: =B19 -> 1 | C20: =IFERROR(HLOOKUP(ANS!C19,$M$21:$R$21,1,FALSE),0)+IFERROR(HLOOKUP(ANS!C19,$M$31:$R$31,1,FALSE),0)+IFERROR(HLOOKUP(ANS!C19,$M$41:$R$41,1,FALSE),0)+IFERROR(HLOOKUP(ANS!C19,$M$51:$R$51,1,FALSE),0)+IFERROR(HLOOKUP(ANS!C19,$M$61:$R$61,1,FALSE),0)+IFERROR(HLOOKUP(ANS!C19,$M$71:$R$71,1,FALSE),0)+IFERROR(HLOOKUP(ANS!C19,$M$81:$R$81,1,FALSE),0) -> 42 | D20: =IF(C20>=ANS!C19,0,1) -> 0 | E20: =IF(D20,ANS!C19,"") | F20: =IFERROR(SMALL($E$6:$E$50,ANS!B19),"") | J20: Module | K20: # Left | L20: # To pick | M20: Drill 1 | S20: =COUNTIF(M21:R29,0) -> 0 | T20: Drill 1 | AC20: 2 | AD20: =IFERROR(HLOOKUP(ANS!M19,$AN$22:$AS$22,1,FALSE),0)+IFERROR(HLOOKUP(ANS!M19,$AN$32:$AS$32,1,FALSE),0)+IFERROR(HLOOKUP(ANS!M19,$AN$42:$AS$42,1,FALSE),0)+IFERROR(HLOOKUP(ANS!M19,$AN$52:$AS$52,1,FALSE),0)+IFERROR(HLOOKUP(ANS!M19,$AN$62:$AS$62,1,FALSE),0)+IFERROR(HLOOKUP(ANS!M19,$AN$72:$AS$72,1,FALSE),0)+IFERROR(HLOOKUP(ANS!M19,$AN$82:$AS$82,1,FALSE),0) -> 31 | AE20: =IF(AD20>=ANS!M19,0,1) -> 0 | AF20: =IF(AE20,ANS!M19,"") | AG20: =IFERROR(SMALL($AF$20:$AF$25,ANS!L19),"") | AH20: =COUNT(AG20:AG25) -> 0 | AI20: =AH20-AM92 -> 0 | AK20: Module | AL20: # Left | AM20: # To pick | AN20: Drill 1 | AT20: =COUNTIF(AN21:AS29,0) -> 0 | AU20: Drill 1
