Workbook

Sheet Math Grids
D2: Problem Solving Questions | G2: Data Sufficiency Questions
B3: Lesson Module | D3: # answered | E3: # correct | F3: % correct | G3: # answered | H3: # correct | I3: % correct | J3: Total % correct
B4: Arithmetic | D4: =SUMIFS(ANS!$I$5:$I$180,ANS!$F$5:$F$180,1,ANS!$I$5:$I$180,1) -> 0 | E4: =SUMIFS(ANS!$I$5:$I$180,ANS!$F$5:$F$180,1,ANS!$I$5:$I$180,1,ANS!$J$5:$J$180,1) -> 0 | F4: =IFERROR(E4/D4,0) -> 0 | G4: =SUMIFS(ANS!$S$5:$S$128,ANS!$P$5:$P$128,1,ANS!$S$5:$S$128,1) -> 0 | H4: =SUMIFS(ANS!$S$5:$S$128,ANS!$P$5:$P$128,1,ANS!$S$5:$S$128,1,ANS!$T$5:$T$128,1) -> 0 | I4: =IFERROR(H4/G4,0) -> 0 | J4: =IFERROR((H4+E4)/(G4+D4),0) -> 0
B5: Powers & Roots | D5: =SUMIFS(ANS!$I$5:$I$180,ANS!$F$5:$F$180,2,ANS!$I$5:$I$180,1) -> 0 | E5: =SUMIFS(ANS!$I$5:$I$180,ANS!$F$5:$F$180,2,ANS!$I$5:$I$180,1,ANS!$J$5:$J$180,1) -> 0 | F5: =IFERROR(E5/D5,0) -> 0 | G5: =SUMIFS(ANS!$S$5:$S$128,ANS!$P$5:$P$128,2,ANS!$S$5:$S$128,1) -> 0 | H5: =SUMIFS(ANS!$S$5:$S$128,ANS!$P$5:$P$128,2,ANS!$S$5:$S$128,1,ANS!$T$5:$T$128,1) -> 0 | I5: =IFERROR(H5/G5,0) -> 0 | J5: =IFERROR((H5+E5)/(G5+D5),0) -> 0
B6: Algebra & Equations | D6: =SUMIFS(ANS!$I$5:$I$180,ANS!$F$5:$F$180,3,ANS!$I$5:$I$180,1) -> 0 | E6: =SUMIFS(ANS!$I$5:$I$180,ANS!$F$5:$F$180,3,ANS!$I$5:$I$180,1,ANS!$J$5:$J$180,1) -> 0 | F6: =IFERROR(E6/D6,0) -> 0 | G6: =SUMIFS(ANS!$S$5:$S$128,ANS!$P$5:$P$128,3,ANS!$S$5:$S$128,1) -> 0 | H6: =SUMIFS(ANS!$S$5:$S$128,ANS!$P$5:$P$128,3,ANS!$S$5:$S$128,1,ANS!$T$5:$T$128,1) -> 0 | I6: =IFERROR(H6/G6,0) -> 0 | J6: =IFERROR((H6+E6)/(G6+D6),0) -> 0
B7: Geometry | D7: =SUMIFS(ANS!$I$5:$I$180,ANS!$F$5:$F$180,4,ANS!$I$5:$I$180,1) -> 0 | E7: =SUMIFS(ANS!$I$5:$I$180,ANS!$F$5:$F$180,4,ANS!$I$5:$I$180,1,ANS!$J$5:$J$180,1) -> 0 | F7: =IFERROR(E7/D7,0) -> 0 | G7: =SUMIFS(ANS!$S$5:$S$128,ANS!$P$5:$P$128,4,ANS!$S$5:$S$128,1) -> 0 | H7: =SUMIFS(ANS!$S$5:$S$128,ANS!$P$5:$P$128,4,ANS!$S$5:$S$128,1,ANS!$T$5:$T$128,1) -> 0 | I7: =IFERROR(H7/G7,0) -> 0 | J7: =IFERROR((H7+E7)/(G7+D7),0) -> 0
B8: Word Problems | D8: =SUMIFS(ANS!$I$5:$I$180,ANS!$F$5:$F$180,5,ANS!$I$5:$I$180,1) -> 0 | E8: =SUMIFS(ANS!$I$5:$I$180,ANS!$F$5:$F$180,5,ANS!$I$5:$I$180,1,ANS!$J$5:$J$180,1) -> 0 | F8: =IFERROR(E8/D8,0) -> 0 | G8: =SUMIFS(ANS!$S$5:$S$128,ANS!$P$5:$P$128,5,ANS!$S$5:$S$128,1) -> 0 | H8: =SUMIFS(ANS!$S$5:$S$128,ANS!$P$5:$P$128,5,ANS!$S$5:$S$128,1,ANS!$T$5:$T$128,1) -> 0 | I8: =IFERROR(H8/G8,0) -> 0 | J8: =IFERROR((H8+E8)/(G8+D8),0) -> 0
B9: Integer Properties | D9: =SUMIFS(ANS!$I$5:$I$180,ANS!$F$5:$F$180,6,ANS!$I$5:$I$180,1) -> 0 | E9: =SUMIFS(ANS!$I$5:$I$180,ANS!$F$5:$F$180,6,ANS!$I$5:$I$180,1,ANS!$J$5:$J$180,1) -> 0 | F9: =IFERROR(E9/D9,0) -> 0 | G9: =SUMIFS(ANS!$S$5:$S$128,ANS!$P$5:$P$128,6,ANS!$S$5:$S$128,1) -> 0 | H9: =SUMIFS(ANS!$S$5:$S$128,ANS!$P$5:$P$128,6,ANS!$S$5:$S$128,1,ANS!$T$5:$T$128,1) -> 0 | I9: =IFERROR(H9/G9,0) -> 0 | J9: =IFERROR((H9+E9)/(G9+D9),0) -> 0
B10: Statistics | D10: =SUMIFS(ANS!$I$5:$I$180,ANS!$F$5:$F$180,7,ANS!$I$5:$I$180,1) -> 0 | E10: =SUMIFS(ANS!$I$5:$I$180,ANS!$F$5:$F$180,7,ANS!$I$5:$I$180,1,ANS!$J$5:$J$180,1) -> 0 | F10: =IFERROR(E10/D10,0) -> 0 | G10: =SUMIFS(ANS!$S$5:$S$128,ANS!$P$5:$P$128,7,ANS!$S$5:$S$128,1) -> 0 | H10: =SUMIFS(ANS!$S$5:$S$128,ANS!$P$5:$P$128,7,ANS!$S$5:$S$128,1,ANS!$T$5:$T$128,1) -> 0 | I10: =IFERROR(H10/G10,0) -> 0 | J10: =IFERROR((H10+E10)/(G10+D10),0) -> 0
B11: Counting | D11: =SUMIFS(ANS!$I$5:$I$180,ANS!$F$5:$F$180,8,ANS!$I$5:$I$180,1) -> 0 | E11: =SUMIFS(ANS!$I$5:$I$180,ANS!$F$5:$F$180,8,ANS!$I$5:$I$180,1,ANS!$J$5:$J$180,1) -> 0 | F11: =IFERROR(E11/D11,0) -> 0 | G11: =SUMIFS(ANS!$S$5:$S$128,ANS!$P$5:$P$128,8,ANS!$S$5:$S$128,1) -> 0 | H11: =SUMIFS(ANS!$S$5:$S$128,ANS!$P$5:$P$128,8,ANS!$S$5:$S$128,1,ANS!$T$5:$T$128,1) -> 0 | I11: =IFERROR(H11/G11,0) -> 0 | J11: =IFERROR((H11+E11)/(G11+D11),0) -> 0
B12: Probability | D12: =SUMIFS(ANS!$I$5:$I$180,ANS!$F$5:$F$180,9,ANS!$I$5:$I$180,1) -> 0 | E12: =SUMIFS(ANS!$I$5:$I$180,ANS!$F$5:$F$180,9,ANS!$I$5:$I$180,1,ANS!$J$5:$J$180,1) -> 0 | F12: =IFERROR(E12/D12,0) -> 0 | G12: =SUMIFS(ANS!$S$5:$S$128,ANS!$P$5:$P$128,9,ANS!$S$5:$S$128,1) -> 0 | H12: =SUMIFS(ANS!$S$5:$S$128,ANS!$P$5:$P$128,9,ANS!$S$5:$S$128,1,ANS!$T$5:$T$128,1) -> 0 | I12: =IFERROR(H12/G12,0) -> 0 | J12: =IFERROR((H12+E12)/(G12+D12),0) -> 0
B15: Problem Solving Questions | G15: Data Sufficiency Questions
B16: Question | C16: Your answer | D16: Correct Answer | E16: Flag | G16: Question | H16: Your answer | I16: Correct Answer | J16: Flag
B17: 1 | D17: =IF(ANS!H5<>"",ANS!G5,"") | G17: 1 | I17: =IF(ANS!R5<>"",ANS!Q5,"")
B18: 2 | D18: =IF(ANS!H6<>"",ANS!G6,"") | G18: 2 | I18: =IF(ANS!R6<>"",ANS!Q6,"")
B19: 3 | D19: =IF(ANS!H7<>"",ANS!G7,"") | G19: 3 | I19: =IF(ANS!R7<>"",ANS!Q7,"")
B20: 4 | D20: =IF(ANS!H8<>"",ANS!G8,"") | G20: 4 | I20: =IF(ANS!R8<>"",ANS!Q8,"")
B21: 5 | D21: =IF(ANS!H9<>"",ANS!G9,"") | G21: 5 | I21: =IF(ANS!R9<>"",ANS!Q9,"")
B22: 6 | D22: =IF(ANS!H10<>"",ANS!G10,"") | G22: 6 | I22: =IF(ANS!R10<>"",ANS!Q10,"")
B23: 7 | D23: =IF(ANS!H11<>"",ANS!G11,"") | G23: 7 | I23: =IF(ANS!R11<>"",ANS!Q11,"")
B24: 8 | D24: =IF(ANS!H12<>"",ANS!G12,"") | G24: 8 | I24: =IF(ANS!R12<>"",ANS!Q12,"")
B25: 9 | D25: =IF(ANS!H13<>"",ANS!G13,"") | G25: 9 | I25: =IF(ANS!R13<>"",ANS!Q13,"")
B26: 10 | D26: =IF(ANS!H14<>"",ANS!G14,"") | G26: 10 | I26: =IF(ANS!R14<>"",ANS!Q14,"")
B27: 11 | D27: =IF(ANS!H15<>"",ANS!G15,"") | G27: 11 | I27: =IF(ANS!R15<>"",ANS!Q15,"")
B28: 12 | D28: =IF(ANS!H16<>"",ANS!G16,"") | G28: 12 | I28: =IF(ANS!R16<>"",ANS!Q16,"")
... B140: 124 | D140: =IF(ANS!H128<>"",ANS!G128,"") | G140: 124 | I140: =IF(ANS!R128<>"",ANS!Q128,"")
B141: 125 | D141: =IF(ANS!H129<>"",ANS!G129,"")
B142: 126 | D142: =IF(ANS!H130<>"",ANS!G130,"")
B143: 127 | D143: =IF(ANS!H131<>"",ANS!G131,"")
B144: 128 | D144: =IF(ANS!H132<>"",ANS!G132,"")
B145: 129 | D145: =IF(ANS!H133<>"",ANS!G133,"")
B146: 130 | D146: =IF(ANS!H134<>"",ANS!G134,"")
B147: 131 | D147: =IF(ANS!H135<>"",ANS!G135,"")
B148: 132 | D148: =IF(ANS!H136<>"",ANS!G136,"")
B149: 133 | D149: =IF(ANS!H137<>"",ANS!G137,"")
B150: 134 | D150: =IF(ANS!H138<>"",ANS!G138,"")
B151: 135 | D151: =IF(ANS!H139<>"",ANS!G139,"")
B152: 136 | D152: =IF(ANS!H140<>"",ANS!G140,"")
... B192: 176 | D192: =IF(ANS!H180<>"",ANS!G180,"")

Sheet Question Sets
B2: 1 | E2: 2 | H2: 3 | K2: 4 | N2: 5 | Q2: 6 | T2: 7 | W2: 8
B3: P. Solving | C3: D. Sufficiency | E3: P. Solving | F3: D. Sufficiency | H3: P. Solving | I3: D. Sufficiency | K3: P. Solving | L3: D. Sufficiency | N3: P. Solving | O3: D. Sufficiency | Q3: P. Solving | R3: D. Sufficiency | T3: P. Solving | U3: D. Sufficiency | W3: P. Solving | X3: D. Sufficiency
B4: =DRILLS!$D$187 -> 21 | C4: =DRILLS!$D$188 -> 3 | E4: =DRILLS!$D$190 -> 2 | F4: =DRILLS!$D$191 -> 13 | H4: =DRILLS!$D$193 -> 1 | I4: =DRILLS!$D$194 -> 10 | K4: =DRILLS!$D$196 -> 3 | L4: =DRILLS!$D$197 -> 7 | N4: =DRILLS!$D$199 -> 9 | O4: =DRILLS!$D$200 -> 27 | Q4: =DRILLS!$D$202 -> 39 | R4: =DRILLS!$D$203 -> 1 | T4: =DRILLS!$D$205 -> 6 | U4: =DRILLS!$D$206 -> 6 | W4: =DRILLS!$D$208 -> 5 | X4: =DRILLS!$D$209 -> 2
B5: =DRILLS!$E$187 -> 23 | C5: =DRILLS!$E$188 -> 32 | E5: =DRILLS!$E$190 -> 29 | F5: =DRILLS!$E$191 -> 22 | H5: =DRILLS!$E$193 -> 4 | I5: =DRILLS!$E$194 -> 14 | K5: =DRILLS!$E$196 -> 7 | L5: =DRILLS!$E$197 -> 8 | N5: =DRILLS!$E$199 -> 13 | O5: =DRILLS!$E$200 -> 31 | Q5: =DRILLS!$E$202 -> 40 | R5: =DRILLS!$E$203 -> 4 | T5: =DRILLS!$E$205 -> 8 | U5: =DRILLS!$E$206 -> 17 | W5: =DRILLS!$E$208 -> 14 | X5: =DRILLS!$E$209 -> 5
B6: =DRILLS!$F$187 -> 38 | C6: =DRILLS!$F$188 -> 44 | E6: =DRILLS!$F$190 -> 36 | F6: =DRILLS!$F$191 -> 37 | H6: =DRILLS!$F$193 -> 10 | I6: =DRILLS!$F$194 -> 16 | K6: =DRILLS!$F$196 -> 12 | L6: =DRILLS!$F$197 -> 25 | N6: =DRILLS!$F$199 -> 19 | O6: =DRILLS!$F$200 -> 34 | Q6: =DRILLS!$F$202 -> 45 | R6: =DRILLS!$F$203 -> 15 | T6: =DRILLS!$F$205 -> 11 | U6: =DRILLS!$F$206 -> 20 | W6: =DRILLS!$F$208 -> 15 | X6: =DRILLS!$F$209 -> 9
B7: =DRILLS!$G$187 -> 47 | C7: =DRILLS!$G$188 -> 53 | E7: =DRILLS!$G$190 -> 53 | F7: =DRILLS!$G$191 -> 38 | H7: =DRILLS!$G$193 -> 18 | I7: =DRILLS!$G$194 -> 19 | K7: =DRILLS!$G$196 -> 25 | L7: =DRILLS!$G$197 -> 36 | N7: =DRILLS!$G$199 -> 24 | O7: =DRILLS!$G$200 -> 35 | Q7: =DRILLS!$G$202 -> 56 | R7: =DRILLS!$G$203 -> 18 | T7: =DRILLS!$G$205 -> 16 | U7: =DRILLS!$G$206 -> 21 | W7: =DRILLS!$G$208 -> 17 | X7: =DRILLS!$G$209 -> 11
B8: =DRILLS!H$187 -> 50 | C8: =DRILLS!$H$188 -> 54 | E8: =DRILLS!$H$190 -> 62 | F8: =DRILLS!$H$191 -> 46 | H8: =DRILLS!$H$193 -> 34 | I8: =DRILLS!$H$194 -> 29 | K8: =DRILLS!$H$196 -> 28 | L8: =DRILLS!$H$197 -> 48 | N8: =DRILLS!$H$199 -> 35 | O8: =DRILLS!$H$200 -> 58 | Q8: =DRILLS!$H$202 -> 58 | R8: =DRILLS!$H$203 -> 23 | T8: =DRILLS!$H$205 -> 32 | U8: =DRILLS!$H$206 -> 43 | W8: =DRILLS!$H$208 -> 20 | X8: =DRILLS!$H$209 -> 12
B9: =DRILLS!$I$187 -> 52 | C9: =DRILLS!$I$188 -> 59 | E9: =DRILLS!$I$190 -> 66 | F9: =DRILLS!$I$191 -> 49 | H9: =DRILLS!$I$193 -> 46 | I9: =DRILLS!$I$194 -> 30 | K9: =DRILLS!$I$196 -> 31 | L9: =DRILLS!$I$197 -> 50 | N9: =DRILLS!$I$199 -> 44 | O9: =DRILLS!$I$200 -> 61 | Q9: =DRILLS!$I$202 -> 61 | R9: =DRILLS!$I$203 -> 26 | T9: =DRILLS!$I$205 -> 33 | U9: =DRILLS!$I$206 -> 60 | W9: =DRILLS!$I$208 -> 22 | X9: =DRILLS!$I$209 -> 24
B10: =DRILLS!$J$187 -> 63 | C10: =DRILLS!$J$188 -> 69 | E10: =DRILLS!$J$190 -> 72 | F10: =DRILLS!$J$191 -> 51 | H10: =DRILLS!$J$193 -> 69 | I10: =DRILLS!$J$194 -> 40 | K10: =DRILLS!$J$196 -> 49 | L10: =DRILLS!$J$197 -> 52 | N10: =DRILLS!$J$199 -> 48 | O10: =DRILLS!$J$200 -> 75 | Q10: =DRILLS!$J$202 -> 78 | R10: =DRILLS!$J$203 -> 33 | T10: =DRILLS!$J$205 -> 37 | U10: =DRILLS!$J$206 -> 68 | W10: =DRILLS!$J$208 -> 26 | X10: =DRILLS!$J$209 -> 28
B11: =DRILLS!$K$187 -> 65 | C11: =DRILLS!$K$188 -> 89 | E11: =DRILLS!$K$190 -> 73 | F11: =DRILLS!$K$191 -> 71 | H11: =DRILLS!$K$193 -> 77 | I11: =DRILLS!$K$194 -> 41 | K11: =DRILLS!$K$196 -> 51 | L11: =DRILLS!$K$197 -> 63 | N11: =DRILLS!$K$199 -> 64 | O11: =DRILLS!$K$200 -> 76 | Q11: =DRILLS!$K$202 -> 80 | R11: =DRILLS!$K$203 -> 45 | T11: =DRILLS!$K$205 -> 42 | U11: =DRILLS!$K$206 -> 79 | W11: =DRILLS!$K$208 -> 27 | X11: =DRILLS!$K$209 -> 39
B12: =DRILLS!$L$187 -> 67 | C12: =DRILLS!$L$188 -> 90 | E12: =DRILLS!$L$190 -> 75 | F12: =DRILLS!$L$191 -> 74 | H12: =DRILLS!$L$193 -> 86 | I12: =DRILLS!$L$194 -> 55 | K12: =DRILLS!$L$196 -> 55 | L12: =DRILLS!$L$197 -> 64 | N12: =DRILLS!$L$199 -> 70 | O12: =DRILLS!$L$200 -> 82 | Q12: =DRILLS!$L$202 -> 81 | R12: =DRILLS!$L$203 -> 56 | T12: =DRILLS!$L$205 -> 43 | U12: =DRILLS!$L$206 -> 80 | W12: =DRILLS!$L$208 -> 30 | X12: =DRILLS!$L$209 -> 42
B13: =DRILLS!$M$187 -> 68 | C13: =DRILLS!$M$188 -> 94 | E13: =DRILLS!$M$190 -> 79 | F13: =DRILLS!$M$191 -> 78 | H13: =DRILLS!$M$193 -> 94 | I13: =DRILLS!$M$194 -> 57 | K13: =DRILLS!$M$196 -> 59 | L13: =DRILLS!$M$197 -> 65 | N13: =DRILLS!$M$199 -> 74 | O13: =DRILLS!$M$200 -> 85 | Q13: =DRILLS!$M$202 -> 89 | R13: =DRILLS!$M$203 -> 62 | T13: =DRILLS!$M$205 -> 54 | U13: =DRILLS!$M$206 -> 84 | W13: =DRILLS!$M$208 -> 41 | X13: =DRILLS!$M$209 -> 47
B14: =DRILLS!$N$187 -> 71 | C14: =DRILLS!$N$188 -> 95 | E14: =DRILLS!$N$190 -> 84 | F14: =DRILLS!$N$191 -> 87 | H14: =DRILLS!$N$193 -> 104 | I14: =DRILLS!$N$194 -> 99 | K14: =DRILLS!$N$196 -> 60 | L14: =DRILLS!$N$197 -> 66 | N14: =DRILLS!$N$199 -> 82 | O14: =DRILLS!$N$200 -> 98 | Q14: =DRILLS!$N$202 -> 93 | R14: =DRILLS!$N$203 -> 67 | T14: =DRILLS!$N$205 -> 57 | U14: =DRILLS!$N$206 -> 106 | W14: =DRILLS!$N$208 -> 76 | X14: =DRILLS!$N$209 -> 91
B15: =DRILLS!$O$187 -> 101 | C15: =DRILLS!$O$188 -> 97 | E15: =DRILLS!$O$190 -> 85 | F15: =DRILLS!$O$191 -> 93 | H15: =DRILLS!$O$193 -> 113 | I15: =DRILLS!$O$194 -> 113 | K15: =DRILLS!$O$196 -> 87 | L15: =DRILLS!$O$197 -> 72 | N15: =DRILLS!$O$199 -> 83 | O15: =DRILLS!$O$200 -> 102 | Q15: =DRILLS!$O$202 -> 96 | R15: =DRILLS!$O$203 -> 70 | T15: =DRILLS!$O$205 -> 92 | U15: =DRILLS!$O$206 -> 107 | W15: =DRILLS!$O$208 -> 88 | X15: =DRILLS!$O$209 -> 92
B16: =DRILLS!$P$187 -> 102 | C16: =DRILLS!$P$188 -> 101 | E16: =DRILLS!$P$190 -> 100 | F16: =DRILLS!$P$191 -> 100 | H16: =DRILLS!$P$193 -> 114 | I16: =DRILLS!$P$194 -> 115 | K16: =DRILLS!$P$196 -> 103 | L16: =DRILLS!$P$197 -> 83 | N16: =DRILLS!$P$199 -> 90 | O16: =DRILLS!$P$200 -> 104 | Q16: =DRILLS!$P$202 -> 107 | R16: =DRILLS!$P$203 -> 73 | T16: =DRILLS!$P$205 -> 99 | U16: =DRILLS!$P$206 -> 110 | W16: =DRILLS!$P$208 -> 91 | X16: =DRILLS!$P$209 -> 103
B17: =DRILLS!$Q$187 -> 105 | C17: =DRILLS!$Q$188 -> 108 | E17: =DRILLS!$Q$190 -> 106 | F17: =DRILLS!$Q$191 -> 109 | H17: =DRILLS!$Q$193 -> 132 | I17: =DRILLS!$Q$194 -> 116 | K17: =DRILLS!$Q$196 -> 109 | L17: =DRILLS!$Q$197 -> 86 | N17: =DRILLS!$Q$199 -> 111 | O17: =DRILLS!$Q$200 -> 111 | Q17: =DRILLS!$Q$202 -> 131 | R17: =DRILLS!$Q$203 -> 77 | T17: =DRILLS!$Q$205 -> 110 | U17: =DRILLS!$Q$206 -> 118 | W17: =DRILLS!$Q$208 -> 95 | X17: =DRILLS!$Q$209 -> 105
B18: =DRILLS!$R$187 -> 120 | C18: =DRILLS!$R$188 -> 112 | E18: =DRILLS!$R$190 -> 108 | F18: =DRILLS!$R$191 | H18: =DRILLS!$R$193 -> 136 | I18: =DRILLS!$R$194 -> 121 | K18: =DRILLS!$R$196 -> 119 | L18: =DRILLS!$R$197 -> 96 | N18: =DRILLS!$R$199 -> 124 | O18: =DRILLS!$R$200 -> 114 | Q18: =DRILLS!$R$202 -> 133 | R18: =DRILLS!$R$203 -> 81 | T18: =DRILLS!$R$205 -> 117 | U18: =DRILLS!$R$206 -> 120 | W18: =DRILLS!$R$208 -> 97 | X18: =DRILLS!$R$209 -> 123
B19: =DRILLS!$S$187 -> 122 | C19: =DRILLS!$S$188 -> 117 | E19: =DRILLS!$S$190 -> 116 | F19: =DRILLS!$S$191 | H19: =DRILLS!$S$193 -> 141 | I19: =DRILLS!$S$194 | K19: =DRILLS!$S$196 -> 121 | L19: =DRILLS!$S$197 -> 122 | N19: =DRILLS!$S$199 -> 125 | O19: =DRILLS!$S$200 | Q19: =DRILLS!$S$202 -> 134 | R19: =DRILLS!$S$203 -> 88 | T19: =DRILLS!$S$205 -> 146 | U19: =DRILLS!$S$206 | W19: =DRILLS!$S$208 -> 98 | X19: =DRILLS!$S$209
B20: =DRILLS!$T$187 -> 140 | C20: =DRILLS!$T$188 -> 119 | E20: =DRILLS!$T$190 -> 123 | F20: =DRILLS!$T$191 | H20: =DRILLS!$T$193 -> 142 | I20: =DRILLS!$T$194 | K20: =DRILLS!$T$196 -> 128 | L20: =DRILLS!$T$197 | N20: =DRILLS!$T$199 -> 129 | O20: =DRILLS!$T$200 | Q20: =DRILLS!$T$202 -> 139 | R20: =DRILLS!$T$203 | T20: =DRILLS!$T$205 -> 148 | U20: =DRILLS!$T$206 | W20: =DRILLS!$T$208 -> 112 | X20: =DRILLS!$T$209
B21: =DRILLS!$U$187 -> 165 | C21: =DRILLS!$U$188 | E21: =DRILLS!$U$190 -> 143 | F21: =DRILLS!$U$191 | H21: =DRILLS!$U$193 -> 144 | I21: =DRILLS!$U$194 | K21: =DRILLS!$U$196 -> 135 | L21: =DRILLS!$U$197 | N21: =DRILLS!$U$199 -> 151 | O21: =DRILLS!$U$200 | Q21: =DRILLS!$U$202 -> 154 | R21: =DRILLS!$U$203 | T21: =DRILLS!$U$205 -> 149 | U21: =DRILLS!$U$206 | W21: =DRILLS!$U$208 -> 115 | X21: =DRILLS!$U$209
B22: =DRILLS!$V$187 -> 174 | C22: =DRILLS!$V$188 | E22: =DRILLS!$V$190 -> 147 | F22: =DRILLS!$V$191 | H22: =DRILLS!$V$193 -> 152 | I22: =DRILLS!$V$194 | K22: =DRILLS!$V$196 -> 137 | L22: =DRILLS!$V$197 | N22: =DRILLS!$V$199 -> 156 | O22: =DRILLS!$V$200 | Q22: =DRILLS!$V$202 -> 160 | R22: =DRILLS!$V$203 | T22: =DRILLS!$V$205 -> 150 | U22: =DRILLS!$V$206 | W22: =DRILLS!$V$208 -> 118 | X22: =DRILLS!$V$209
B23: =DRILLS!$W$187 -> 175 | C23: =DRILLS!$W$188 | E23: =DRILLS!$W$190 -> 153 | F23: =DRILLS!$W$191 | H23: =DRILLS!$W$193 -> 157 | I23: =DRILLS!$W$194 | K23: =DRILLS!$W$196 -> 163 | L23: =DRILLS!$W$197 | N23: =DRILLS!$W$199 -> 159 | O23: =DRILLS!$W$200 | Q23: =DRILLS!$W$202 -> 167 | R23: =DRILLS!$W$203 | T23: =DRILLS!$W$205 -> 169 | U23: =DRILLS!$W$206 | W23: =DRILLS!$W$208 -> 127 | X23: =DRILLS!$W$209
B24: =DRILLS!$X$187 | C24: =DRILLS!$X$188 | E24: =DRILLS!$X$190 -> 155 | F24: =DRILLS!$X$191 | H24: =DRILLS!$X$193 -> 158 | I24: =DRILLS!$X$194 | K24: =DRILLS!$X$196 -> 173 | L24: =DRILLS!$X$197 | N24: =DRILLS!$X$199 -> 166 | O24: =DRILLS!$X$200 | Q24: =DRILLS!$X$202 -> 172 | R24: =DRILLS!$X$203 | T24: =DRILLS!$X$205 -> 170 | U24: =DRILLS!$X$206 | W24: =DRILLS!$X$208 -> 130 | X24: =DRILLS!$X$209
B25: =DRILLS!$Y$187 | C25: =DRILLS!$Y$188 | E25: =DRILLS!$Y$190 -> 162 | F25: =DRILLS!$Y$191 | H25: =DRILLS!$Y$193 -> 176 | I25: =DRILLS!$Y$194 | K25: =DRILLS!$Y$196 | L25: =DRILLS!$Y$197 | N25: =DRILLS!$Y$199 -> 168 | O25: =DRILLS!$Y$200 | Q25: =DRILLS!$Y$202 | R25: =DRILLS!$Y$203 | T25: =DRILLS!$Y$205 -> 171 | U25: =DRILLS!$Y$206 | W25: =DRILLS!$Y$208 -> 161 | X25: =DRILLS!$Y$209
B26: =DRILLS!$Z$187 | C26: =DRILLS!$Z$188 | E26: =DRILLS!$Z$190 -> 164 | F26: =DRILLS!$Z$191 | H26: =DRILLS!$Z$193 | I26: =DRILLS!$Z$194 | K26: =DRILLS!$Z$196 | L26: =DRILLS!$Z$197 | N26: =DRILLS!$Z$199 | O26: =DRILLS!$Z$200 | Q26: =DRILLS!$Z$202 | R26: =DRILLS!$Z$203 | T26: =DRILLS!$Z$205 | U26: =DRILLS!$Z$206 | W26: =DRILLS!$Z$208 | X26: =DRILLS!$Z$209
B27: =DRILLS!$AA$187 | C27: =DRILLS!$AA$188 | E27: =DRILLS!$AA$190 | F27: =DRILLS!$AA$191 | H27: =DRILLS!$AA$193 | I27: =DRILLS!$AA$194 | K27: =DRILLS!$AA$196 | L27: =DRILLS!$AA$197 | N27: =DRILLS!$AA$199 | O27: =DRILLS!$AA$200 | Q27: =DRILLS!$AA$202 | R27: =DRILLS!$AA$203 | T27: =DRILLS!$AA$205 | U27: =DRILLS!$AA$206 | W27: =DRILLS!$AA$208 | X27: =DRILLS!$AA$209
B30: Reset | C30: 1
B31: Check | C31: =DRILLS!R7 -> 0
B32: Check | C32: =DRILLS!AS7 -> 0

Sheet ANS
B2: Problem Solving | L2: Data Sufficiency
B3: Raw | E3: Sorted | L3: Raw | O3: Sorted
B4: # in section | C4: Problem | D4: ID | E4: Problem | F4: ID | G4: ANSWER | H4: USER | I4: ANSWERED | J4: CORRECT | L4: # in section | M4: Problem | N4: ID | O4: Problem | P4: ID | Q4: ANSWER | R4: USER | S4: ANSWERED | T4: CORRECT
B5: =IF(D5=D4,B4+1,1) -> 1 | C5: 4 | D5: 1 | E5: 1 | F5: =VLOOKUP(E5,$C$5:$D$180,2,FALSE) -> 3 | G5: B | H5: =IF(AND('Math Grids'!C17>="A",'Math Grids'!C17<="E"),'Math Grids'!C17,"") | I5: =IF(H5<>"",1,0) -> 0 | J5: =IF(AND(I5=1,G5=H5),1,0) -> 0 | L5: =IF(N5=N4,L4+1,1) -> 1 | M5: 8 | N5: 1 | O5: 1 | P5: =VLOOKUP(O5,$M$5:$N$180,2,FALSE) -> 7 | Q5: C | R5: =IF(AND('Math Grids'!H17>="A",'Math Grids'!H17<="E"),'Math Grids'!H17,"") | S5: =IF(R5<>"",1,0) -> 0 | T5: =IF(AND(S5=1,Q5=R5),1,0) -> 0
B6: =IF(D6=D5,B5+1,1) -> 2 | C6: 6 | D6: 1 | E6: 2 | F6: =VLOOKUP(E6,$C$5:$D$180,2,FALSE) -> 5 | G6: C | H6: =IF(AND('Math Grids'!C18>="A",'Math Grids'!C18<="E"),'Math Grids'!C18,"") | I6: =IF(H6<>"",1,0) -> 0 | J6: =IF(AND(I6=1,G6=H6),1,0) -> 0 | L6: =IF(N6=N5,L5+1,1) -> 2 | M6: 10 | N6: 1 | O6: 2 | P6: =VLOOKUP(O6,$M$5:$N$180,2,FALSE) -> 3 | Q6: D | R6: =IF(AND('Math Grids'!H18>="A",'Math Grids'!H18<="E"),'Math Grids'!H18,"") | S6: =IF(R6<>"",1,0) -> 0 | T6: =IF(AND(S6=1,Q6=R6),1,0) -> 0
B7: =IF(D7=D6,B6+1,1) -> 3 | C7: 8 | D7: 1 | E7: 3 | F7: =VLOOKUP(E7,$C$5:$D$180,2,FALSE) -> 5 | G7: C | H7: =IF(AND('Math Grids'!C19>="A",'Math Grids'!C19<="E"),'Math Grids'!C19,"") | I7: =IF(H7<>"",1,0) -> 0 | J7: =IF(AND(I7=1,G7=H7),1,0) -> 0 | L7: =IF(N7=N6,L6+1,1) -> 3 | M7: 12 | N7: 1 | O7: 3 | P7: =VLOOKUP(O7,$M$5:$N$180,2,FALSE) -> 6 | Q7: D | R7: =IF(AND('Math Grids'!H19>="A",'Math Grids'!H19<="E"),'Math Grids'!H19,"") | S7: =IF(R7<>"",1,0) -> 0 | T7: =IF(AND(S7=1,Q7=R7),1,0) -> 0
B8: =IF(D8=D7,B7+1,1) -> 4 | C8: 9 | D8: 1 | E8: 4 | F8: =VLOOKUP(E8,$C$5:$D$180,2,FALSE) -> 1 | G8: E | H8: =IF(AND('Math Grids'!C20>="A",'Math Grids'!C20<="E"),'Math Grids'!C20,"") | I8: =IF(H8<>"",1,0) -> 0 | J8: =IF(AND(I8=1,G8=H8),1,0) -> 0 | L8: =IF(N8=N7,L7+1,1) -> 4 | M8: 17 | N8: 1 | O8: 4 | P8: =VLOOKUP(O8,$M$5:$N$180,2,FALSE) -> 4 | Q8: B | R8: =IF(AND('Math Grids'!H20>="A",'Math Grids'!H20<="E"),'Math Grids'!H20,"") | S8: =IF(R8<>"",1,0) -> 0 | T8: =IF(AND(S8=1,Q8=R8),1,0) -> 0
B9: =IF(D9=D8,B8+1,1) -> 5 | C9: 10 | D9: 1 | E9: 5 | F9: =VLOOKUP(E9,$C$5:$D$180,2,FALSE) -> 3 | G9: C | H9: =IF(AND('Math Grids'!C21>="A",'Math Grids'!C21<="E"),'Math Grids'!C21,"") | I9: =IF(H9<>"",1,0) -> 0 | J9: =IF(AND(I9=1,G9=H9),1,0) -> 0 | L9: =IF(N9=N8,L8+1,1) -> 5 | M9: 18 | N9: 1 | O9: 5 | P9: =VLOOKUP(O9,$M$5:$N$180,2,FALSE) -> 5 | Q9: E | R9: =IF(AND('Math Grids'!H21>="A",'Math Grids'!H21<="E"),'Math Grids'!H21,"") | S9: =IF(R9<>"",1,0) -> 0 | T9: =IF(AND(S9=1,Q9=R9),1,0) -> 0
B10: =IF(D10=D9,B9+1,1) -> 6 | C10: 12 | D10: 1 | E10: 6 | F10: =VLOOKUP(E10,$C$5:$D$180,2,FALSE) -> 1 | G10: C | H10: =IF(AND('Math Grids'!C22>="A",'Math Grids'!C22<="E"),'Math Grids'!C22,"") | I10: =IF(H10<>"",1,0) -> 0 | J10: =IF(AND(I10=1,G10=H10),1,0) -> 0 | L10: =IF(N10=N9,L9+1,1) -> 6 | M10: 21 | N10: 1 | O10: 6 | P10: =VLOOKUP(O10,$M$5:$N$180,2,FALSE) -> 5 | Q10: C | R10: =IF(AND('Math Grids'!H22>="A",'Math Grids'!H22<="E"),'Math Grids'!H22,"") | S10: =IF(R10<>"",1,0) -> 0 | T10: =IF(AND(S10=1,Q10=R10),1,0) -> 0
B11: =IF(D11=D10,B10+1,1) -> 7 | C11: 14 | D11: 1 | E11: 7 | F11: =VLOOKUP(E11,$C$5:$D$180,2,FALSE) -> 4 | G11: E | H11: =IF(AND('Math Grids'!C23>="A",'Math Grids'!C23<="E"),'Math Grids'!C23,"") | I11: =IF(H11<>"",1,0) -> 0 | J11: =IF(AND(I11=1,G11=H11),1,0) -> 0 | L11: =IF(N11=N10,L10+1,1) -> 7 | M11: 24 | N11: 1 | O11: 7 | P11: =VLOOKUP(O11,$M$5:$N$180,2,FALSE) -> 5 | Q11: C | R11: =IF(AND('Math Grids'!H23>="A",'Math Grids'!H23<="E"),'Math Grids'!H23,"") | S11: =IF(R11<>"",1,0) -> 0 | T11: =IF(AND(S11=1,Q11=R11),1,0) -> 0
B12: =IF(D12=D11,B11+1,1) -> 8 | C12: 17 | D12: 1 | E12: 8 | F12: =VLOOKUP(E12,$C$5:$D$180,2,FALSE) -> 1 | G12: D | H12: =IF(AND('Math Grids'!C24>="A",'Math Grids'!C24<="E"),'Math Grids'!C24,"") | I12: =IF(H12<>"",1,0) -> 0 | J12: =IF(AND(I12=1,G12=H12),1,0) -> 0 | L12: =IF(N12=N11,L11+1,1) -> 8 | M12: 36 | N12: 1 | O12: 8 | P12: =VLOOKUP(O12,$M$5:$N$180,2,FALSE) -> 1 | Q12: C | R12: =IF(AND('Math Grids'!H24>="A",'Math Grids'!H24<="E"),'Math Grids'!H24,"") | S12: =IF(R12<>"",1,0) -> 0 | T12: =IF(AND(S12=1,Q12=R12),1,0) -> 0
B13: =IF(D13=D12,B12+1,1) -> 9 | C13: 19 | D13: 1 | E13: 9 | F13: =VLOOKUP(E13,$C$5:$D$180,2,FALSE) -> 1 | G13: B | H13: =IF(AND('Math Grids'!C25>="A",'Math Grids'!C25<="E"),'Math Grids'!C25,"") | I13: =IF(H13<>"",1,0) -> 0 | J13: =IF(AND(I13=1,G13=H13),1,0) -> 0 | L13: =IF(N13=N12,L12+1,1) -> 9 | M13: 49 | N13: 1 | O13: 9 | P13: =VLOOKUP(O13,$M$5:$N$180,2,FALSE) -> 5 | Q13: D | R13: =IF(AND('Math Grids'!H25>="A",'Math Grids'!H25<="E"),'Math Grids'!H25,"") | S13: =IF(R13<>"",1,0) -> 0 | T13: =IF(AND(S13=1,Q13=R13),1,0) -> 0
B14: =IF(D14=D13,B13+1,1) -> 10 | C14: 26 | D14: 1 | E14: 10 | F14: =VLOOKUP(E14,$C$5:$D$180,2,FALSE) -> 1 | G14: D | H14: =IF(AND('Math Grids'!C26>="A",'Math Grids'!C26<="E"),'Math Grids'!C26,"") | I14: =IF(H14<>"",1,0) -> 0 | J14: =IF(AND(I14=1,G14=H14),1,0) -> 0 | L14: =IF(N14=N13,L13+1,1) -> 10 | M14: 53 | N14: 1 | O14: 10 | P14: =VLOOKUP(O14,$M$5:$N$180,2,FALSE) -> 1 | Q14: E | R14: =IF(AND('Math Grids'!H26>="A",'Math Grids'!H26<="E"),'Math Grids'!H26,"") | S14: =IF(R14<>"",1,0) -> 0 | T14: =IF(AND(S14=1,Q14=R14),1,0) -> 0
B15: =IF(D15=D14,B14+1,1) -> 11 | C15: 27 | D15: 1 | E15: 11 | F15: =VLOOKUP(E15,$C$5:$D$180,2,FALSE) -> 5 | G15: B | H15: =IF(AND('Math Grids'!C27>="A",'Math Grids'!C27<="E"),'Math Grids'!C27,"") | I15: =IF(H15<>"",1,0) -> 0 | J15: =IF(AND(I15=1,G15=H15),1,0) -> 0 | L15: =IF(N15=N14,L14+1,1) -> 11 | M15: 77 | N15: 1 | O15: 11 | P15: =VLOOKUP(O15,$M$5:$N$180,2,FALSE) -> 4 | Q15: E | R15: =IF(AND('Math Grids'!H27>="A",'Math Grids'!H27<="E"),'Math Grids'!H27,"") | S15: =IF(R15<>"",1,0) -> 0 | T15: =IF(AND(S15=1,Q15=R15),1,0) -> 0
B16: =IF(D16=D15,B15+1,1) -> 12 | C16: 29 | D16: 1 | E16: 12 | F16: =VLOOKUP(E16,$C$5:$D$180,2,FALSE) -> 1 | G16: D | H16: =IF(AND('Math Grids'!C28>="A",'Math Grids'!C28<="E"),'Math Grids'!C28,"") | I16: =IF(H16<>"",1,0) -> 0 | J16: =IF(AND(I16=1,G16=H16),1,0) -> 0 | L16: =IF(N16=N15,L15+1,1) -> 12 | M16: 93 | N16: 1 | O16: 12 | P16: =VLOOKUP(O16,$M$5:$N$180,2,FALSE) -> 1 | Q16: E | R16: =IF(AND('Math Grids'!H28>="A",'Math Grids'!H28<="E"),'Math Grids'!H28,"") | S16: =IF(R16<>"",1,0) -> 0 | T16: =IF(AND(S16=1,Q16=R16),1,0) -> 0
... B128: =IF(D128=D127,B127+1,1) -> 19 | C128: 69 | D128: 5 | E128: 124 | F128: =VLOOKUP(E128,$C$5:$D$180,2,FALSE) -> 5 | G128: E | H128: =IF(AND('Math Grids'!C140>="A",'Math Grids'!C140<="E"),'Math Grids'!C140,"") | I128: =IF(H128<>"",1,0) -> 0 | J128: =IF(AND(I128=1,G128=H128),1,0) -> 0 | L128: =IF(N128=N127,L127+1,1) -> 1 | M128: 122 | N128: 9 | O128: 124 | P128: =VLOOKUP(O128,$M$5:$N$180,2,FALSE) -> 3 | Q128: A | R128: =IF(AND('Math Grids'!H140>="A",'Math Grids'!H140<="E"),'Math Grids'!H140,"") | S128: =IF(R128<>"",1,0) -> 0 | T128: =IF(AND(S128=1,Q128=R128),1,0) -> 0
B129: =IF(D129=D128,B128+1,1) -> 20 | C129: 73 | D129: 5 | E129: 125 | F129: =VLOOKUP(E129,$C$5:$D$180,2,FALSE) -> 6 | G129: C | H129: =IF(AND('Math Grids'!C141>="A",'Math Grids'!C141<="E"),'Math Grids'!C141,"") | I129: =IF(H129<>"",1,0) -> 0 | J129: =IF(AND(I129=1,G129=H129),1,0) -> 0
B130: =IF(D130=D129,B129+1,1) -> 21 | C130: 75 | D130: 5 | E130: 126 | F130: =VLOOKUP(E130,$C$5:$D$180,2,FALSE) -> 1 | G130: B | H130: =IF(AND('Math Grids'!C142>="A",'Math Grids'!C142<="E"),'Math Grids'!C142,"") | I130: =IF(H130<>"",1,0) -> 0 | J130: =IF(AND(I130=1,G130=H130),1,0) -> 0
B131: =IF(D131=D130,B130+1,1) -> 22 | C131: 87 | D131: 5 | E131: 127 | F131: =VLOOKUP(E131,$C$5:$D$180,2,FALSE) -> 5 | G131: C | H131: =IF(AND('Math Grids'!C143>="A",'Math Grids'!C143<="E"),'Math Grids'!C143,"") | I131: =IF(H131<>"",1,0) -> 0 | J131: =IF(AND(I131=1,G131=H131),1,0) -> 0
B132: =IF(D132=D131,B131+1,1) -> 23 | C132: 90 | D132: 5 | E132: 128 | F132: =VLOOKUP(E132,$C$5:$D$180,2,FALSE) -> 3 | G132: A | H132: =IF(AND('Math Grids'!C144>="A",'Math Grids'!C144<="E"),'Math Grids'!C144,"") | I132: =IF(H132<>"",1,0) -> 0 | J132: =IF(AND(I132=1,G132=H132),1,0) -> 0
B133: =IF(D133=D132,B132+1,1) -> 24 | C133: 114 | D133: 5 | E133: 129 | F133: =VLOOKUP(E133,$C$5:$D$180,2,FALSE) -> 7 | G133: B | H133: =IF(AND('Math Grids'!C145>="A",'Math Grids'!C145<="E"),'Math Grids'!C145,"") | I133: =IF(H133<>"",1,0) -> 0 | J133: =IF(AND(I133=1,G133=H133),1,0) -> 0
B134: =IF(D134=D133,B133+1,1) -> 25 | C134: 115 | D134: 5 | E134: 130 | F134: =VLOOKUP(E134,$C$5:$D$180,2,FALSE) -> 5 | G134: D | H134: =IF(AND('Math Grids'!C146>="A",'Math Grids'!C146<="E"),'Math Grids'!C146,"") | I134: =IF(H134<>"",1,0) -> 0 | J134: =IF(AND(I134=1,G134=H134),1,0) -> 0
B135: =IF(D135=D134,B134+1,1) -> 26 | C135: 118 | D135: 5 | E135: 131 | F135: =VLOOKUP(E135,$C$5:$D$180,2,FALSE) -> 5 | G135: D | H135: =IF(AND('Math Grids'!C147>="A",'Math Grids'!C147<="E"),'Math Grids'!C147,"") | I135: =IF(H135<>"",1,0) -> 0 | J135: =IF(AND(I135=1,G135=H135),1,0) -> 0
B136: =IF(D136=D135,B135+1,1) -> 27 | C136: 119 | D136: 5 | E136: 132 | F136: =VLOOKUP(E136,$C$5:$D$180,2,FALSE) -> 8 | G136: B | H136: =IF(AND('Math Grids'!C148>="A",'Math Grids'!C148<="E"),'Math Grids'!C148,"") | I136: =IF(H136<>"",1,0) -> 0 | J136: =IF(AND(I136=1,G136=H136),1,0) -> 0
B137: =IF(D137=D136,B136+1,1) -> 28 | C137: 120 | D137: 5 | E137: 133 | F137: =VLOOKUP(E137,$C$5:$D$180,2,FALSE) -> 3 | G137: D | H137: =IF(AND('Math Grids'!C149>="A",'Math Grids'!C149<="E"),'Math Grids'!C149,"") | I137: =IF(H137<>"",1,0) -> 0 | J137: =IF(AND(I137=1,G137=H137),1,0) -> 0
B138: =IF(D138=D137,B137+1,1) -> 29 | C138: 124 | D138: 5 | E138: 134 | F138: =VLOOKUP(E138,$C$5:$D$180,2,FALSE) -> 3 | G138: C | H138: =IF(AND('Math Grids'!C150>="A",'Math Grids'!C150<="E"),'Math Grids'!C150,"") | I138: =IF(H138<>"",1,0) -> 0 | J138: =IF(AND(I138=1,G138=H138),1,0) -> 0
B139: =IF(D139=D138,B138+1,1) -> 30 | C139: 127 | D139: 5 | E139: 135 | F139: =VLOOKUP(E139,$C$5:$D$180,2,FALSE) -> 4 | G139: B | H139: =IF(AND('Math Grids'!C151>="A",'Math Grids'!C151<="E"),'Math Grids'!C151,"") | I139: =IF(H139<>"",1,0) -> 0 | J139: =IF(AND(I139=1,G139=H139),1,0) -> 0
B140: =IF(D140=D139,B139+1,1) -> 31 | C140: 130 | D140: 5 | E140: 136 | F140: =VLOOKUP(E140,$C$5:$D$180,2,FALSE) -> 5 | G140: B | H140: =IF(AND('Math Grids'!C152>="A",'Math Grids'!C152<="E"),'Math Grids'!C152,"") | I140: =IF(H140<>"",1,0) -> 0 | J140: =IF(AND(I140=1,G140=H140),1,0) -> 0
... B180: =IF(D180=D179,B179+1,1) -> 2 | C180: 160 | D180: 9 | E180: 176 | F180: =VLOOKUP(E180,$C$5:$D$180,2,FALSE) -> 1 | G180: B | H180: =IF(AND('Math Grids'!C192>="A",'Math Grids'!C192<="E"),'Math Grids'!C192,"") | I180: =IF(H180<>"",1,0) -> 0 | J180: =IF(AND(I180=1,G180=H180),1,0) -> 0
B183: Flag

Sheet WEIGHTS
C2: # of problems per drill | D2: 37
C3: # of drills | D3: 8
C4: # of questions to be used | D4: =D2*D3 -> 296
C5: # of questions to dismiss | D5: =300-D4 -> 4
D7: Problem Solving | F7: Data Suficiency | H7: Total | K7: # to dismiss
B8: ID | D8: # of Problems | E8: % of Section | F8: # of Problems | G8: % of Section | H8: # of Problems | I8: % of Total | K8: P.S. | L8: D.S | M8: Total
B9: 1 | C9: Arithmetic | D9: =COUNTIF(ANS!$F$5:$F$180,B9) -> 45 | E9: =D9/$D$18 -> 0.25568182 | F9: =COUNTIF(ANS!$P$5:$P$128,B9) -> 14 | G9: =F9/$F$18 -> 0.11290323 | H9: =D9+F9 -> 59 | I9: =H9/$H$18 -> 0.19666667 | K9: 1 | L9: 0 | M9: =L9+K9 -> 1
B10: 2 | C10: Powers & Roots | D10: =COUNTIF(ANS!$F$5:$F$180,B10) -> 9 | E10: =D10/$D$18 -> 0.051136364 | F10: =COUNTIF(ANS!$P$5:$P$128,B10) -> 6 | G10: =F10/$F$18 -> 0.048387097 | H10: =D10+F10 -> 15 | I10: =H10/$H$18 -> 0.05 | K10: 0 | L10: 0 | M10: =L10+K10 -> 0
B11: 3 | C11: Algebra & Equations | D11: =COUNTIF(ANS!$F$5:$F$180,B11) -> 32 | E11: =D11/$D$18 -> 0.18181818 | F11: =COUNTIF(ANS!$P$5:$P$128,B11) -> 35 | G11: =F11/$F$18 -> 0.28225806 | H11: =D11+F11 -> 67 | I11: =H11/$H$18 -> 0.22333333 | K11: 0 | L11: 1 | M11: =L11+K11 -> 1
B12: 4 | C12: Geometry | D12: =COUNTIF(ANS!$F$5:$F$180,B12) -> 19 | E12: =D12/$D$18 -> 0.10795455 | F12: =COUNTIF(ANS!$P$5:$P$128,B12) -> 16 | G12: =F12/$F$18 -> 0.12903226 | H12: =D12+F12 -> 35 | I12: =H12/$H$18 -> 0.11666667 | K12: 1 | L12: 0 | M12: =L12+K12 -> 1
B13: 5 | C13: Word Problems | D13: =COUNTIF(ANS!$F$5:$F$180,B13) -> 43 | E13: =D13/$D$18 -> 0.24431818 | F13: =COUNTIF(ANS!$P$5:$P$128,B13) -> 26 | G13: =F13/$F$18 -> 0.20967742 | H13: =D13+F13 -> 69 | I13: =H13/$H$18 -> 0.23 | K13: 1 | L13: 0 | M13: =L13+K13 -> 1
B14: 6 | C14: Integer Properties | D14: =COUNTIF(ANS!$F$5:$F$180,B14) -> 13 | E14: =D14/$D$18 -> 0.073863636 | F14: =COUNTIF(ANS!$P$5:$P$128,B14) -> 16 | G14: =F14/$F$18 -> 0.12903226 | H14: =D14+F14 -> 29 | I14: =H14/$H$18 -> 0.096666667 | K14: 0 | L14: 0 | M14: =L14+K14 -> 0
B15: 7 | C15: Statistics | D15: =COUNTIF(ANS!$F$5:$F$180,B15) -> 11 | E15: =D15/$D$18 -> 0.0625 | F15: =COUNTIF(ANS!$P$5:$P$128,B15) -> 10 | G15: =F15/$F$18 -> 0.080645161 | H15: =D15+F15 -> 21 | I15: =H15/$H$18 -> 0.07 | K15: 0 | L15: 0 | M15: =L15+K15 -> 0
B16: 8 | C16: Counting | D16: =COUNTIF(ANS!$F$5:$F$180,B16) -> 2 | E16: =D16/$D$18 -> 0.011363636 | F16: =COUNTIF(ANS!$P$5:$P$128,B16) -> 0 | G16: =F16/$F$18 -> 0 | H16: =D16+F16 -> 2 | I16: =H16/$H$18 -> 0.0066666667 | K16: 0 | L16: 0 | M16: =L16+K16 -> 0
B17: 9 | C17: Probability | D17: =COUNTIF(ANS!$F$5:$F$180,B17) -> 2 | E17: =D17/$D$18 -> 0.011363636 | F17: =COUNTIF(ANS!$P$5:$P$128,B17) -> 1 | G17: =F17/$F$18 -> 0.0080645161 | H17: =D17+F17 -> 3 | I17: =H17/$H$18 -> 0.01 | K17: 0 | L17: 0 | M17: =L17+K17 -> 0
C18: TOTAL | D18: =SUM(D9:D17) -> 176 | E18: =SUM(E9:E17) -> 1 | F18: =SUM(F9:F17) -> 124 | G18: =SUM(G9:G17) -> 1 | H18: =SUM(H9:H17) -> 300 | I18: =SUM(I9:I17) -> 1 | K18: =SUM(K9:K17) -> 3 | L18: =SUM(L9:L17) -> 1 | M18: =SUM(M9:M17) -> 4
D20: Bucket Size
B21: ID | D21: P.S. | E21: % of Bucket | F21: D.S | G21: % of Bucket | H21: Total | I21: Weight
B22: 1 | C22: Arithmetic | D22: =D9-K9 -> 44 | E22: =D22/H22 -> 0.75862069 | F22: =F9-L9 -> 14 | G22: =F22/H22 -> 0.24137931 | H22: =D22+F22 -> 58 | I22: =H22/$H$31 -> 0.19594595
B23: 2 | C23: Powers & Roots | D23: =D10-K10 -> 9 | E23: =D23/H23 -> 0.6 | F23: =F10-L10 -> 6 | G23: =F23/H23 -> 0.4 | H23: =D23+F23 -> 15 | I23: =H23/$H$31 -> 0.050675676
B24: 3 | C24: Algebra & Equations | D24: =D11-K11 -> 32 | E24: =D24/H24 -> 0.48484848 | F24: =F11-L11 -> 34 | G24: =F24/H24 -> 0.51515152 | H24: =D24+F24 -> 66 | I24: =H24/$H$31 -> 0.22297297
B25: 4 | C25: Geometry | D25: =D12-K12 -> 18 | E25: =D25/H25 -> 0.52941176 | F25: =F12-L12 -> 16 | G25: =F25/H25 -> 0.47058824 | H25: =D25+F25 -> 34 | I25: =H25/$H$31 -> 0.11486486
B26: 5 | C26: Word Problems | D26: =D13-K13 -> 42 | E26: =D26/H26 -> 0.61764706 | F26: =F13-L13 -> 26 | G26: =F26/H26 -> 0.38235294 | H26: =D26+F26 -> 68 | I26: =H26/$H$31 -> 0.22972973
B27: 6 | C27: Integer Properties | D27: =D14-K14 -> 13 | E27: =D27/H27 -> 0.44827586 | F27: =F14-L14 -> 16 | G27: =F27/H27 -> 0.55172414 | H27: =D27+F27 -> 29 | I27: =H27/$H$31 -> 0.097972973
B28: 7 | C28: Statistics | D28: =D15-K15 -> 11 | E28: =D28/H28 -> 0.52380952 | F28: =F15-L15 -> 10 | G28: =F28/H28 -> 0.47619048 | H28: =D28+F28 -> 21 | I28: =H28/$H$31 -> 0.070945946
B29: 8 | C29: Counting | D29: =D16-K16 -> 2 | E29: =D29/H29 -> 1 | F29: =F16-L16 -> 0 | G29: =F29/H29 -> 0 | H29: =D29+F29 -> 2 | I29: =H29/$H$31 -> 0.0067567568
B30: 9 | C30: Probability | D30: =D17-K17 -> 2 | E30: =D30/H30 -> 0.66666667 | F30: =F17-L17 -> 1 | G30: =F30/H30 -> 0.33333333 | H30: =D30+F30 -> 3 | I30: =H30/$H$31 -> 0.010135135
D31: =SUM(D22:D30) -> 173 | F31: =SUM(F22:F30) -> 123 | H31: =SUM(H22:H30) -> 296 | I31: =SUM(I22:I30) -> 1
D34: Total questions per drill
B35: ID | D35: 1 | E35: 2 | F35: 3 | G35: 4 | H35: 5 | I35: 6 | J35: 7 | K35: 8 | L35: Total | M35: Check
B36: 1 | C36: Arithmetic | D36: 8 | E36: =ROUND($I22*$D$2,0) -> 7 | F36: =ROUND($I22*$D$2,0) -> 7 | G36: =ROUND($I22*$D$2,0) -> 7 | H36: =ROUND($I22*$D$2,0) -> 7 | I36: =ROUND($I22*$D$2,0) -> 7 | J36: =ROUND($I22*$D$2,0) -> 7 | K36: 8 | L36: =SUM(D36:K36) -> 58 | M36: =H22-L36 -> 0
B37: 2 | C37: Powers & Roots | D37: =ROUND($I23*$D$2,0) -> 2 | E37: =ROUND($I23*$D$2,0) -> 2 | F37: =ROUND($I23*$D$2,0) -> 2 | G37: =ROUND($I23*$D$2,0) -> 2 | H37: =ROUND($I23*$D$2,0) -> 2 | I37: =ROUND($I23*$D$2,0) -> 2 | J37: =ROUND($I23*$D$2,0) -> 2 | K37: 1 | L37: =SUM(D37:K37) -> 15 | M37: =H23-L37 -> 0
B38: 3 | C38: Algebra & Equations | D38: =ROUND($I24*$D$2,0) -> 8 | E38: =ROUND($I24*$D$2,0) -> 8 | F38: =ROUND($I24*$D$2,0) -> 8 | G38: 9 | H38: =ROUND($I24*$D$2,0) -> 8 | I38: 9 | J38: =ROUND($I24*$D$2,0) -> 8 | K38: =ROUND($I24*$D$2,0) -> 8 | L38: =SUM(D38:K38) -> 66 | M38: =H24-L38 -> 0
B39: 4 | C39: Geometry | D39: =ROUND($I25*$D$2,0) -> 4 | E39: =ROUND($I25*$D$2,0) -> 4 | F39: =ROUND($I25*$D$2,0) -> 4 | G39: =ROUND($I25*$D$2,0) -> 4 | H39: =ROUND($I25*$D$2,0) -> 4 | I39: =ROUND($I25*$D$2,0) -> 4 | J39: =ROUND($I25*$D$2,0) -> 4 | K39: 6 | L39: =SUM(D39:K39) -> 34 | M39: =H25-L39 -> 0
B40: 5 | C40: Word Problems | D40: =ROUND($I26*$D$2,0) -> 9 | E40: 8 | F40: =ROUND($I26*$D$2,0) -> 9 | G40: 8 | H40: =ROUND($I26*$D$2,0) -> 9 | I40: 8 | J40: =ROUND($I26*$D$2,0) -> 9 | K40: 8 | L40: =SUM(D40:K40) -> 68 | M40: =H26-L40 -> 0
B41: 6 | C41: Integer Properties | D41: 3 | E41: =ROUND($I27*$D$2,0) -> 4 | F41: 3 | G41: =ROUND($I27*$D$2,0) -> 4 | H41: 3 | I41: =ROUND($I27*$D$2,0) -> 4 | J41: =ROUND($I27*$D$2,0) -> 4 | K41: =ROUND($I27*$D$2,0) -> 4 | L41: =SUM(D41:K41) -> 29 | M41: =H27-L41 -> 0
B42: 7 | C42: Statistics | D42: =ROUND($I28*$D$2,0) -> 3 | E42: =ROUND($I28*$D$2,0) -> 3 | F42: =ROUND($I28*$D$2,0) -> 3 | G42: 2 | H42: =ROUND($I28*$D$2,0) -> 3 | I42: 2 | J42: =ROUND($I28*$D$2,0) -> 3 | K42: 2 | L42: =SUM(D42:K42) -> 21 | M42: =H28-L42 -> 0
B43: 8 | C43: Counting | D43: =ROUND($I29*$D$2,0) -> 0 | E43: =ROUND($I29*$D$2,0) -> 0 | F43: 1 | G43: =ROUND($I29*$D$2,0) -> 0 | H43: 1 | I43: =ROUND($I29*$D$2,0) -> 0 | J43: =ROUND($I29*$D$2,0) -> 0 | K43: =ROUND($I29*$D$2,0) -> 0 | L43: =SUM(D43:K43) -> 2 | M43: =H29-L43 -> 0
B44: 9 | C44: Probability | D44: =ROUND($I30*$D$2,0) -> 0 | E44: 1 | F44: =ROUND($I30*$D$2,0) -> 0 | G44: 1 | H44: =ROUND($I30*$D$2,0) -> 0 | I44: 1 | J44: =ROUND($I30*$D$2,0) -> 0 | K44: =ROUND($I30*$D$2,0) -> 0 | L44: =SUM(D44:K44) -> 3 | M44: =H30-L44 -> 0
D45: =SUM(D36:D44) -> 37 | E45: =SUM(E36:E44) -> 37 | F45: =SUM(F36:F44) -> 37 | G45: =SUM(G36:G44) -> 37 | H45: =SUM(H36:H44) -> 37 | I45: =SUM(I36:I44) -> 37 | J45: =SUM(J36:J44) -> 37 | K45: =SUM(K36:K44) -> 37 | L45: =SUM(L36:L44) -> 296 | M45: =H31-L45 -> 0
D47: Problem solving questions per drill
B48: ID | D48: 1 | E48: 2 | F48: 3 | G48: 4 | H48: 5 | I48: 6 | J48: 7 | K48: 8 | L48: Total | M48: Check
B49: 1 | C49: Arithmetic | D49: =ROUND($E22*D36,0) -> 6 | E49: =ROUND($E22*E36,0) -> 5 | F49: 6 | G49: =ROUND($E22*G36,0) -> 5 | H49: 6 | I49: =ROUND($E22*I36,0) -> 5 | J49: =ROUND($E22*J36,0) -> 5 | K49: =ROUND($E22*K36,0) -> 6 | L49: =SUM(D49:K49) -> 44 | M49: =D22-L49 -> 0
B50: 2 | C50: Powers & Roots | D50: =ROUND($E23*D37,0) -> 1 | E50: =ROUND($E23*E37,0) -> 1 | F50: =ROUND($E23*F37,0) -> 1 | G50: 2 | H50: =ROUND($E23*H37,0) -> 1 | I50: =ROUND($E23*I37,0) -> 1 | J50: =ROUND($E23*J37,0) -> 1 | K50: =ROUND($E23*K37,0) -> 1 | L50: =SUM(D50:K50) -> 9 | M50: =D23-L50 -> 0
B51: 3 | C51: Algebra & Equations | D51: =ROUND($E24*D38,0) -> 4 | E51: =ROUND($E24*E38,0) -> 4 | F51: =ROUND($E24*F38,0) -> 4 | G51: =ROUND($E24*G38,0) -> 4 | H51: =ROUND($E24*H38,0) -> 4 | I51: =ROUND($E24*I38,0) -> 4 | J51: =ROUND($E24*J38,0) -> 4 | K51: =ROUND($E24*K38,0) -> 4 | L51: =SUM(D51:K51) -> 32 | M51: =D24-L51 -> 0
B52: 4 | C52: Geometry | D52: =ROUND($E25*D39,0) -> 2 | E52: 3 | F52: =ROUND($E25*F39,0) -> 2 | G52: =ROUND($E25*G39,0) -> 2 | H52: =ROUND($E25*H39,0) -> 2 | I52: =ROUND($E25*I39,0) -> 2 | J52: =ROUND($E25*J39,0) -> 2 | K52: =ROUND($E25*K39,0) -> 3 | L52: =SUM(D52:K52) -> 18 | M52: =D25-L52 -> 0
B53: 5 | C53: Word Problems | D53: 5 | E53: =ROUND($E26*E40,0) -> 5 | F53: =ROUND($E26*F40,0) -> 6 | G53: =ROUND($E26*G40,0) -> 5 | H53: 5 | I53: =ROUND($E26*I40,0) -> 5 | J53: =ROUND($E26*J40,0) -> 6 | K53: =ROUND($E26*K40,0) -> 5 | L53: =SUM(D53:K53) -> 42 | M53: =D26-L53 -> 0
B54: 6 | C54: Integer Properties | D54: =ROUND($E27*D41,0) -> 1 | E54: =ROUND($E27*E41,0) -> 2 | F54: =ROUND($E27*F41,0) -> 1 | G54: =ROUND($E27*G41,0) -> 2 | H54: =ROUND($E27*H41,0) -> 1 | I54: =ROUND($E27*I41,0) -> 2 | J54: =ROUND($E27*J41,0) -> 2 | K54: =ROUND($E27*K41,0) -> 2 | L54: =SUM(D54:K54) -> 13 | M54: =D27-L54 -> 0
B55: 7 | C55: Statistics | D55: 1 | E55: =ROUND($E28*E42,0) -> 2 | F55: 1 | G55: =ROUND($E28*G42,0) -> 1 | H55: =ROUND($E28*H42,0) -> 2 | I55: =ROUND($E28*I42,0) -> 1 | J55: =ROUND($E28*J42,0) -> 2 | K55: =ROUND($E28*K42,0) -> 1 | L55: =SUM(D55:K55) -> 11 | M55: =D28-L55 -> 0
B56: 8 | C56: Counting | D56: =ROUND($E29*D43,0) -> 0 | E56: =ROUND($E29*E43,0) -> 0 | F56: =ROUND($E29*F43,0) -> 1 | G56: =ROUND($E29*G43,0) -> 0 | H56: =ROUND($E29*H43,0) -> 1 | I56: =ROUND($E29*I43,0) -> 0 | J56: =ROUND($E29*J43,0) -> 0 | K56: =ROUND($E29*K43,0) -> 0 | L56: =SUM(D56:K56) -> 2 | M56: =D29-L56 -> 0
B57: 9 | C57: Probability | D57: =ROUND($E30*D44,0) -> 0 | E57: =ROUND($E30*E44,0) -> 1 | F57: =ROUND($E30*F44,0) -> 0 | G57: 0 | H57: =ROUND($E30*H44,0) -> 0 | I57: =ROUND($E30*I44,0) -> 1 | J57: =ROUND($E30*J44,0) -> 0 | K57: =ROUND($E30*K44,0) -> 0 | L57: =SUM(D57:K57) -> 2 | M57: =D30-L57 -> 0
D58: =SUM(D49:D57) -> 20 | E58: =SUM(E49:E57) -> 23 | F58: =SUM(F49:F57) -> 22 | G58: =SUM(G49:G57) -> 21 | H58: =SUM(H49:H57) -> 22 | I58: =SUM(I49:I57) -> 21 | J58: =SUM(J49:J57) -> 22 | K58: =SUM(K49:K57) -> 22 | L58: =SUM(L49:L57) -> 173 | M58: =D31-L58 -> 0
D60: Data sufficiency questions per drill
B61: ID | D61: 1 | E61: 2 | F61: 3 | G61: 4 | H61: 5 | I61: 6 | J61: 7 | K61: 8 | L61: Total | M61: Check
B62: 1 | C62: Arithmetic | D62: =D36-D49 -> 2 | E62: =E36-E49 -> 2 | F62: =F36-F49 -> 1 | G62: =G36-G49 -> 2 | H62: =H36-H49 -> 1 | I62: =I36-I49 -> 2 | J62: =J36-J49 -> 2 | K62: =K36-K49 -> 2 | L62: =SUM(D62:K62) -> 14 | M62: =F22-L62 -> 0
B63: 2 | C63: Powers & Roots | D63: =D37-D50 -> 1 | E63: =E37-E50 -> 1 | F63: =F37-F50 -> 1 | G63: =G37-G50 -> 0 | H63: =H37-H50 -> 1 | I63: =I37-I50 -> 1 | J63: =J37-J50 -> 1 | K63: =K37-K50 -> 0 | L63: =SUM(D63:K63) -> 6 | M63: =F23-L63 -> 0
B64: 3 | C64: Algebra & Equations | D64: =D38-D51 -> 4 | E64: =E38-E51 -> 4 | F64: =F38-F51 -> 4 | G64: =G38-G51 -> 5 | H64: =H38-H51 -> 4 | I64: =I38-I51 -> 5 | J64: =J38-J51 -> 4 | K64: =K38-K51 -> 4 | L64: =SUM(D64:K64) -> 34 | M64: =F24-L64 -> 0
B65: 4 | C65: Geometry | D65: =D39-D52 -> 2 | E65: =E39-E52 -> 1 | F65: =F39-F52 -> 2 | G65: =G39-G52 -> 2 | H65: =H39-H52 -> 2 | I65: =I39-I52 -> 2 | J65: =J39-J52 -> 2 | K65: =K39-K52 -> 3 | L65: =SUM(D65:K65) -> 16 | M65: =F25-L65 -> 0
B66: 5 | C66: Word Problems | D66: =D40-D53 -> 4 | E66: =E40-E53 -> 3 | F66: =F40-F53 -> 3 | G66: =G40-G53 -> 3 | H66: =H40-H53 -> 4 | I66: =I40-I53 -> 3 | J66: =J40-J53 -> 3 | K66: =K40-K53 -> 3 | L66: =SUM(D66:K66) -> 26 | M66: =F26-L66 -> 0
B67: 6 | C67: Integer Properties | D67: =D41-D54 -> 2 | E67: =E41-E54 -> 2 | F67: =F41-F54 -> 2 | G67: =G41-G54 -> 2 | H67: =H41-H54 -> 2 | I67: =I41-I54 -> 2 | J67: =J41-J54 -> 2 | K67: =K41-K54 -> 2 | L67: =SUM(D67:K67) -> 16 | M67: =F27-L67 -> 0
B68: 7 | C68: Statistics | D68: =D42-D55 -> 2 | E68: =E42-E55 -> 1 | F68: =F42-F55 -> 2 | G68: =G42-G55 -> 1 | H68: =H42-H55 -> 1 | I68: =I42-I55 -> 1 | J68: =J42-J55 -> 1 | K68: =K42-K55 -> 1 | L68: =SUM(D68:K68) -> 10 | M68: =F28-L68 -> 0
B69: 8 | C69: Counting | D69: =D43-D56 -> 0 | E69: =E43-E56 -> 0 | F69: =F43-F56 -> 0 | G69: =G43-G56 -> 0 | H69: =H43-H56 -> 0 | I69: =I43-I56 -> 0 | J69: =J43-J56 -> 0 | K69: =K43-K56 -> 0 | L69: =SUM(D69:K69) -> 0 | M69: =F29-L69 -> 0
B70: 9 | C70: Probability | D70: =D44-D57 -> 0 | E70: =E44-E57 -> 0 | F70: =F44-F57 -> 0 | G70: =G44-G57 -> 1 | H70: =H44-H57 -> 0 | I70: =I44-I57 -> 0 | J70: =J44-J57 -> 0 | K70: =K44-K57 -> 0 | L70: =SUM(D70:K70) -> 1 | M70: =F30-L70 -> 0
D71: =SUM(D62:D70) -> 17 | E71: =SUM(E62:E70) -> 14 | F71: =SUM(F62:F70) -> 15 | G71: =SUM(G62:G70) -> 16 | H71: =SUM(H62:H70) -> 15 | I71: =SUM(I62:I70) -> 16 | J71: =SUM(J62:J70) -> 15 | K71: =SUM(K62:K70) -> 15 | L71: =SUM(L62:L70) -> 123 | M71: =F31-L71 -> 0

Sheet DRILLS
B2: Problem Solving | AC2: Data Sufficiency
B4: Question tally per module | J4: Random Drill Generator | AC4: Question tally per module | AK4: Random Drill Generator
B5: Module | C5: Drawn Question | D5: Is Available? | E5: Avail. Question Bucket | F5: Grouped Avail. | G5: Avail. Per Module | H5: Disscarded Per Module | AC5: Module | AD5: Drawn Question | AE5: Is Available? | AF5: Avail. Question Bucket | AG5: Grouped Avail. | AH5: Avail. Per Module | AI5: Disscarded Per Module
B6: 1 | C6: =IFERROR(HLOOKUP(ANS!C5,$M$21:$R$21,1,FALSE),0)+IFERROR(HLOOKUP(ANS!C5,$M$31:$R$31,1,FALSE),0)+IFERROR(HLOOKUP(ANS!C5,$M$41:$R$41,1,FALSE),0)+IFERROR(HLOOKUP(ANS!C5,$M$51:$R$51,1,FALSE),0)+IFERROR(HLOOKUP(ANS!C5,$M$61:$R$61,1,FALSE),0)+IFERROR(HLOOKUP(ANS!C5,$M$71:$R$71,1,FALSE),0)+IFERROR(HLOOKUP(ANS!C5,$M$81:$R$81,1,FALSE),0) -> 4 | D6: =IF(C6>=ANS!C5,0,1) -> 0 | E6: =IF(D6,ANS!C5,"") | F6: =IFERROR(SMALL($E$6:$E$50,ANS!B5),"") -> 14 | G6: =COUNT(F6:F50) -> 7 | H6: =G6-L91 -> 1 | J6: Drill | K6: Unique | L6: Random | M6: Populated | N6: Run | O6: Populate | Q6: Reset/Run | R6: Check | AC6: 1 | AD6: =IFERROR(HLOOKUP(ANS!M5,$AN$21:$AS$21,1,FALSE),0)+IFERROR(HLOOKUP(ANS!M5,$AN$31:$AS$31,1,FALSE),0)+IFERROR(HLOOKUP(ANS!M5,$AN$41:$AS$41,1,FALSE),0)+IFERROR(HLOOKUP(ANS!M5,$AN$51:$AS$51,1,FALSE),0)+IFERROR(HLOOKUP(ANS!M5,$AN$61:$AS$61,1,FALSE),0)+IFERROR(HLOOKUP(ANS!M5,$AN$71:$AS$71,1,FALSE),0)+IFERROR(HLOOKUP(ANS!M5,$AN$81:$AS$81,1,FALSE),0) -> 8 | AE6: =IF(AD6>=ANS!M5,0,1) -> 0 | AF6: =IF(AE6,ANS!M5,"") | AG6: =IFERROR(SMALL($AF$6:$AF$19,ANS!L5),"") -> 12 | AH6: =COUNT(AG6:AG19) -> 2 | AI6: =AH6-AM91 -> 0 | AK6: Drill | AL6: Unique | AM6: Random | AN6: Populated | AO6: Run | AP6: Populate | AR6: Reset/Run | AS6: Check
B7: =B6 -> 1 | C7: =IFERROR(HLOOKUP(ANS!C6,$M$21:$R$21,1,FALSE),0)+IFERROR(HLOOKUP(ANS!C6,$M$31:$R$31,1,FALSE),0)+IFERROR(HLOOKUP(ANS!C6,$M$41:$R$41,1,FALSE),0)+IFERROR(HLOOKUP(ANS!C6,$M$51:$R$51,1,FALSE),0)+IFERROR(HLOOKUP(ANS!C6,$M$61:$R$61,1,FALSE),0)+IFERROR(HLOOKUP(ANS!C6,$M$71:$R$71,1,FALSE),0)+IFERROR(HLOOKUP(ANS!C6,$M$81:$R$81,1,FALSE),0) -> 6 | D7: =IF(C7>=ANS!C6,0,1) -> 0 | E7: =IF(D7,ANS!C6,"") | F7: =IFERROR(SMALL($E$6:$E$50,ANS!B6),"") -> 17 | J7: 1 | K7: =IFERROR(IF(SUM(S21:S29)=0,1,0),0) -> 1 | L7: =IFERROR(IF(AND(S20=0,M7=1),1,0),1) -> 1 | M7: =IFERROR(IF(SUM($M$21:$R$29)=0,0,1),1) -> 1 | N7: =IF(AND(M7=1,L7=0),1,0) -> 0 | O7: =Q7 -> 1 | Q7: ='Question Sets'!C30 -> 1 | R7: =IF(OR(AND(Q7=1,COUNTIF(K7:K14,1)=8,COUNTIF(L7:L14,1)=8),AND(Q7=0,SUM(M21:R29,M31:R39,M41:R49,M51:R59,M61:R69,M71:R79,M81:R89,M91:R99,T21:Y29,T31:Y39,T41:Y49,T51:Y59,T61:Y69,T71:Y79,T81:Y89)=0)),0,1) -> 0 | AC7: =AC6 -> 1 | AD7: =IFERROR(HLOOKUP(ANS!M6,$AN$21:$AS$21,1,FALSE),0)+IFERROR(HLOOKUP(ANS!M6,$AN$31:$AS$31,1,FALSE),0)+IFERROR(HLOOKUP(ANS!M6,$AN$41:$AS$41,1,FALSE),0)+IFERROR(HLOOKUP(ANS!M6,$AN$51:$AS$51,1,FALSE),0)+IFERROR(HLOOKUP(ANS!M6,$AN$61:$AS$61,1,FALSE),0)+IFERROR(HLOOKUP(ANS!M6,$AN$71:$AS$71,1,FALSE),0)+IFERROR(HLOOKUP(ANS!M6,$AN$81:$AS$81,1,FALSE),0) -> 10 | AE7: =IF(AD7>=ANS!M6,0,1) -> 0 | AF7: =IF(AE7,ANS!M6,"") | AG7: =IFERROR(SMALL($AF$6:$AF$19,ANS!L6),"") -> 24 | AK7: 1 | AL7: =IFERROR(IF(SUM(AT21:AT29)=0,1,0),0) -> 1 | AM7: =IFERROR(IF(AND(AT20=0,AN7=1),1,0),1) -> 1 | AN7: =IFERROR(IF(SUM($AN$21:$AS$29)=0,0,1),1) -> 1 | AO7: =IF(AND(AN7=1,AM7=0),1,0) -> 0 | AP7: =AR7 -> 1 | AR7: ='Question Sets'!C30 -> 1 | AS7: =IF(OR(AND(AR7=1,COUNTIF(AL7:AL14,1)=8,COUNTIF(AM7:AM14,1)=8),AND(AR7=0,SUM(AN21:AS29,AN31:AS39,AN41:AS49,AN51:AS59,AN61:AS69,AN71:AS79,AN81:AS89,AN91:AS99,AU21:AZ29,AU31:AZ39,AU41:AZ49,AU51:AZ59,AU61:AZ69,AU71:AZ79,AU81:AZ89)=0)),0,1) -> 0
B8: =B7 -> 1 | C8: =IFERROR(HLOOKUP(ANS!C7,$M$21:$R$21,1,FALSE),0)+IFERROR(HLOOKUP(ANS!C7,$M$31:$R$31,1,FALSE),0)+IFERROR(HLOOKUP(ANS!C7,$M$41:$R$41,1,FALSE),0)+IFERROR(HLOOKUP(ANS!C7,$M$51:$R$51,1,FALSE),0)+IFERROR(HLOOKUP(ANS!C7,$M$61:$R$61,1,FALSE),0)+IFERROR(HLOOKUP(ANS!C7,$M$71:$R$71,1,FALSE),0)+IFERROR(HLOOKUP(ANS!C7,$M$81:$R$81,1,FALSE),0) -> 8 | D8: =IF(C8>=ANS!C7,0,1) -> 0 | E8: =IF(D8,ANS!C7,"") | F8: =IFERROR(SMALL($E$6:$E$50,ANS!B7),"") -> 26 | J8: 2 | K8: =IFERROR(IF(SUM(S31:S39)=0,1,0),0) -> 1 | L8: =IFERROR(IF(AND(S30=0,M8=1),1,0),1) -> 1 | M8: =IFERROR(IF(SUM($M$31:$R$39)=0,0,1),1) -> 1 | N8: =IF(AND(M8=1,L8=0),1,0) -> 0 | O8: =IF(AND(O7=1,M7=1,L7=1,N7=0,K7=1),1,0) -> 1 | AC8: =AC7 -> 1 | AD8: =IFERROR(HLOOKUP(ANS!M7,$AN$21:$AS$21,1,FALSE),0)+IFERROR(HLOOKUP(ANS!M7,$AN$31:$AS$31,1,FALSE),0)+IFERROR(HLOOKUP(ANS!M7,$AN$41:$AS$41,1,FALSE),0)+IFERROR(HLOOKUP(ANS!M7,$AN$51:$AS$51,1,FALSE),0)+IFERROR(HLOOKUP(ANS!M7,$AN$61:$AS$61,1,FALSE),0)+IFERROR(HLOOKUP(ANS!M7,$AN$71:$AS$71,1,FALSE),0)+IFERROR(HLOOKUP(ANS!M7,$AN$81:$AS$81,1,FALSE),0) -> 0 | AE8: =IF(AD8>=ANS!M7,0,1) -> 1 | AF8: =IF(AE8,ANS!M7,"") -> 12 | AG8: =IFERROR(SMALL($AF$6:$AF$19,ANS!L7),"") | AK8: 2 | AL8: =IFERROR(IF(SUM(AT31:AT39)=0,1,0),0) -> 1 | AM8: =IFERROR(IF(AND(AT30=0,AN8=1),1,0),1) -> 1 | AN8: =IFERROR(IF(SUM($AN$31:$AS$39)=0,0,1),1) -> 1 | AO8: =IF(AND(AN8=1,AM8=0),1,0) -> 0 | AP8: =IF(AND(AP7=1,AN7=1,AM7=1,AO7=0,AL7=1),1,0) -> 1
B9: =B8 -> 1 | C9: =IFERROR(HLOOKUP(ANS!C8,$M$21:$R$21,1,FALSE),0)+IFERROR(HLOOKUP(ANS!C8,$M$31:$R$31,1,FALSE),0)+IFERROR(HLOOKUP(ANS!C8,$M$41:$R$41,1,FALSE),0)+IFERROR(HLOOKUP(ANS!C8,$M$51:$R$51,1,FALSE),0)+IFERROR(HLOOKUP(ANS!C8,$M$61:$R$61,1,FALSE),0)+IFERROR(HLOOKUP(ANS!C8,$M$71:$R$71,1,FALSE),0)+IFERROR(HLOOKUP(ANS!C8,$M$81:$R$81,1,FALSE),0) -> 9 | D9: =IF(C9>=ANS!C8,0,1) -> 0 | E9: =IF(D9,ANS!C8,"") | F9: =IFERROR(SMALL($E$6:$E$50,ANS!B8),"") -> 27 | J9: 3 | K9: =IFERROR(IF(SUM(S41:S49)=0,1,0),0) -> 1 | L9: =IFERROR(IF(AND(S40=0,M9=1),1,0),1) -> 1 | M9: =IFERROR(IF(SUM($M$41:$R$49)=0,0,1),1) -> 1 | N9: =IF(AND(M9=1,L9=0),1,0) -> 0 | O9: =IF(AND(O8=1,M8=1,L8=1,N8=0,K8=1),1,0) -> 1 | AC9: =AC8 -> 1 | AD9: =IFERROR(HLOOKUP(ANS!M8,$AN$21:$AS$21,1,FALSE),0)+IFERROR(HLOOKUP(ANS!M8,$AN$31:$AS$31,1,FALSE),0)+IFERROR(HLOOKUP(ANS!M8,$AN$41:$AS$41,1,FALSE),0)+IFERROR(HLOOKUP(ANS!M8,$AN$51:$AS$51,1,FALSE),0)+IFERROR(HLOOKUP(ANS!M8,$AN$61:$AS$61,1,FALSE),0)+IFERROR(HLOOKUP(ANS!M8,$AN$71:$AS$71,1,FALSE),0)+IFERROR(HLOOKUP(ANS!M8,$AN$81:$AS$81,1,FALSE),0) -> 17 | AE9: =IF(AD9>=ANS!M8,0,1) -> 0 | AF9: =IF(AE9,ANS!M8,"") | AG9: =IFERROR(SMALL($AF$6:$AF$19,ANS!L8),"") | AK9: 3 | AL9: =IFERROR(IF(SUM(AT41:AT49)=0,1,0),0) -> 1 | AM9: =IFERROR(IF(AND(AT40=0,AN9=1),1,0),1) -> 1 | AN9: =IFERROR(IF(SUM($AN$41:$AS$49)=0,0,1),1) -> 1 | AO9: =IF(AND(AN9=1,AM9=0),1,0) -> 0 | AP9: =IF(AND(AP8=1,AN8=1,AM8=1,AO8=0,AL8=1),1,0) -> 1
B10: =B9 -> 1 | C10: =IFERROR(HLOOKUP(ANS!C9,$M$21:$R$21,1,FALSE),0)+IFERROR(HLOOKUP(ANS!C9,$M$31:$R$31,1,FALSE),0)+IFERROR(HLOOKUP(ANS!C9,$M$41:$R$41,1,FALSE),0)+IFERROR(HLOOKUP(ANS!C9,$M$51:$R$51,1,FALSE),0)+IFERROR(HLOOKUP(ANS!C9,$M$61:$R$61,1,FALSE),0)+IFERROR(HLOOKUP(ANS!C9,$M$71:$R$71,1,FALSE),0)+IFERROR(HLOOKUP(ANS!C9,$M$81:$R$81,1,FALSE),0) -> 10 | D10: =IF(C10>=ANS!C9,0,1) -> 0 | E10: =IF(D10,ANS!C9,"") | F10: =IFERROR(SMALL($E$6:$E$50,ANS!B9),"") -> 88 | J10: 4 | K10: =IFERROR(IF(SUM(S51:S59)=0,1,0),0) -> 1 | L10: =IFERROR(IF(AND(S50=0,M10=1),1,0),1) -> 1 | M10: =IFERROR(IF(SUM($M$51:$R$59)=0,0,1),1) -> 1 | N10: =IF(AND(M10=1,L10=0),1,0) -> 0 | O10: =IF(AND(O9=1,M9=1,L9=1,N9=0,K9=1),1,0) -> 1 | AC10: =AC9 -> 1 | AD10: =IFERROR(HLOOKUP(ANS!M9,$AN$21:$AS$21,1,FALSE),0)+IFERROR(HLOOKUP(ANS!M9,$AN$31:$AS$31,1,FALSE),0)+IFERROR(HLOOKUP(ANS!M9,$AN$41:$AS$41,1,FALSE),0)+IFERROR(HLOOKUP(ANS!M9,$AN$51:$AS$51,1,FALSE),0)+IFERROR(HLOOKUP(ANS!M9,$AN$61:$AS$61,1,FALSE),0)+IFERROR(HLOOKUP(ANS!M9,$AN$71:$AS$71,1,FALSE),0)+IFERROR(HLOOKUP(ANS!M9,$AN$81:$AS$81,1,FALSE),0) -> 18 | AE10: =IF(AD10>=ANS!M9,0,1) -> 0 | AF10: =IF(AE10,ANS!M9,"") | AG10: =IFERROR(SMALL($AF$6:$AF$19,ANS!L9),"") | AK10: 4 | AL10: =IFERROR(IF(SUM(AT51:AT59)=0,1,0),0) -> 1 | AM10: =IFERROR(IF(AND(AT50=0,AN10=1),1,0),1) -> 1 | AN10: =IFERROR(IF(SUM($AN$51:$AS$59)=0,0,1),1) -> 1 | AO10: =IF(AND(AN10=1,AM10=0),1,0) -> 0 | AP10: =IF(AND(AP9=1,AN9=1,AM9=1,AO9=0,AL9=1),1,0) -> 1
B11: =B10 -> 1 | C11: =IFERROR(HLOOKUP(ANS!C10,$M$21:$R$21,1,FALSE),0)+IFERROR(HLOOKUP(ANS!C10,$M$31:$R$31,1,FALSE),0)+IFERROR(HLOOKUP(ANS!C10,$M$41:$R$41,1,FALSE),0)+IFERROR(HLOOKUP(ANS!C10,$M$51:$R$51,1,FALSE),0)+IFERROR(HLOOKUP(ANS!C10,$M$61:$R$61,1,FALSE),0)+IFERROR(HLOOKUP(ANS!C10,$M$71:$R$71,1,FALSE),0)+IFERROR(HLOOKUP(ANS!C10,$M$81:$R$81,1,FALSE),0) -> 12 | D11: =IF(C11>=ANS!C10,0,1) -> 0 | E11: =IF(D11,ANS!C10,"") | F11: =IFERROR(SMALL($E$6:$E$50,ANS!B10),"") -> 95 | J11: 5 | K11: =IFERROR(IF(SUM(S61:S69)=0,1,0),0) -> 1 | L11: =IFERROR(IF(AND(S60=0,M11=1),1,0),1) -> 1 | M11: =IFERROR(IF(SUM($M$61:$R$69)=0,0,1),1) -> 1 | N11: =IF(AND(M11=1,L11=0),1,0) -> 0 | O11: =IF(AND(O10=1,M10=1,L10=1,N10=0,K10=1),1,0) -> 1 | AC11: =AC10 -> 1 | AD11: =IFERROR(HLOOKUP(ANS!M10,$AN$21:$AS$21,1,FALSE),0)+IFERROR(HLOOKUP(ANS!M10,$AN$31:$AS$31,1,FALSE),0)+IFERROR(HLOOKUP(ANS!M10,$AN$41:$AS$41,1,FALSE),0)+IFERROR(HLOOKUP(ANS!M10,$AN$51:$AS$51,1,FALSE),0)+IFERROR(HLOOKUP(ANS!M10,$AN$61:$AS$61,1,FALSE),0)+IFERROR(HLOOKUP(ANS!M10,$AN$71:$AS$71,1,FALSE),0)+IFERROR(HLOOKUP(ANS!M10,$AN$81:$AS$81,1,FALSE),0) -> 21 | AE11: =IF(AD11>=ANS!M10,0,1) -> 0 | AF11: =IF(AE11,ANS!M10,"") | AG11: =IFERROR(SMALL($AF$6:$AF$19,ANS!L10),"") | AK11: 5 | AL11: =IFERROR(IF(SUM(AT61:AT69)=0,1,0),0) -> 1 | AM11: =IFERROR(IF(AND(AT60=0,AN11=1),1,0),1) -> 1 | AN11: =IFERROR(IF(SUM($AN$61:$AS$69)=0,0,1),1) -> 1 | AO11: =IF(AND(AN11=1,AM11=0),1,0) -> 0 | AP11: =IF(AND(AP10=1,AN10=1,AM10=1,AO10=0,AL10=1),1,0) -> 1
B12: =B11 -> 1 | C12: =IFERROR(HLOOKUP(ANS!C11,$M$21:$R$21,1,FALSE),0)+IFERROR(HLOOKUP(ANS!C11,$M$31:$R$31,1,FALSE),0)+IFERROR(HLOOKUP(ANS!C11,$M$41:$R$41,1,FALSE),0)+IFERROR(HLOOKUP(ANS!C11,$M$51:$R$51,1,FALSE),0)+IFERROR(HLOOKUP(ANS!C11,$M$61:$R$61,1,FALSE),0)+IFERROR(HLOOKUP(ANS!C11,$M$71:$R$71,1,FALSE),0)+IFERROR(HLOOKUP(ANS!C11,$M$81:$R$81,1,FALSE),0) -> 0 | D12: =IF(C12>=ANS!C11,0,1) -> 1 | E12: =IF(D12,ANS!C11,"") -> 14 | F12: =IFERROR(SMALL($E$6:$E$50,ANS!B11),"") -> 126 | J12: 6 | K12: =IFERROR(IF(SUM(S71:S79)=0,1,0),0) -> 1 | L12: =IFERROR(IF(AND(S70=0,M12=1),1,0),1) -> 1 | M12: =IFERROR(IF(SUM($M$71:$R$79)=0,0,1),1) -> 1 | N12: =IF(AND(M12=1,L12=0),1,0) -> 0 | O12: =IF(AND(O11=1,M11=1,L11=1,N11=0,K11=1),1,0) -> 1 | AC12: =AC11 -> 1 | AD12: =IFERROR(HLOOKUP(ANS!M11,$AN$21:$AS$21,1,FALSE),0)+IFERROR(HLOOKUP(ANS!M11,$AN$31:$AS$31,1,FALSE),0)+IFERROR(HLOOKUP(ANS!M11,$AN$41:$AS$41,1,FALSE),0)+IFERROR(HLOOKUP(ANS!M11,$AN$51:$AS$51,1,FALSE),0)+IFERROR(HLOOKUP(ANS!M11,$AN$61:$AS$61,1,FALSE),0)+IFERROR(HLOOKUP(ANS!M11,$AN$71:$AS$71,1,FALSE),0)+IFERROR(HLOOKUP(ANS!M11,$AN$81:$AS$81,1,FALSE),0) -> 0 | AE12: =IF(AD12>=ANS!M11,0,1) -> 1 | AF12: =IF(AE12,ANS!M11,"") -> 24 | AG12: =IFERROR(SMALL($AF$6:$AF$19,ANS!L11),"") | AK12: 6 | AL12: =IFERROR(IF(SUM(AT71:AT79)=0,1,0),0) -> 1 | AM12: =IFERROR(IF(AND(AT70=0,AN12=1),1,0),1) -> 1 | AN12: =IFERROR(IF(SUM($AN$71:$AS$79)=0,0,1),1) -> 1 | AO12: =IF(AND(AN12=1,AM12=0),1,0) -> 0 | AP12: =IF(AND(AP11=1,AN11=1,AM11=1,AO11=0,AL11=1),1,0) -> 1
B13: =B12 -> 1 | C13: =IFERROR(HLOOKUP(ANS!C12,$M$21:$R$21,1,FALSE),0)+IFERROR(HLOOKUP(ANS!C12,$M$31:$R$31,1,FALSE),0)+IFERROR(HLOOKUP(ANS!C12,$M$41:$R$41,1,FALSE),0)+IFERROR(HLOOKUP(ANS!C12,$M$51:$R$51,1,FALSE),0)+IFERROR(HLOOKUP(ANS!C12,$M$61:$R$61,1,FALSE),0)+IFERROR(HLOOKUP(ANS!C12,$M$71:$R$71,1,FALSE),0)+IFERROR(HLOOKUP(ANS!C12,$M$81:$R$81,1,FALSE),0) -> 0 | D13: =IF(C13>=ANS!C12,0,1) -> 1 | E13: =IF(D13,ANS!C12,"") -> 17 | F13: =IFERROR(SMALL($E$6:$E$50,ANS!B12),"") | J13: 7 | K13: =IF(SUM(S81:S89)=0,1,0) -> 1 | L13: =IFERROR(IF(AND(S80=0,M13=1),1,0),1) -> 1 | M13: =IFERROR(IF(SUM($M$81:$R$89)=0,0,1),1) -> 1 | N13: =IF(AND(M13=1,L13=0),1,0) -> 0 | O13: =IF(AND(O12=1,M12=1,L12=1,N12=0,K12=1),1,0) -> 1 | AC13: =AC12 -> 1 | AD13: =IFERROR(HLOOKUP(ANS!M12,$AN$21:$AS$21,1,FALSE),0)+IFERROR(HLOOKUP(ANS!M12,$AN$31:$AS$31,1,FALSE),0)+IFERROR(HLOOKUP(ANS!M12,$AN$41:$AS$41,1,FALSE),0)+IFERROR(HLOOKUP(ANS!M12,$AN$51:$AS$51,1,FALSE),0)+IFERROR(HLOOKUP(ANS!M12,$AN$61:$AS$61,1,FALSE),0)+IFERROR(HLOOKUP(ANS!M12,$AN$71:$AS$71,1,FALSE),0)+IFERROR(HLOOKUP(ANS!M12,$AN$81:$AS$81,1,FALSE),0) -> 36 | AE13: =IF(AD13>=ANS!M12,0,1) -> 0 | AF13: =IF(AE13,ANS!M12,"") | AG13: =IFERROR(SMALL($AF$6:$AF$19,ANS!L12),"") | AK13: 7 | AL13: =IFERROR(IF(SUM(AT81:AT89)=0,1,0),0) -> 1 | AM13: =IFERROR(IF(AND(AT80=0,AN13=1),1,0),1) -> 1 | AN13: =IFERROR(IF(SUM($AN$81:$AS$89)=0,0,1),1) -> 1 | AO13: =IF(AND(AN13=1,AM13=0),1,0) -> 0 | AP13: =IF(AND(AP12=1,AN12=1,AM12=1,AO12=0,AL12=1),1,0) -> 1
B14: =B13 -> 1 | C14: =IFERROR(HLOOKUP(ANS!C13,$M$21:$R$21,1,FALSE),0)+IFERROR(HLOOKUP(ANS!C13,$M$31:$R$31,1,FALSE),0)+IFERROR(HLOOKUP(ANS!C13,$M$41:$R$41,1,FALSE),0)+IFERROR(HLOOKUP(ANS!C13,$M$51:$R$51,1,FALSE),0)+IFERROR(HLOOKUP(ANS!C13,$M$61:$R$61,1,FALSE),0)+IFERROR(HLOOKUP(ANS!C13,$M$71:$R$71,1,FALSE),0)+IFERROR(HLOOKUP(ANS!C13,$M$81:$R$81,1,FALSE),0) -> 19 | D14: =IF(C14>=ANS!C13,0,1) -> 0 | E14: =IF(D14,ANS!C13,"") | F14: =IFERROR(SMALL($E$6:$E$50,ANS!B13),"") | J14: 8 | K14: =IF(SUM(S91:S99)=0,1,0) -> 1 | L14: =IFERROR(IF(AND(S90=0,M14=1),1,0),1) -> 1 | M14: =IFERROR(IF(SUM($M$91:$R$99)=0,0,1),1) -> 1 | N14: =IF(AND(M14=1,L14=0),1,0) -> 0 | O14: =IF(AND(O13=1,M13=1,L13=1,N13=0,K13=1),1,0) -> 1 | AC14: =AC13 -> 1 | AD14: =IFERROR(HLOOKUP(ANS!M13,$AN$21:$AS$21,1,FALSE),0)+IFERROR(HLOOKUP(ANS!M13,$AN$31:$AS$31,1,FALSE),0)+IFERROR(HLOOKUP(ANS!M13,$AN$41:$AS$41,1,FALSE),0)+IFERROR(HLOOKUP(ANS!M13,$AN$51:$AS$51,1,FALSE),0)+IFERROR(HLOOKUP(ANS!M13,$AN$61:$AS$61,1,FALSE),0)+IFERROR(HLOOKUP(ANS!M13,$AN$71:$AS$71,1,FALSE),0)+IFERROR(HLOOKUP(ANS!M13,$AN$81:$AS$81,1,FALSE),0) -> 49 | AE14: =IF(AD14>=ANS!M13,0,1) -> 0 | AF14: =IF(AE14,ANS!M13,"") | AG14: =IFERROR(SMALL($AF$6:$AF$19,ANS!L13),"") | AK14: 8 | AL14: =IFERROR(IF(SUM(AT91:AT99)=0,1,0),0) -> 1 | AM14: =IFERROR(IF(AND(AT90=0,AN14=1),1,0),1) -> 1 | AN14: =IFERROR(IF(SUM($AN$91:$AS$99)=0,0,1),1) -> 1 | AO14: =IF(AND(AN14=1,AM14=0),1,0) -> 0 | AP14: =IF(AND(AP13=1,AN13=1,AM13=1,AO13=0,AL13=1),1,0) -> 1
B15: =B14 -> 1 | C15: =IFERROR(HLOOKUP(ANS!C14,$M$21:$R$21,1,FALSE),0)+IFERROR(HLOOKUP(ANS!C14,$M$31:$R$31,1,FALSE),0)+IFERROR(HLOOKUP(ANS!C14,$M$41:$R$41,1,FALSE),0)+IFERROR(HLOOKUP(ANS!C14,$M$51:$R$51,1,FALSE),0)+IFERROR(HLOOKUP(ANS!C14,$M$61:$R$61,1,FALSE),0)+IFERROR(HLOOKUP(ANS!C14,$M$71:$R$71,1,FALSE),0)+IFERROR(HLOOKUP(ANS!C14,$M$81:$R$81,1,FALSE),0) -> 0 | D15: =IF(C15>=ANS!C14,0,1) -> 1 | E15: =IF(D15,ANS!C14,"") -> 26 | F15: =IFERROR(SMALL($E$6:$E$50,ANS!B14),"") | AC15: =AC14 -> 1 | AD15: =IFERROR(HLOOKUP(ANS!M14,$AN$21:$AS$21,1,FALSE),0)+IFERROR(HLOOKUP(ANS!M14,$AN$31:$AS$31,1,FALSE),0)+IFERROR(HLOOKUP(ANS!M14,$AN$41:$AS$41,1,FALSE),0)+IFERROR(HLOOKUP(ANS!M14,$AN$51:$AS$51,1,FALSE),0)+IFERROR(HLOOKUP(ANS!M14,$AN$61:$AS$61,1,FALSE),0)+IFERROR(HLOOKUP(ANS!M14,$AN$71:$AS$71,1,FALSE),0)+IFERROR(HLOOKUP(ANS!M14,$AN$81:$AS$81,1,FALSE),0) -> 53 | AE15: =IF(AD15>=ANS!M14,0,1) -> 0 | AF15: =IF(AE15,ANS!M14,"") | AG15: =IFERROR(SMALL($AF$6:$AF$19,ANS!L14),"")
B16: =B15 -> 1 | C16: =IFERROR(HLOOKUP(ANS!C15,$M$21:$R$21,1,FALSE),0)+IFERROR(HLOOKUP(ANS!C15,$M$31:$R$31,1,FALSE),0)+IFERROR(HLOOKUP(ANS!C15,$M$41:$R$41,1,FALSE),0)+IFERROR(HLOOKUP(ANS!C15,$M$51:$R$51,1,FALSE),0)+IFERROR(HLOOKUP(ANS!C15,$M$61:$R$61,1,FALSE),0)+IFERROR(HLOOKUP(ANS!C15,$M$71:$R$71,1,FALSE),0)+IFERROR(HLOOKUP(ANS!C15,$M$81:$R$81,1,FALSE),0) -> 0 | D16: =IF(C16>=ANS!C15,0,1) -> 1 | E16: =IF(D16,ANS!C15,"") -> 27 | F16: =IFERROR(SMALL($E$6:$E$50,ANS!B15),"") | AC16: =AC15 -> 1 | AD16: =IFERROR(HLOOKUP(ANS!M15,$AN$21:$AS$21,1,FALSE),0)+IFERROR(HLOOKUP(ANS!M15,$AN$31:$AS$31,1,FALSE),0)+IFERROR(HLOOKUP(ANS!M15,$AN$41:$AS$41,1,FALSE),0)+IFERROR(HLOOKUP(ANS!M15,$AN$51:$AS$51,1,FALSE),0)+IFERROR(HLOOKUP(ANS!M15,$AN$61:$AS$61,1,FALSE),0)+IFERROR(HLOOKUP(ANS!M15,$AN$71:$AS$71,1,FALSE),0)+IFERROR(HLOOKUP(ANS!M15,$AN$81:$AS$81,1,FALSE),0) -> 77 | AE16: =IF(AD16>=ANS!M15,0,1) -> 0 | AF16: =IF(AE16,ANS!M15,"") | AG16: =IFERROR(SMALL($AF$6:$AF$19,ANS!L15),"")
B17: =B16 -> 1 | C17: =IFERROR(HLOOKUP(ANS!C16,$M$21:$R$21,1,FALSE),0)+IFERROR(HLOOKUP(ANS!C16,$M$31:$R$31,1,FALSE),0)+IFERROR(HLOOKUP(ANS!C16,$M$41:$R$41,1,FALSE),0)+IFERROR(HLOOKUP(ANS!C16,$M$51:$R$51,1,FALSE),0)+IFERROR(HLOOKUP(ANS!C16,$M$61:$R$61,1,FALSE),0)+IFERROR(HLOOKUP(ANS!C16,$M$71:$R$71,1,FALSE),0)+IFERROR(HLOOKUP(ANS!C16,$M$81:$R$81,1,FALSE),0) -> 29 | D17: =IF(C17>=ANS!C16,0,1) -> 0 | E17: =IF(D17,ANS!C16,"") | F17: =IFERROR(SMALL($E$6:$E$50,ANS!B16),"") | AC17: =AC16 -> 1 | AD17: =IFERROR(HLOOKUP(ANS!M16,$AN$21:$AS$21,1,FALSE),0)+IFERROR(HLOOKUP(ANS!M16,$AN$31:$AS$31,1,FALSE),0)+IFERROR(HLOOKUP(ANS!M16,$AN$41:$AS$41,1,FALSE),0)+IFERROR(HLOOKUP(ANS!M16,$AN$51:$AS$51,1,FALSE),0)+IFERROR(HLOOKUP(ANS!M16,$AN$61:$AS$61,1,FALSE),0)+IFERROR(HLOOKUP(ANS!M16,$AN$71:$AS$71,1,FALSE),0)+IFERROR(HLOOKUP(ANS!M16,$AN$81:$AS$81,1,FALSE),0) -> 93 | AE17: =IF(AD17>=ANS!M16,0,1) -> 0 | AF17: =IF(AE17,ANS!M16,"") | AG17: =IFERROR(SMALL($AF$6:$AF$19,ANS!L16),"")
B18: =B17 -> 1 | C18: =IFERROR(HLOOKUP(ANS!C17,$M$21:$R$21,1,FALSE),0)+IFERROR(HLOOKUP(ANS!C17,$M$31:$R$31,1,FALSE),0)+IFERROR(HLOOKUP(ANS!C17,$M$41:$R$41,1,FALSE),0)+IFERROR(HLOOKUP(ANS!C17,$M$51:$R$51,1,FALSE),0)+IFERROR(HLOOKUP(ANS!C17,$M$61:$R$61,1,FALSE),0)+IFERROR(HLOOKUP(ANS!C17,$M$71:$R$71,1,FALSE),0)+IFERROR(HLOOKUP(ANS!C17,$M$81:$R$81,1,FALSE),0) -> 38 | D18: =IF(C18>=ANS!C17,0,1) -> 0 | E18: =IF(D18,ANS!C17,"") | F18: =IFERROR(SMALL($E$6:$E$50,ANS!B17),"") | M18: Question # per module | T18: Random Balancer | AC18: =AC17 -> 1 | AD18: =IFERROR(HLOOKUP(ANS!M17,$AN$21:$AS$21,1,FALSE),0)+IFERROR(HLOOKUP(ANS!M17,$AN$31:$AS$31,1,FALSE),0)+IFERROR(HLOOKUP(ANS!M17,$AN$41:$AS$41,1,FALSE),0)+IFERROR(HLOOKUP(ANS!M17,$AN$51:$AS$51,1,FALSE),0)+IFERROR(HLOOKUP(ANS!M17,$AN$61:$AS$61,1,FALSE),0)+IFERROR(HLOOKUP(ANS!M17,$AN$71:$AS$71,1,FALSE),0)+IFERROR(HLOOKUP(ANS!M17,$AN$81:$AS$81,1,FALSE),0) -> 104 | AE18: =IF(AD18>=ANS!M17,0,1) -> 0 | AF18: =IF(AE18,ANS!M17,"") | AG18: =IFERROR(SMALL($AF$6:$AF$19,ANS!L17),"") | AN18: Question # per module | AU18: Random Balancer
B19: =B18 -> 1 | C19: =IFERROR(HLOOKUP(ANS!C18,$M$21:$R$21,1,FALSE),0)+IFERROR(HLOOKUP(ANS!C18,$M$31:$R$31,1,FALSE),0)+IFERROR(HLOOKUP(ANS!C18,$M$41:$R$41,1,FALSE),0)+IFERROR(HLOOKUP(ANS!C18,$M$51:$R$51,1,FALSE),0)+IFERROR(HLOOKUP(ANS!C18,$M$61:$R$61,1,FALSE),0)+IFERROR(HLOOKUP(ANS!C18,$M$71:$R$71,1,FALSE),0)+IFERROR(HLOOKUP(ANS!C18,$M$81:$R$81,1,FALSE),0) -> 39 | D19: =IF(C19>=ANS!C18,0,1) -> 0 | E19: =IF(D19,ANS!C18,"") | F19: =IFERROR(SMALL($E$6:$E$50,ANS!B18),"") | M19: 1 | N19: 2 | O19: 3 | P19: 4 | Q19: 5 | R19: 6 | S19: Check | T19: 1 | U19: 2 | V19: 3 | W19: 4 | X19: 5 | Y19: 6 | AC19: =AC18 -> 1 | AD19: =IFERROR(HLOOKUP(ANS!M18,$AN$21:$AS$21,1,FALSE),0)+IFERROR(HLOOKUP(ANS!M18,$AN$31:$AS$31,1,FALSE),0)+IFERROR(HLOOKUP(ANS!M18,$AN$41:$AS$41,1,FALSE),0)+IFERROR(HLOOKUP(ANS!M18,$AN$51:$AS$51,1,FALSE),0)+IFERROR(HLOOKUP(ANS!M18,$AN$61:$AS$61,1,FALSE),0)+IFERROR(HLOOKUP(ANS!M18,$AN$71:$AS$71,1,FALSE),0)+IFERROR(HLOOKUP(ANS!M18,$AN$81:$AS$81,1,FALSE),0) -> 119 | AE19: =IF(AD19>=ANS!M18,0,1) -> 0 | AF19: =IF(AE19,ANS!M18,"") | AG19: =IFERROR(SMALL($AF$6:$AF$19,ANS!L18),"") | AN19: 1 | AO19: 2 | AP19: 3 | AQ19: 4 | AR19: 5 | AS19: 6 | AT19: Check | AU19: 1 | AV19: 2 | AW19: 3 | AX19: 4 | AY19: 5 | AZ19: 6
B20: =B19 -> 1 | C20: =IFERROR(HLOOKUP(ANS!C19,$M$21:$R$21,1,FALSE),0)+IFERROR(HLOOKUP(ANS!C19,$M$31:$R$31,1,FALSE),0)+IFERROR(HLOOKUP(ANS!C19,$M$41:$R$41,1,FALSE),0)+IFERROR(HLOOKUP(ANS!C19,$M$51:$R$51,1,FALSE),0)+IFERROR(HLOOKUP(ANS!C19,$M$61:$R$61,1,FALSE),0)+IFERROR(HLOOKUP(ANS!C19,$M$71:$R$71,1,FALSE),0)+IFERROR(HLOOKUP(ANS!C19,$M$81:$R$81,1,FALSE),0) -> 42 | D20: =IF(C20>=ANS!C19,0,1) -> 0 | E20: =IF(D20,ANS!C19,"") | F20: =IFERROR(SMALL($E$6:$E$50,ANS!B19),"") | J20: Module | K20: # Left | L20: # To pick | M20: Drill 1 | S20: =COUNTIF(M21:R29,0) -> 0 | T20: Drill 1 | AC20: 2 | AD20: =IFERROR(HLOOKUP(ANS!M19,$AN$22:$AS$22,1,FALSE),0)+IFERROR(HLOOKUP(ANS!M19,$AN$32:$AS$32,1,FALSE),0)+IFERROR(HLOOKUP(ANS!M19,$AN$42:$AS$42,1,FALSE),0)+IFERROR(HLOOKUP(ANS!M19,$AN$52:$AS$52,1,FALSE),0)+IFERROR(HLOOKUP(ANS!M19,$AN$62:$AS$62,1,FALSE),0)+IFERROR(HLOOKUP(ANS!M19,$AN$72:$AS$72,1,FALSE),0)+IFERROR(HLOOKUP(ANS!M19,$AN$82:$AS$82,1,FALSE),0) -> 31 | AE20: =IF(AD20>=ANS!M19,0,1) -> 0 | AF20: =IF(AE20,ANS!M19,"") | AG20: =IFERROR(SMALL($AF$20:$AF$25,ANS!L19),"") | AH20: =COUNT(AG20:AG25) -> 0 | AI20: =AH20-AM92 -> 0 | AK20: Module | AL20: # Left | AM20: # To pick | AN20: Drill 1 | AT20: =COUNTIF(AN21:AS29,0) -> 0 | AU20: Drill 1
B21: =B20 -> 1 | C21: =IFERROR(HLOOKUP(ANS!C20,$M$21:$R$21,1,FALSE),0)+IFERROR(HLOOKUP(ANS!C20,$M$31:$R$31,1,FALSE),0)+IFERROR(HLOOKUP(ANS!C20,$M$41:$R$41,1,FALSE),0)+IFERROR(HLOOKUP(ANS!C20,$M$51:$R$51,1,FALSE),0)+IFERROR(HLOOKUP(ANS!C20,$M$61:$R$61,1,FALSE),0)+IFERROR(HLOOKUP(ANS!C20,$M$71:$R$71,1,FALSE),0)+IFERROR(HLOOKUP(ANS!C20,$M$81:$R$81,1,FALSE),0) -> 43 | D21: =IF(C21>=ANS!C20,0,1) -> 0 | E21: =IF(D21,ANS!C20,"") | F21: =IFERROR(SMALL($E$6:$E$50,ANS!B20),"") | J21: 1 | K21: =MAX(1,$G$6) -> 7 | L21: =WEIGHTS!D49 -> 6 | M21: =IF(AND($O$7=1,OR($S21<>0,$N$7=1)),IF(M$19<=$L21,CHOOSE(RANDBETWEEN(1,$K21),$F$6,$F$7,$F$8,$F$9,$F$10,$F$11,$F$12,$F$13,$F$14,$F$15,$F$16,$F$17,$F$18,$F$19,$F$20,$F$21,$F$22,$F$23,$F$24,$F$25,$F$26,$F$27,$F$28,$F$29,$F$30,$F$31,$F$32,$F$33,$F$34,$F$35,$F$36,$F$37,$F$38,$F$39,$F$40,$F$41,$F$42,$F$43,$F$44,$F$45,$F$46,$F$47,$F$48,$F$49,$F$50),""),T21) -> 174 | N21: =IF(AND($O$7=1,OR($S21<>0,$N$7=1)),IF(N$19<=$L21,CHOOSE(RANDBETWEEN(1,$K21),$F$6,$F$7,$F$8,$F$9,$F$10,$F$11,$F$12,$F$13,$F$14,$F$15,$F$16,$F$17,$F$18,$F$19,$F$20,$F$21,$F$22,$F$23,$F$24,$F$25,$F$26,$F$27,$F$28,$F$29,$F$30,$F$31,$F$32,$F$33,$F$34,$F$35,$F$36,$F$37,$F$38,$F$39,$F$40,$F$41,$F$42,$F$43,$F$44,$F$45,$F$46,$F$47,$F$48,$F$49,$F$50),""),U21) -> 65 | O21: =IF(AND($O$7=1,OR($S21<>0,$N$7=1)),IF(O$19<=$L21,CHOOSE(RANDBETWEEN(1,$K21),$F$6,$F$7,$F$8,$F$9,$F$10,$F$11,$F$12,$F$13,$F$14,$F$15,$F$16,$F$17,$F$18,$F$19,$F$20,$F$21,$F$22,$F$23,$F$24,$F$25,$F$26,$F$27,$F$28,$F$29,$F$30,$F$31,$F$32,$F$33,$F$34,$F$35,$F$36,$F$37,$F$38,$F$39,$F$40,$F$41,$F$42,$F$43,$F$44,$F$45,$F$46,$F$47,$F$48,$F$49,$F$50),""),V21) -> 101 | P21: =IF(AND($O$7=1,OR($S21<>0,$N$7=1)),IF(P$19<=$L21,CHOOSE(RANDBETWEEN(1,$K21),$F$6,$F$7,$F$8,$F$9,$F$10,$F$11,$F$12,$F$13,$F$14,$F$15,$F$16,$F$17,$F$18,$F$19,$F$20,$F$21,$F$22,$F$23,$F$24,$F$25,$F$26,$F$27,$F$28,$F$29,$F$30,$F$31,$F$32,$F$33,$F$34,$F$35,$F$36,$F$37,$F$38,$F$39,$F$40,$F$41,$F$42,$F$43,$F$44,$F$45,$F$46,$F$47,$F$48,$F$49,$F$50),""),W21) -> 105 | Q21: =IF(AND($O$7=1,OR($S21<>0,$N$7=1)),IF(Q$19<=$L21,CHOOSE(RANDBETWEEN(1,$K21),$F$6,$F$7,$F$8,$F$9,$F$10,$F$11,$F$12,$F$13,$F$14,$F$15,$F$16,$F$17,$F$18,$F$19,$F$20,$F$21,$F$22,$F$23,$F$24,$F$25,$F$26,$F$27,$F$28,$F$29,$F$30,$F$31,$F$32,$F$33,$F$34,$F$35,$F$36,$F$37,$F$38,$F$39,$F$40,$F$41,$F$42,$F$43,$F$44,$F$45,$F$46,$F$47,$F$48,$F$49,$F$50),""),X21) -> 52 | R21: =IF(AND($O$7=1,OR($S21<>0,$N$7=1)),IF(R$19<=$L21,CHOOSE(RANDBETWEEN(1,$K21),$F$6,$F$7,$F$8,$F$9,$F$10,$F$11,$F$12,$F$13,$F$14,$F$15,$F$16,$F$17,$F$18,$F$19,$F$20,$F$21,$F$22,$F$23,$F$24,$F$25,$F$26,$F$27,$F$28,$F$29,$F$30,$F$31,$F$32,$F$33,$F$34,$F$35,$F$36,$F$37,$F$38,$F$39,$F$40,$F$41,$F$42,$F$43,$F$44,$F$45,$F$46,$F$47,$F$48,$F$49,$F$50),""),Y21) -> 38 | S21: =ROUND(SUMPRODUCT(1/COUNTIF(M21:R21,M21:R21))-IFERROR(COUNTBLANK(M21:R21)/COUNTBLANK(M21:R21),0)-L21,0) -> 0 | T21: =IFERROR(IF($O$7=0,0,M21),0) -> 174 | U21: =IFERROR(IF($O$7=0,0,N21),0) -> 65 | V21: =IFERROR(IF($O$7=0,0,O21),0) -> 101 | W21: =IFERROR(IF($O$7=0,0,P21),0) -> 105 | X21: =IFERROR(IF($O$7=0,0,Q21),0) -> 52 | Y21: =IFERROR(IF($O$7=0,0,R21),0) -> 38 | AC21: =AC20 -> 2 | AD21: =IFERROR(HLOOKUP(ANS!M20,$AN$22:$AS$22,1,FALSE),0)+IFERROR(HLOOKUP(ANS!M20,$AN$32:$AS$32,1,FALSE),0)+IFERROR(HLOOKUP(ANS!M20,$AN$42:$AS$42,1,FALSE),0)+IFERROR(HLOOKUP(ANS!M20,$AN$52:$AS$52,1,FALSE),0)+IFERROR(HLOOKUP(ANS!M20,$AN$62:$AS$62,1,FALSE),0)+IFERROR(HLOOKUP(ANS!M20,$AN$72:$AS$72,1,FALSE),0)+IFERROR(HLOOKUP(ANS!M20,$AN$82:$AS$82,1,FALSE),0) -> 51 | AE21: =IF(AD21>=ANS!M20,0,1) -> 0 | AF21: =IF(AE21,ANS!M20,"") | AG21: =IFERROR(SMALL($AF$20:$AF$25,ANS!L20),"") | AK21: 1 | AL21: =MAX(1,$AH$6) -> 2 | AM21: =WEIGHTS!D62 -> 2 | AN21: =IF(AND($AP$7=1,OR($AT21<>0,$AO$7=1)),IF(AN$19<=$AM21,CHOOSE(RANDBETWEEN(1,$AL21),$AG$6,$AG$7,$AG$8,$AG$9,$AG$10,$AG$11,$AG$12,$AG$13,$AG$14,$AG$15,$AG$16,$AG$17,$AG$18,$AG$19),""),AU21) -> 119 | AO21: =IF(AND($AP$7=1,OR($AT21<>0,$AO$7=1)),IF(AO$19<=$AM21,CHOOSE(RANDBETWEEN(1,$AL21),$AG$6,$AG$7,$AG$8,$AG$9,$AG$10,$AG$11,$AG$12,$AG$13,$AG$14,$AG$15,$AG$16,$AG$17,$AG$18,$AG$19),""),AV21) -> 53 | AP21: =IF(AND($AP$7=1,OR($AT21<>0,$AO$7=1)),IF(AP$19<=$AM21,CHOOSE(RANDBETWEEN(1,$AL21),$AG$6,$AG$7,$AG$8,$AG$9,$AG$10,$AG$11,$AG$12,$AG$13,$AG$14,$AG$15,$AG$16,$AG$17,$AG$18,$AG$19),""),AW21) | AQ21: =IF(AND($AP$7=1,OR($AT21<>0,$AO$7=1)),IF(AQ$19<=$AM21,CHOOSE(RANDBETWEEN(1,$AL21),$AG$6,$AG$7,$AG$8,$AG$9,$AG$10,$AG$11,$AG$12,$AG$13,$AG$14,$AG$15,$AG$16,$AG$17,$AG$18,$AG$19),""),AX21) | AR21: =IF(AND($AP$7=1,OR($AT21<>0,$AO$7=1)),IF(AR$19<=$AM21,CHOOSE(RANDBETWEEN(1,$AL21),$AG$6,$AG$7,$AG$8,$AG$9,$AG$10,$AG$11,$AG$12,$AG$13,$AG$14,$AG$15,$AG$16,$AG$17,$AG$18,$AG$19),""),AY21) | AS21: =IF(AND($AP$7=1,OR($AT21<>0,$AO$7=1)),IF(AS$19<=$AM21,CHOOSE(RANDBETWEEN(1,$AL21),$AG$6,$AG$7,$AG$8,$AG$9,$AG$10,$AG$11,$AG$12,$AG$13,$AG$14,$AG$15,$AG$16,$AG$17,$AG$18,$AG$19),""),AZ21) | AT21: =ROUND(SUMPRODUCT(1/COUNTIF(AN21:AS21,AN21:AS21))-IFERROR(COUNTBLANK(AN21:AS21)/COUNTBLANK(AN21:AS21),0)-AM21,0) -> 0 | AU21: =IFERROR(IF($AP$7=0,0,AN21),0) -> 119 | AV21: =IFERROR(IF($AP$7=0,0,AO21),0) -> 53 | AW21: =IFERROR(IF($AP$7=0,0,AP21),0) | AX21: =IFERROR(IF($AP$7=0,0,AQ21),0) | AY21: =IFERROR(IF($AP$7=0,0,AR21),0) | AZ21: =IFERROR(IF($AP$7=0,0,AS21),0)
B22: =B21 -> 1 | C22: =IFERROR(HLOOKUP(ANS!C21,$M$21:$R$21,1,FALSE),0)+IFERROR(HLOOKUP(ANS!C21,$M$31:$R$31,1,FALSE),0)+IFERROR(HLOOKUP(ANS!C21,$M$41:$R$41,1,FALSE),0)+IFERROR(HLOOKUP(ANS!C21,$M$51:$R$51,1,FALSE),0)+IFERROR(HLOOKUP(ANS!C21,$M$61:$R$61,1,FALSE),0)+IFERROR(HLOOKUP(ANS!C21,$M$71:$R$71,1,FALSE),0)+IFERROR(HLOOKUP(ANS!C21,$M$81:$R$81,1,FALSE),0) -> 45 | D22: =IF(C22>=ANS!C21,0,1) -> 0 | E22: =IF(D22,ANS!C21,"") | F22: =IFERROR(SMALL($E$6:$E$50,ANS!B21),"") | J22: 2 | K22: =MAX(1,$G$51) -> 1 | L22: =WEIGHTS!D50 -> 1 | M22: =IF(AND($O$7=1,OR($S22<>0,$N$7=1)),IF(M$19<=$L22,CHOOSE(RANDBETWEEN(1,$K22),$F$51,$F$52,$F$53,$F$54,$F$55,$F$56,$F$57,$F$58,$F$59),""),T22) -> 47 | N22: =IF(AND($O$7=1,OR($S22<>0,$N$7=1)),IF(N$19<=$L22,CHOOSE(RANDBETWEEN(1,$K22),$F$51,$F$52,$F$53,$F$54,$F$55,$F$56,$F$57,$F$58,$F$59),""),U22) | O22: =IF(AND($O$7=1,OR($S22<>0,$N$7=1)),IF(O$19<=$L22,CHOOSE(RANDBETWEEN(1,$K22),$F$51,$F$52,$F$53,$F$54,$F$55,$F$56,$F$57,$F$58,$F$59),""),V22) | P22: =IF(AND($O$7=1,OR($S22<>0,$N$7=1)),IF(P$19<=$L22,CHOOSE(RANDBETWEEN(1,$K22),$F$51,$F$52,$F$53,$F$54,$F$55,$F$56,$F$57,$F$58,$F$59),""),W22) | Q22: =IF(AND($O$7=1,OR($S22<>0,$N$7=1)),IF(Q$19<=$L22,CHOOSE(RANDBETWEEN(1,$K22),$F$51,$F$52,$F$53,$F$54,$F$55,$F$56,$F$57,$F$58,$F$59),""),X22) | R22: =IF(AND($O$7=1,OR($S22<>0,$N$7=1)),IF(R$19<=$L22,CHOOSE(RANDBETWEEN(1,$K22),$F$51,$F$52,$F$53,$F$54,$F$55,$F$56,$F$57,$F$58,$F$59),""),Y22) | S22: =ROUND(SUMPRODUCT(1/COUNTIF(M22:R22,M22:R22))-IFERROR(COUNTBLANK(M22:R22)/COUNTBLANK(M22:R22),0)-L22,0) -> 0 | T22: =IFERROR(IF($O$7=0,0,M22),0) -> 47 | U22: =IFERROR(IF($O$7=0,0,N22),0) | V22: =IFERROR(IF($O$7=0,0,O22),0) | W22: =IFERROR(IF($O$7=0,0,P22),0) | X22: =IFERROR(IF($O$7=0,0,Q22),0) | Y22: =IFERROR(IF($O$7=0,0,R22),0) | AC22: =AC21 -> 2 | AD22: =IFERROR(HLOOKUP(ANS!M21,$AN$22:$AS$22,1,FALSE),0)+IFERROR(HLOOKUP(ANS!M21,$AN$32:$AS$32,1,FALSE),0)+IFERROR(HLOOKUP(ANS!M21,$AN$42:$AS$42,1,FALSE),0)+IFERROR(HLOOKUP(ANS!M21,$AN$52:$AS$52,1,FALSE),0)+IFERROR(HLOOKUP(ANS!M21,$AN$62:$AS$62,1,FALSE),0)+IFERROR(HLOOKUP(ANS!M21,$AN$72:$AS$72,1,FALSE),0)+IFERROR(HLOOKUP(ANS!M21,$AN$82:$AS$82,1,FALSE),0) -> 54 | AE22: =IF(AD22>=ANS!M21,0,1) -> 0 | AF22: =IF(AE22,ANS!M21,"") | AG22: =IFERROR(SMALL($AF$20:$AF$25,ANS!L21),"") | AK22: 2 | AL22: =MAX(1,$AH$20) -> 1 | AM22: =WEIGHTS!D63 -> 1 | AN22: =IF(AND($AP$7=1,OR($AT22<>0,$AO$7=1)),IF(AN$19<=$AM22,CHOOSE(RANDBETWEEN(1,$AL22),$AG$20,$AG$21,$AG$22,$AG$23,$AG$24,$AG$25),""),AU22) -> 54 | AO22: =IF(AND($AP$7=1,OR($AT22<>0,$AO$7=1)),IF(AO$19<=$AM22,CHOOSE(RANDBETWEEN(1,$AL22),$AG$20,$AG$21,$AG$22,$AG$23,$AG$24,$AG$25),""),AV22) | AP22: =IF(AND($AP$7=1,OR($AT22<>0,$AO$7=1)),IF(AP$19<=$AM22,CHOOSE(RANDBETWEEN(1,$AL22),$AG$20,$AG$21,$AG$22,$AG$23,$AG$24,$AG$25),""),AW22) | AQ22: =IF(AND($AP$7=1,OR($AT22<>0,$AO$7=1)),IF(AQ$19<=$AM22,CHOOSE(RANDBETWEEN(1,$AL22),$AG$20,$AG$21,$AG$22,$AG$23,$AG$24,$AG$25),""),AX22) | AR22: =IF(AND($AP$7=1,OR($AT22<>0,$AO$7=1)),IF(AR$19<=$AM22,CHOOSE(RANDBETWEEN(1,$AL22),$AG$20,$AG$21,$AG$22,$AG$23,$AG$24,$AG$25),""),AY22) | AS22: =IF(AND($AP$7=1,OR($AT22<>0,$AO$7=1)),IF(AS$19<=$AM22,CHOOSE(RANDBETWEEN(1,$AL22),$AG$20,$AG$21,$AG$22,$AG$23,$AG$24,$AG$25),""),AZ22) | AT22: =ROUND(SUMPRODUCT(1/COUNTIF(AN22:AS22,AN22:AS22))-IFERROR(COUNTBLANK(AN22:AS22)/COUNTBLANK(AN22:AS22),0)-AM22,0) -> 0 | AU22: =IFERROR(IF($AP$7=0,0,AN22),0) -> 54 | AV22: =IFERROR(IF($AP$7=0,0,AO22),0) | AW22: =IFERROR(IF($AP$7=0,0,AP22),0) | AX22: =IFERROR(IF($AP$7=0,0,AQ22),0) | AY22: =IFERROR(IF($AP$7=0,0,AR22),0) | AZ22: =IFERROR(IF($AP$7=0,0,AS22),0)
B23: =B22 -> 1 | C23: =IFERROR(HLOOKUP(ANS!C22,$M$21:$R$21,1,FALSE),0)+IFERROR(HLOOKUP(ANS!C22,$M$31:$R$31,1,FALSE),0)+IFERROR(HLOOKUP(ANS!C22,$M$41:$R$41,1,FALSE),0)+IFERROR(HLOOKUP(ANS!C22,$M$51:$R$51,1,FALSE),0)+IFERROR(HLOOKUP(ANS!C22,$M$61:$R$61,1,FALSE),0)+IFERROR(HLOOKUP(ANS!C22,$M$71:$R$71,1,FALSE),0)+IFERROR(HLOOKUP(ANS!C22,$M$81:$R$81,1,FALSE),0) -> 46 | D23: =IF(C23>=ANS!C22,0,1) -> 0 | E23: =IF(D23,ANS!C22,"") | F23: =IFERROR(SMALL($E$6:$E$50,ANS!B22),"") | J23: 3 | K23: =MAX(1,$G$60) -> 4 | L23: =WEIGHTS!D51 -> 4 | M23: =IF(AND($O$7=1,OR($S23<>0,$N$7=1)),IF(M$19<=$L23,CHOOSE(RANDBETWEEN(1,$K23),$F$60,$F$61,$F$62,$F$63,$F$64,$F$65,$F$66,$F$67,$F$68,$F$69,$F$70,$F$71,$F$72,$F$73,$F$74,$F$75,$F$76,$F$77,$F$78,$F$79,$F$80,$F$81,$F$82,$F$83,$F$84,$F$85,$F$86,$F$87,$F$88,$F$89,$F$90,$F$91),""),T23) -> 102 | N23: =IF(AND($O$7=1,OR($S23<>0,$N$7=1)),IF(N$19<=$L23,CHOOSE(RANDBETWEEN(1,$K23),$F$60,$F$61,$F$62,$F$63,$F$64,$F$65,$F$66,$F$67,$F$68,$F$69,$F$70,$F$71,$F$72,$F$73,$F$74,$F$75,$F$76,$F$77,$F$78,$F$79,$F$80,$F$81,$F$82,$F$83,$F$84,$F$85,$F$86,$F$87,$F$88,$F$89,$F$90,$F$91),""),U23) -> 122 | O23: =IF(AND($O$7=1,OR($S23<>0,$N$7=1)),IF(O$19<=$L23,CHOOSE(RANDBETWEEN(1,$K23),$F$60,$F$61,$F$62,$F$63,$F$64,$F$65,$F$66,$F$67,$F$68,$F$69,$F$70,$F$71,$F$72,$F$73,$F$74,$F$75,$F$76,$F$77,$F$78,$F$79,$F$80,$F$81,$F$82,$F$83,$F$84,$F$85,$F$86,$F$87,$F$88,$F$89,$F$90,$F$91),""),V23) -> 21 | P23: =IF(AND($O$7=1,OR($S23<>0,$N$7=1)),IF(P$19<=$L23,CHOOSE(RANDBETWEEN(1,$K23),$F$60,$F$61,$F$62,$F$63,$F$64,$F$65,$F$66,$F$67,$F$68,$F$69,$F$70,$F$71,$F$72,$F$73,$F$74,$F$75,$F$76,$F$77,$F$78,$F$79,$F$80,$F$81,$F$82,$F$83,$F$84,$F$85,$F$86,$F$87,$F$88,$F$89,$F$90,$F$91),""),W23) -> 50 | Q23: =IF(AND($O$7=1,OR($S23<>0,$N$7=1)),IF(Q$19<=$L23,CHOOSE(RANDBETWEEN(1,$K23),$F$60,$F$61,$F$62,$F$63,$F$64,$F$65,$F$66,$F$67,$F$68,$F$69,$F$70,$F$71,$F$72,$F$73,$F$74,$F$75,$F$76,$F$77,$F$78,$F$79,$F$80,$F$81,$F$82,$F$83,$F$84,$F$85,$F$86,$F$87,$F$88,$F$89,$F$90,$F$91),""),X23) | R23: =IF(AND($O$7=1,OR($S23<>0,$N$7=1)),IF(R$19<=$L23,CHOOSE(RANDBETWEEN(1,$K23),$F$60,$F$61,$F$62,$F$63,$F$64,$F$65,$F$66,$F$67,$F$68,$F$69,$F$70,$F$71,$F$72,$F$73,$F$74,$F$75,$F$76,$F$77,$F$78,$F$79,$F$80,$F$81,$F$82,$F$83,$F$84,$F$85,$F$86,$F$87,$F$88,$F$89,$F$90,$F$91),""),Y23) | S23: =ROUND(SUMPRODUCT(1/COUNTIF(M23:R23,M23:R23))-IFERROR(COUNTBLANK(M23:R23)/COUNTBLANK(M23:R23),0)-L23,0) -> 0 | T23: =IFERROR(IF($O$7=0,0,M23),0) -> 102 | U23: =IFERROR(IF($O$7=0,0,N23),0) -> 122 | V23: =IFERROR(IF($O$7=0,0,O23),0) -> 21 | W23: =IFERROR(IF($O$7=0,0,P23),0) -> 50 | X23: =IFERROR(IF($O$7=0,0,Q23),0) | Y23: =IFERROR(IF($O$7=0,0,R23),0) | AC23: =AC22 -> 2 | AD23: =IFERROR(HLOOKUP(ANS!M22,$AN$22:$AS$22,1,FALSE),0)+IFERROR(HLOOKUP(ANS!M22,$AN$32:$AS$32,1,FALSE),0)+IFERROR(HLOOKUP(ANS!M22,$AN$42:$AS$42,1,FALSE),0)+IFERROR(HLOOKUP(ANS!M22,$AN$52:$AS$52,1,FALSE),0)+IFERROR(HLOOKUP(ANS!M22,$AN$62:$AS$62,1,FALSE),0)+IFERROR(HLOOKUP(ANS!M22,$AN$72:$AS$72,1,FALSE),0)+IFERROR(HLOOKUP(ANS!M22,$AN$82:$AS$82,1,FALSE),0) -> 79 | AE23: =IF(AD23>=ANS!M22,0,1) -> 0 | AF23: =IF(AE23,ANS!M22,"") | AG23: =IFERROR(SMALL($AF$20:$AF$25,ANS!L22),"") | AK23: 3 | AL23: =MAX(1,$AH$26) -> 5 | AM23: =WEIGHTS!D64 -> 4 | AN23: =IF(AND($AP$7=1,OR($AT23<>0,$AO$7=1)),IF(AN$19<=$AM23,CHOOSE(RANDBETWEEN(1,$AL23),$AG$26,$AG$27,$AG$28,$AG$29,$AG$30,$AG$31,$AG$32,$AG$33,$AG$34,$AG$35,$AG$36,$AG$37,$AG$38,$AG$39,$AG$40,$AG$41,$AG$42,$AG$43,$AG$44,$AG$45,$AG$46,$AG$47,$AG$48,$AG$49,$AG$50,$AG$51,$AG$52,$AG$53,$AG$54,$AG$55,$AG$56,$AG$57,$AG$58,$AG$59,$AG$60),""),AU23) -> 32 | AO23: =IF(AND($AP$7=1,OR($AT23<>0,$AO$7=1)),IF(AO$19<=$AM23,CHOOSE(RANDBETWEEN(1,$AL23),$AG$26,$AG$27,$AG$28,$AG$29,$AG$30,$AG$31,$AG$32,$AG$33,$AG$34,$AG$35,$AG$36,$AG$37,$AG$38,$AG$39,$AG$40,$AG$41,$AG$42,$AG$43,$AG$44,$AG$45,$AG$46,$AG$47,$AG$48,$AG$49,$AG$50,$AG$51,$AG$52,$AG$53,$AG$54,$AG$55,$AG$56,$AG$57,$AG$58,$AG$59,$AG$60),""),AV23) -> 89 | AP23: =IF(AND($AP$7=1,OR($AT23<>0,$AO$7=1)),IF(AP$19<=$AM23,CHOOSE(RANDBETWEEN(1,$AL23),$AG$26,$AG$27,$AG$28,$AG$29,$AG$30,$AG$31,$AG$32,$AG$33,$AG$34,$AG$35,$AG$36,$AG$37,$AG$38,$AG$39,$AG$40,$AG$41,$AG$42,$AG$43,$AG$44,$AG$45,$AG$46,$AG$47,$AG$48,$AG$49,$AG$50,$AG$51,$AG$52,$AG$53,$AG$54,$AG$55,$AG$56,$AG$57,$AG$58,$AG$59,$AG$60),""),AW23) -> 94 | AQ23: =IF(AND($AP$7=1,OR($AT23<>0,$AO$7=1)),IF(AQ$19<=$AM23,CHOOSE(RANDBETWEEN(1,$AL23),$AG$26,$AG$27,$AG$28,$AG$29,$AG$30,$AG$31,$AG$32,$AG$33,$AG$34,$AG$35,$AG$36,$AG$37,$AG$38,$AG$39,$AG$40,$AG$41,$AG$42,$AG$43,$AG$44,$AG$45,$AG$46,$AG$47,$AG$48,$AG$49,$AG$50,$AG$51,$AG$52,$AG$53,$AG$54,$AG$55,$AG$56,$AG$57,$AG$58,$AG$59,$AG$60),""),AX23) -> 69 | AR23: =IF(AND($AP$7=1,OR($AT23<>0,$AO$7=1)),IF(AR$19<=$AM23,CHOOSE(RANDBETWEEN(1,$AL23),$AG$26,$AG$27,$AG$28,$AG$29,$AG$30,$AG$31,$AG$32,$AG$33,$AG$34,$AG$35,$AG$36,$AG$37,$AG$38,$AG$39,$AG$40,$AG$41,$AG$42,$AG$43,$AG$44,$AG$45,$AG$46,$AG$47,$AG$48,$AG$49,$AG$50,$AG$51,$AG$52,$AG$53,$AG$54,$AG$55,$AG$56,$AG$57,$AG$58,$AG$59,$AG$60),""),AY23) | AS23: =IF(AND($AP$7=1,OR($AT23<>0,$AO$7=1)),IF(AS$19<=$AM23,CHOOSE(RANDBETWEEN(1,$AL23),$AG$26,$AG$27,$AG$28,$AG$29,$AG$30,$AG$31,$AG$32,$AG$33,$AG$34,$AG$35,$AG$36,$AG$37,$AG$38,$AG$39,$AG$40,$AG$41,$AG$42,$AG$43,$AG$44,$AG$45,$AG$46,$AG$47,$AG$48,$AG$49,$AG$50,$AG$51,$AG$52,$AG$53,$AG$54,$AG$55,$AG$56,$AG$57,$AG$58,$AG$59,$AG$60),""),AZ23) | AT23: =ROUND(SUMPRODUCT(1/COUNTIF(AN23:AS23,AN23:AS23))-IFERROR(COUNTBLANK(AN23:AS23)/COUNTBLANK(AN23:AS23),0)-AM23,0) -> 0 | AU23: =IFERROR(IF($AP$7=0,0,AN23),0) -> 32 | AV23: =IFERROR(IF($AP$7=0,0,AO23),0) -> 89 | AW23: =IFERROR(IF($AP$7=0,0,AP23),0) -> 94 | AX23: =IFERROR(IF($AP$7=0,0,AQ23),0) -> 69 | AY23: =IFERROR(IF($AP$7=0,0,AR23),0) | AZ23: =IFERROR(IF($AP$7=0,0,AS23),0)
B24: =B23 -> 1 | C24: =IFERROR(HLOOKUP(ANS!C23,$M$21:$R$21,1,FALSE),0)+IFERROR(HLOOKUP(ANS!C23,$M$31:$R$31,1,FALSE),0)+IFERROR(HLOOKUP(ANS!C23,$M$41:$R$41,1,FALSE),0)+IFERROR(HLOOKUP(ANS!C23,$M$51:$R$51,1,FALSE),0)+IFERROR(HLOOKUP(ANS!C23,$M$61:$R$61,1,FALSE),0)+IFERROR(HLOOKUP(ANS!C23,$M$71:$R$71,1,FALSE),0)+IFERROR(HLOOKUP(ANS!C23,$M$81:$R$81,1,FALSE),0) -> 48 | D24: =IF(C24>=ANS!C23,0,1) -> 0 | E24: =IF(D24,ANS!C23,"") | F24: =IFERROR(SMALL($E$6:$E$50,ANS!B23),"") | J24: 4 | K24: =MAX(1,$G$92) -> 4 | L24: =WEIGHTS!D52 -> 2 | M24: =IF(AND($O$7=1,OR($S24<>0,$N$7=1)),IF(M$19<=$L24,CHOOSE(RANDBETWEEN(1,$K24),$F$92,$F$93,$F$94,$F$95,$F$96,$F$97,$F$98,$F$99,$F$100,$F$101,$F$102,$F$103,$F$104,$F$105,$F$106,$F$107,$F$108,$F$109,$F$110),""),T24) -> 175 | N24: =IF(AND($O$7=1,OR($S24<>0,$N$7=1)),IF(N$19<=$L24,CHOOSE(RANDBETWEEN(1,$K24),$F$92,$F$93,$F$94,$F$95,$F$96,$F$97,$F$98,$F$99,$F$100,$F$101,$F$102,$F$103,$F$104,$F$105,$F$106,$F$107,$F$108,$F$109,$F$110),""),U24) -> 71 | O24: =IF(AND($O$7=1,OR($S24<>0,$N$7=1)),IF(O$19<=$L24,CHOOSE(RANDBETWEEN(1,$K24),$F$92,$F$93,$F$94,$F$95,$F$96,$F$97,$F$98,$F$99,$F$100,$F$101,$F$102,$F$103,$F$104,$F$105,$F$106,$F$107,$F$108,$F$109,$F$110),""),V24) | P24: =IF(AND($O$7=1,OR($S24<>0,$N$7=1)),IF(P$19<=$L24,CHOOSE(RANDBETWEEN(1,$K24),$F$92,$F$93,$F$94,$F$95,$F$96,$F$97,$F$98,$F$99,$F$100,$F$101,$F$102,$F$103,$F$104,$F$105,$F$106,$F$107,$F$108,$F$109,$F$110),""),W24) | Q24: =IF(AND($O$7=1,OR($S24<>0,$N$7=1)),IF(Q$19<=$L24,CHOOSE(RANDBETWEEN(1,$K24),$F$92,$F$93,$F$94,$F$95,$F$96,$F$97,$F$98,$F$99,$F$100,$F$101,$F$102,$F$103,$F$104,$F$105,$F$106,$F$107,$F$108,$F$109,$F$110),""),X24) | R24: =IF(AND($O$7=1,OR($S24<>0,$N$7=1)),IF(R$19<=$L24,CHOOSE(RANDBETWEEN(1,$K24),$F$92,$F$93,$F$94,$F$95,$F$96,$F$97,$F$98,$F$99,$F$100,$F$101,$F$102,$F$103,$F$104,$F$105,$F$106,$F$107,$F$108,$F$109,$F$110),""),Y24) | S24: =ROUND(SUMPRODUCT(1/COUNTIF(M24:R24,M24:R24))-IFERROR(COUNTBLANK(M24:R24)/COUNTBLANK(M24:R24),0)-L24,0) -> 0 | T24: =IFERROR(IF($O$7=0,0,M24),0) -> 175 | U24: =IFERROR(IF($O$7=0,0,N24),0) -> 71 | V24: =IFERROR(IF($O$7=0,0,O24),0) | W24: =IFERROR(IF($O$7=0,0,P24),0) | X24: =IFERROR(IF($O$7=0,0,Q24),0) | Y24: =IFERROR(IF($O$7=0,0,R24),0) | AC24: =AC23 -> 2 | AD24: =IFERROR(HLOOKUP(ANS!M23,$AN$22:$AS$22,1,FALSE),0)+IFERROR(HLOOKUP(ANS!M23,$AN$32:$AS$32,1,FALSE),0)+IFERROR(HLOOKUP(ANS!M23,$AN$42:$AS$42,1,FALSE),0)+IFERROR(HLOOKUP(ANS!M23,$AN$52:$AS$52,1,FALSE),0)+IFERROR(HLOOKUP(ANS!M23,$AN$62:$AS$62,1,FALSE),0)+IFERROR(HLOOKUP(ANS!M23,$AN$72:$AS$72,1,FALSE),0)+IFERROR(HLOOKUP(ANS!M23,$AN$82:$AS$82,1,FALSE),0) -> 81 | AE24: =IF(AD24>=ANS!M23,0,1) -> 0 | AF24: =IF(AE24,ANS!M23,"") | AG24: =IFERROR(SMALL($AF$20:$AF$25,ANS!L23),"") | AK24: 4 | AL24: =MAX(1,$AH$61) -> 3 | AM24: =WEIGHTS!D65 -> 2 | AN24: =IF(AND($AP$7=1,OR($AT24<>0,$AO$7=1)),IF(AN$19<=$AM24,CHOOSE(RANDBETWEEN(1,$AL24),$AG$61,$AG$62,$AG$63,$AG$64,$AG$65,$AG$66,$AG$67,$AG$68,$AG$69,$AG$70,$AG$71,$AG$72,$AG$73,$AG$74,$AG$75,$AG$76),""),AU24) -> 95 | AO24: =IF(AND($AP$7=1,OR($AT24<>0,$AO$7=1)),IF(AO$19<=$AM24,CHOOSE(RANDBETWEEN(1,$AL24),$AG$61,$AG$62,$AG$63,$AG$64,$AG$65,$AG$66,$AG$67,$AG$68,$AG$69,$AG$70,$AG$71,$AG$72,$AG$73,$AG$74,$AG$75,$AG$76),""),AV24) -> 59 | AP24: =IF(AND($AP$7=1,OR($AT24<>0,$AO$7=1)),IF(AP$19<=$AM24,CHOOSE(RANDBETWEEN(1,$AL24),$AG$61,$AG$62,$AG$63,$AG$64,$AG$65,$AG$66,$AG$67,$AG$68,$AG$69,$AG$70,$AG$71,$AG$72,$AG$73,$AG$74,$AG$75,$AG$76),""),AW24) | AQ24: =IF(AND($AP$7=1,OR($AT24<>0,$AO$7=1)),IF(AQ$19<=$AM24,CHOOSE(RANDBETWEEN(1,$AL24),$AG$61,$AG$62,$AG$63,$AG$64,$AG$65,$AG$66,$AG$67,$AG$68,$AG$69,$AG$70,$AG$71,$AG$72,$AG$73,$AG$74,$AG$75,$AG$76),""),AX24) | AR24: =IF(AND($AP$7=1,OR($AT24<>0,$AO$7=1)),IF(AR$19<=$AM24,CHOOSE(RANDBETWEEN(1,$AL24),$AG$61,$AG$62,$AG$63,$AG$64,$AG$65,$AG$66,$AG$67,$AG$68,$AG$69,$AG$70,$AG$71,$AG$72,$AG$73,$AG$74,$AG$75,$AG$76),""),AY24) | AS24: =IF(AND($AP$7=1,OR($AT24<>0,$AO$7=1)),IF(AS$19<=$AM24,CHOOSE(RANDBETWEEN(1,$AL24),$AG$61,$AG$62,$AG$63,$AG$64,$AG$65,$AG$66,$AG$67,$AG$68,$AG$69,$AG$70,$AG$71,$AG$72,$AG$73,$AG$74,$AG$75,$AG$76),""),AZ24) | AT24: =ROUND(SUMPRODUCT(1/COUNTIF(AN24:AS24,AN24:AS24))-IFERROR(COUNTBLANK(AN24:AS24)/COUNTBLANK(AN24:AS24),0)-AM24,0) -> 0 | AU24: =IFERROR(IF($AP$7=0,0,AN24),0) -> 95 | AV24: =IFERROR(IF($AP$7=0,0,AO24),0) -> 59 | AW24: =IFERROR(IF($AP$7=0,0,AP24),0) | AX24: =IFERROR(IF($AP$7=0,0,AQ24),0) | AY24: =IFERROR(IF($AP$7=0,0,AR24),0) | AZ24: =IFERROR(IF($AP$7=0,0,AS24),0)
B25: =B24 -> 1 | C25: =IFERROR(HLOOKUP(ANS!C24,$M$21:$R$21,1,FALSE),0)+IFERROR(HLOOKUP(ANS!C24,$M$31:$R$31,1,FALSE),0)+IFERROR(HLOOKUP(ANS!C24,$M$41:$R$41,1,FALSE),0)+IFERROR(HLOOKUP(ANS!C24,$M$51:$R$51,1,FALSE),0)+IFERROR(HLOOKUP(ANS!C24,$M$61:$R$61,1,FALSE),0)+IFERROR(HLOOKUP(ANS!C24,$M$71:$R$71,1,FALSE),0)+IFERROR(HLOOKUP(ANS!C24,$M$81:$R$81,1,FALSE),0) -> 49 | D25: =IF(C25>=ANS!C24,0,1) -> 0 | E25: =IF(D25,ANS!C24,"") | F25: =IFERROR(SMALL($E$6:$E$50,ANS!B24),"") | J25: 5 | K25: =MAX(1,$G$111) -> 6 | L25: =WEIGHTS!D53 -> 5 | M25: =IF(AND($O$7=1,OR($S25<>0,$N$7=1)),IF(M$19<=$L25,CHOOSE(RANDBETWEEN(1,$K25),$F$111,$F$112,$F$113,$F$114,$F$115,$F$116,$F$117,$F$118,$F$119,$F$120,$F$121,$F$122,$F$123,$F$124,$F$125,$F$126,$F$127,$F$128,$F$129,$F$130,$F$131,$F$132,$F$133,$F$134,$F$135,$F$136,$F$137,$F$138,$F$139,$F$140,$F$141,$F$142,$F$143,$F$144,$F$145,$F$146,$F$147,$F$148,$F$149,$F$150,$F$151,$F$152,$F$153),""),T25) -> 23 | N25: =IF(AND($O$7=1,OR($S25<>0,$N$7=1)),IF(N$19<=$L25,CHOOSE(RANDBETWEEN(1,$K25),$F$111,$F$112,$F$113,$F$114,$F$115,$F$116,$F$117,$F$118,$F$119,$F$120,$F$121,$F$122,$F$123,$F$124,$F$125,$F$126,$F$127,$F$128,$F$129,$F$130,$F$131,$F$132,$F$133,$F$134,$F$135,$F$136,$F$137,$F$138,$F$139,$F$140,$F$141,$F$142,$F$143,$F$144,$F$145,$F$146,$F$147,$F$148,$F$149,$F$150,$F$151,$F$152,$F$153),""),U25) -> 165 | O25: =IF(AND($O$7=1,OR($S25<>0,$N$7=1)),IF(O$19<=$L25,CHOOSE(RANDBETWEEN(1,$K25),$F$111,$F$112,$F$113,$F$114,$F$115,$F$116,$F$117,$F$118,$F$119,$F$120,$F$121,$F$122,$F$123,$F$124,$F$125,$F$126,$F$127,$F$128,$F$129,$F$130,$F$131,$F$132,$F$133,$F$134,$F$135,$F$136,$F$137,$F$138,$F$139,$F$140,$F$141,$F$142,$F$143,$F$144,$F$145,$F$146,$F$147,$F$148,$F$149,$F$150,$F$151,$F$152,$F$153),""),V25) -> 140 | P25: =IF(AND($O$7=1,OR($S25<>0,$N$7=1)),IF(P$19<=$L25,CHOOSE(RANDBETWEEN(1,$K25),$F$111,$F$112,$F$113,$F$114,$F$115,$F$116,$F$117,$F$118,$F$119,$F$120,$F$121,$F$122,$F$123,$F$124,$F$125,$F$126,$F$127,$F$128,$F$129,$F$130,$F$131,$F$132,$F$133,$F$134,$F$135,$F$136,$F$137,$F$138,$F$139,$F$140,$F$141,$F$142,$F$143,$F$144,$F$145,$F$146,$F$147,$F$148,$F$149,$F$150,$F$151,$F$152,$F$153),""),W25) -> 120 | Q25: =IF(AND($O$7=1,OR($S25<>0,$N$7=1)),IF(Q$19<=$L25,CHOOSE(RANDBETWEEN(1,$K25),$F$111,$F$112,$F$113,$F$114,$F$115,$F$116,$F$117,$F$118,$F$119,$F$120,$F$121,$F$122,$F$123,$F$124,$F$125,$F$126,$F$127,$F$128,$F$129,$F$130,$F$131,$F$132,$F$133,$F$134,$F$135,$F$136,$F$137,$F$138,$F$139,$F$140,$F$141,$F$142,$F$143,$F$144,$F$145,$F$146,$F$147,$F$148,$F$149,$F$150,$F$151,$F$152,$F$153),""),X25) -> 67 | R25: =IF(AND($O$7=1,OR($S25<>0,$N$7=1)),IF(R$19<=$L25,CHOOSE(RANDBETWEEN(1,$K25),$F$111,$F$112,$F$113,$F$114,$F$115,$F$116,$F$117,$F$118,$F$119,$F$120,$F$121,$F$122,$F$123,$F$124,$F$125,$F$126,$F$127,$F$128,$F$129,$F$130,$F$131,$F$132,$F$133,$F$134,$F$135,$F$136,$F$137,$F$138,$F$139,$F$140,$F$141,$F$142,$F$143,$F$144,$F$145,$F$146,$F$147,$F$148,$F$149,$F$150,$F$151,$F$152,$F$153),""),Y25) | S25: =ROUND(SUMPRODUCT(1/COUNTIF(M25:R25,M25:R25))-IFERROR(COUNTBLANK(M25:R25)/COUNTBLANK(M25:R25),0)-L25,0) -> 0 | T25: =IFERROR(IF($O$7=0,0,M25),0) -> 23 | U25: =IFERROR(IF($O$7=0,0,N25),0) -> 165 | V25: =IFERROR(IF($O$7=0,0,O25),0) -> 140 | W25: =IFERROR(IF($O$7=0,0,P25),0) -> 120 | X25: =IFERROR(IF($O$7=0,0,Q25),0) -> 67 | Y25: =IFERROR(IF($O$7=0,0,R25),0) | AC25: =AC24 -> 2 | AD25: =IFERROR(HLOOKUP(ANS!M24,$AN$22:$AS$22,1,FALSE),0)+IFERROR(HLOOKUP(ANS!M24,$AN$32:$AS$32,1,FALSE),0)+IFERROR(HLOOKUP(ANS!M24,$AN$42:$AS$42,1,FALSE),0)+IFERROR(HLOOKUP(ANS!M24,$AN$52:$AS$52,1,FALSE),0)+IFERROR(HLOOKUP(ANS!M24,$AN$62:$AS$62,1,FALSE),0)+IFERROR(HLOOKUP(ANS!M24,$AN$72:$AS$72,1,FALSE),0)+IFERROR(HLOOKUP(ANS!M24,$AN$82:$AS$82,1,FALSE),0) -> 113 | AE25: =IF(AD25>=ANS!M24,0,1) -> 0 | AF25: =IF(AE25,ANS!M24,"") | AG25: =IFERROR(SMALL($AF$20:$AF$25,ANS!L24),"") | AK25: 5 | AL25: =MAX(1,$AH$77) -> 3 | AM25: =WEIGHTS!D66 -> 4 | AN25: =IF(AND($AP$7=1,OR($AT25<>0,$AO$7=1)),IF(AN$19<=$AM25,CHOOSE(RANDBETWEEN(1,$AL25),$AG$77,$AG$78,$AG$79,$AG$80,$AG$81,$AG$82,$AG$83,$AG$84,$AG$85,$AG$86,$AG$87,$AG$88,$AG$89,$AG$90,$AG$91,$AG$92,$AG$93,$AG$94,$AG$95,$AG$96,$AG$97,$AG$98,$AG$99,$AG$100,$AG$101,$AG$102),""),AU25) -> 108 | AO25: =IF(AND($AP$7=1,OR($AT25<>0,$AO$7=1)),IF(AO$19<=$AM25,CHOOSE(RANDBETWEEN(1,$AL25),$AG$77,$AG$78,$AG$79,$AG$80,$AG$81,$AG$82,$AG$83,$AG$84,$AG$85,$AG$86,$AG$87,$AG$88,$AG$89,$AG$90,$AG$91,$AG$92,$AG$93,$AG$94,$AG$95,$AG$96,$AG$97,$AG$98,$AG$99,$AG$100,$AG$101,$AG$102),""),AV25) -> 117 | AP25: =IF(AND($AP$7=1,OR($AT25<>0,$AO$7=1)),IF(AP$19<=$AM25,CHOOSE(RANDBETWEEN(1,$AL25),$AG$77,$AG$78,$AG$79,$AG$80,$AG$81,$AG$82,$AG$83,$AG$84,$AG$85,$AG$86,$AG$87,$AG$88,$AG$89,$AG$90,$AG$91,$AG$92,$AG$93,$AG$94,$AG$95,$AG$96,$AG$97,$AG$98,$AG$99,$AG$100,$AG$101,$AG$102),""),AW25) -> 44 | AQ25: =IF(AND($AP$7=1,OR($AT25<>0,$AO$7=1)),IF(AQ$19<=$AM25,CHOOSE(RANDBETWEEN(1,$AL25),$AG$77,$AG$78,$AG$79,$AG$80,$AG$81,$AG$82,$AG$83,$AG$84,$AG$85,$AG$86,$AG$87,$AG$88,$AG$89,$AG$90,$AG$91,$AG$92,$AG$93,$AG$94,$AG$95,$AG$96,$AG$97,$AG$98,$AG$99,$AG$100,$AG$101,$AG$102),""),AX25) -> 97 | AR25: =IF(AND($AP$7=1,OR($AT25<>0,$AO$7=1)),IF(AR$19<=$AM25,CHOOSE(RANDBETWEEN(1,$AL25),$AG$77,$AG$78,$AG$79,$AG$80,$AG$81,$AG$82,$AG$83,$AG$84,$AG$85,$AG$86,$AG$87,$AG$88,$AG$89,$AG$90,$AG$91,$AG$92,$AG$93,$AG$94,$AG$95,$AG$96,$AG$97,$AG$98,$AG$99,$AG$100,$AG$101,$AG$102),""),AY25) | AS25: =IF(AND($AP$7=1,OR($AT25<>0,$AO$7=1)),IF(AS$19<=$AM25,CHOOSE(RANDBETWEEN(1,$AL25),$AG$77,$AG$78,$AG$79,$AG$80,$AG$81,$AG$82,$AG$83,$AG$84,$AG$85,$AG$86,$AG$87,$AG$88,$AG$89,$AG$90,$AG$91,$AG$92,$AG$93,$AG$94,$AG$95,$AG$96,$AG$97,$AG$98,$AG$99,$AG$100,$AG$101,$AG$102),""),AZ25) | AT25: =ROUND(SUMPRODUCT(1/COUNTIF(AN25:AS25,AN25:AS25))-IFERROR(COUNTBLANK(AN25:AS25)/COUNTBLANK(AN25:AS25),0)-AM25,0) -> 0 | AU25: =IFERROR(IF($AP$7=0,0,AN25),0) -> 108 | AV25: =IFERROR(IF($AP$7=0,0,AO25),0) -> 117 | AW25: =IFERROR(IF($AP$7=0,0,AP25),0) -> 44 | AX25: =IFERROR(IF($AP$7=0,0,AQ25),0) -> 97 | AY25: =IFERROR(IF($AP$7=0,0,AR25),0) | AZ25: =IFERROR(IF($AP$7=0,0,AS25),0)
B26: =B25 -> 1 | C26: =IFERROR(HLOOKUP(ANS!C25,$M$21:$R$21,1,FALSE),0)+IFERROR(HLOOKUP(ANS!C25,$M$31:$R$31,1,FALSE),0)+IFERROR(HLOOKUP(ANS!C25,$M$41:$R$41,1,FALSE),0)+IFERROR(HLOOKUP(ANS!C25,$M$51:$R$51,1,FALSE),0)+IFERROR(HLOOKUP(ANS!C25,$M$61:$R$61,1,FALSE),0)+IFERROR(HLOOKUP(ANS!C25,$M$71:$R$71,1,FALSE),0)+IFERROR(HLOOKUP(ANS!C25,$M$81:$R$81,1,FALSE),0) -> 51 | D26: =IF(C26>=ANS!C25,0,1) -> 0 | E26: =IF(D26,ANS!C25,"") | F26: =IFERROR(SMALL($E$6:$E$50,ANS!B25),"") | J26: 6 | K26: =MAX(1,$G$154) -> 2 | L26: =WEIGHTS!D54 -> 1 | M26: =IF(AND($O$7=1,OR($S26<>0,$N$7=1)),IF(M$19<=$L26,CHOOSE(RANDBETWEEN(1,$K26),$F$154,$F$155,$F$156,$F$157,$F$158,$F$159,$F$160,$F$161,$F$162,$F$163,$F$164,$F$165,$F$166),""),T26) -> 68 | N26: =IF(AND($O$7=1,OR($S26<>0,$N$7=1)),IF(N$19<=$L26,CHOOSE(RANDBETWEEN(1,$K26),$F$154,$F$155,$F$156,$F$157,$F$158,$F$159,$F$160,$F$161,$F$162,$F$163,$F$164,$F$165,$F$166),""),U26) | O26: =IF(AND($O$7=1,OR($S26<>0,$N$7=1)),IF(O$19<=$L26,CHOOSE(RANDBETWEEN(1,$K26),$F$154,$F$155,$F$156,$F$157,$F$158,$F$159,$F$160,$F$161,$F$162,$F$163,$F$164,$F$165,$F$166),""),V26) | P26: =IF(AND($O$7=1,OR($S26<>0,$N$7=1)),IF(P$19<=$L26,CHOOSE(RANDBETWEEN(1,$K26),$F$154,$F$155,$F$156,$F$157,$F$158,$F$159,$F$160,$F$161,$F$162,$F$163,$F$164,$F$165,$F$166),""),W26) | Q26: =IF(AND($O$7=1,OR($S26<>0,$N$7=1)),IF(Q$19<=$L26,CHOOSE(RANDBETWEEN(1,$K26),$F$154,$F$155,$F$156,$F$157,$F$158,$F$159,$F$160,$F$161,$F$162,$F$163,$F$164,$F$165,$F$166),""),X26) | R26: =IF(AND($O$7=1,OR($S26<>0,$N$7=1)),IF(R$19<=$L26,CHOOSE(RANDBETWEEN(1,$K26),$F$154,$F$155,$F$156,$F$157,$F$158,$F$159,$F$160,$F$161,$F$162,$F$163,$F$164,$F$165,$F$166),""),Y26) | S26: =ROUND(SUMPRODUCT(1/COUNTIF(M26:R26,M26:R26))-IFERROR(COUNTBLANK(M26:R26)/COUNTBLANK(M26:R26),0)-L26,0) -> 0 | T26: =IFERROR(IF($O$7=0,0,M26),0) -> 68 | U26: =IFERROR(IF($O$7=0,0,N26),0) | V26: =IFERROR(IF($O$7=0,0,O26),0) | W26: =IFERROR(IF($O$7=0,0,P26),0) | X26: =IFERROR(IF($O$7=0,0,Q26),0) | Y26: =IFERROR(IF($O$7=0,0,R26),0) | AC26: 3 | AD26: =IFERROR(HLOOKUP(ANS!M25,$AN$23:$AS$23,1,FALSE),0)+IFERROR(HLOOKUP(ANS!M25,$AN$33:$AS$33,1,FALSE),0)+IFERROR(HLOOKUP(ANS!M25,$AN$43:$AS$43,1,FALSE),0)+IFERROR(HLOOKUP(ANS!M25,$AN$53:$AS$53,1,FALSE),0)+IFERROR(HLOOKUP(ANS!M25,$AN$63:$AS$63,1,FALSE),0)+IFERROR(HLOOKUP(ANS!M25,$AN$73:$AS$73,1,FALSE),0)+IFERROR(HLOOKUP(ANS!M25,$AN$83:$AS$83,1,FALSE),0) -> 0 | AE26: =IF(AD26>=ANS!M25,0,1) -> 1 | AF26: =IF(AE26,ANS!M25,"") -> 2 | AG26: =IFERROR(SMALL($AF$26:$AF$60,ANS!L25),"") -> 2 | AH26: =COUNT(AG26:AG60) -> 5 | AI26: =AH26-AM93 -> 1 | AK26: 6 | AL26: =MAX(1,$AH$103) -> 2 | AM26: =WEIGHTS!D67 -> 2 | AN26: =IF(AND($AP$7=1,OR($AT26<>0,$AO$7=1)),IF(AN$19<=$AM26,CHOOSE(RANDBETWEEN(1,$AL26),$AG$103,$AG$104,$AG$105,$AG$106,$AG$107,$AG$108,$AG$109,$AG$110,$AG$111,$AG$112,$AG$113,$AG$114,$AG$115,$AG$116,$AG$117,$AG$118),""),AU26) -> 3 | AO26: =IF(AND($AP$7=1,OR($AT26<>0,$AO$7=1)),IF(AO$19<=$AM26,CHOOSE(RANDBETWEEN(1,$AL26),$AG$103,$AG$104,$AG$105,$AG$106,$AG$107,$AG$108,$AG$109,$AG$110,$AG$111,$AG$112,$AG$113,$AG$114,$AG$115,$AG$116,$AG$117,$AG$118),""),AV26) -> 90 | AP26: =IF(AND($AP$7=1,OR($AT26<>0,$AO$7=1)),IF(AP$19<=$AM26,CHOOSE(RANDBETWEEN(1,$AL26),$AG$103,$AG$104,$AG$105,$AG$106,$AG$107,$AG$108,$AG$109,$AG$110,$AG$111,$AG$112,$AG$113,$AG$114,$AG$115,$AG$116,$AG$117,$AG$118),""),AW26) | AQ26: =IF(AND($AP$7=1,OR($AT26<>0,$AO$7=1)),IF(AQ$19<=$AM26,CHOOSE(RANDBETWEEN(1,$AL26),$AG$103,$AG$104,$AG$105,$AG$106,$AG$107,$AG$108,$AG$109,$AG$110,$AG$111,$AG$112,$AG$113,$AG$114,$AG$115,$AG$116,$AG$117,$AG$118),""),AX26) | AR26: =IF(AND($AP$7=1,OR($AT26<>0,$AO$7=1)),IF(AR$19<=$AM26,CHOOSE(RANDBETWEEN(1,$AL26),$AG$103,$AG$104,$AG$105,$AG$106,$AG$107,$AG$108,$AG$109,$AG$110,$AG$111,$AG$112,$AG$113,$AG$114,$AG$115,$AG$116,$AG$117,$AG$118),""),AY26) | AS26: =IF(AND($AP$7=1,OR($AT26<>0,$AO$7=1)),IF(AS$19<=$AM26,CHOOSE(RANDBETWEEN(1,$AL26),$AG$103,$AG$104,$AG$105,$AG$106,$AG$107,$AG$108,$AG$109,$AG$110,$AG$111,$AG$112,$AG$113,$AG$114,$AG$115,$AG$116,$AG$117,$AG$118),""),AZ26) | AT26: =ROUND(SUMPRODUCT(1/COUNTIF(AN26:AS26,AN26:AS26))-IFERROR(COUNTBLANK(AN26:AS26)/COUNTBLANK(AN26:AS26),0)-AM26,0) -> 0 | AU26: =IFERROR(IF($AP$7=0,0,AN26),0) -> 3 | AV26: =IFERROR(IF($AP$7=0,0,AO26),0) -> 90 | AW26: =IFERROR(IF($AP$7=0,0,AP26),0) | AX26: =IFERROR(IF($AP$7=0,0,AQ26),0) | AY26: =IFERROR(IF($AP$7=0,0,AR26),0) | AZ26: =IFERROR(IF($AP$7=0,0,AS26),0)
B27: =B26 -> 1 | C27: =IFERROR(HLOOKUP(ANS!C26,$M$21:$R$21,1,FALSE),0)+IFERROR(HLOOKUP(ANS!C26,$M$31:$R$31,1,FALSE),0)+IFERROR(HLOOKUP(ANS!C26,$M$41:$R$41,1,FALSE),0)+IFERROR(HLOOKUP(ANS!C26,$M$51:$R$51,1,FALSE),0)+IFERROR(HLOOKUP(ANS!C26,$M$61:$R$61,1,FALSE),0)+IFERROR(HLOOKUP(ANS!C26,$M$71:$R$71,1,FALSE),0)+IFERROR(HLOOKUP(ANS!C26,$M$81:$R$81,1,FALSE),0) -> 52 | D27: =IF(C27>=ANS!C26,0,1) -> 0 | E27: =IF(D27,ANS!C26,"") | F27: =IFERROR(SMALL($E$6:$E$50,ANS!B26),"") | J27: 7 | K27: =MAX(1,$G$167) -> 1 | L27: =WEIGHTS!D55 -> 1 | M27: =IF(AND($O$7=1,OR($S27<>0,$N$7=1)),IF(M$19<=$L27,CHOOSE(RANDBETWEEN(1,$K27),$F$167,$F$168,$F$169,$F$170,$F$171,$F$172,$F$173,$F$174,$F$175,$F$176,$F$177),""),T27) -> 63 | N27: =IF(AND($O$7=1,OR($S27<>0,$N$7=1)),IF(N$19<=$L27,CHOOSE(RANDBETWEEN(1,$K27),$F$167,$F$168,$F$169,$F$170,$F$171,$F$172,$F$173,$F$174,$F$175,$F$176,$F$177),""),U27) | O27: =IF(AND($O$7=1,OR($S27<>0,$N$7=1)),IF(O$19<=$L27,CHOOSE(RANDBETWEEN(1,$K27),$F$167,$F$168,$F$169,$F$170,$F$171,$F$172,$F$173,$F$174,$F$175,$F$176,$F$177),""),V27) | P27: =IF(AND($O$7=1,OR($S27<>0,$N$7=1)),IF(P$19<=$L27,CHOOSE(RANDBETWEEN(1,$K27),$F$167,$F$168,$F$169,$F$170,$F$171,$F$172,$F$173,$F$174,$F$175,$F$176,$F$177),""),W27) | Q27: =IF(AND($O$7=1,OR($S27<>0,$N$7=1)),IF(Q$19<=$L27,CHOOSE(RANDBETWEEN(1,$K27),$F$167,$F$168,$F$169,$F$170,$F$171,$F$172,$F$173,$F$174,$F$175,$F$176,$F$177),""),X27) | R27: =IF(AND($O$7=1,OR($S27<>0,$N$7=1)),IF(R$19<=$L27,CHOOSE(RANDBETWEEN(1,$K27),$F$167,$F$168,$F$169,$F$170,$F$171,$F$172,$F$173,$F$174,$F$175,$F$176,$F$177),""),Y27) | S27: =ROUND(SUMPRODUCT(1/COUNTIF(M27:R27,M27:R27))-IFERROR(COUNTBLANK(M27:R27)/COUNTBLANK(M27:R27),0)-L27,0) -> 0 | T27: =IFERROR(IF($O$7=0,0,M27),0) -> 63 | U27: =IFERROR(IF($O$7=0,0,N27),0) | V27: =IFERROR(IF($O$7=0,0,O27),0) | W27: =IFERROR(IF($O$7=0,0,P27),0) | X27: =IFERROR(IF($O$7=0,0,Q27),0) | Y27: =IFERROR(IF($O$7=0,0,R27),0) | AC27: =AC26 -> 3 | AD27: =IFERROR(HLOOKUP(ANS!M26,$AN$23:$AS$23,1,FALSE),0)+IFERROR(HLOOKUP(ANS!M26,$AN$33:$AS$33,1,FALSE),0)+IFERROR(HLOOKUP(ANS!M26,$AN$43:$AS$43,1,FALSE),0)+IFERROR(HLOOKUP(ANS!M26,$AN$53:$AS$53,1,FALSE),0)+IFERROR(HLOOKUP(ANS!M26,$AN$63:$AS$63,1,FALSE),0)+IFERROR(HLOOKUP(ANS!M26,$AN$73:$AS$73,1,FALSE),0)+IFERROR(HLOOKUP(ANS!M26,$AN$83:$AS$83,1,FALSE),0) -> 15 | AE27: =IF(AD27>=ANS!M26,0,1) -> 0 | AF27: =IF(AE27,ANS!M26,"") | AG27: =IFERROR(SMALL($AF$26:$AF$60,ANS!L26),"") -> 28 | AK27: 7 | AL27: =MAX(1,$AH$119) -> 1 | AM27: =WEIGHTS!D68 -> 2 | AN27: =IF(AND($AP$7=1,OR($AT27<>0,$AO$7=1)),IF(AN$19<=$AM27,CHOOSE(RANDBETWEEN(1,$AL27),$AG$119,$AG$120,$AG$121,$AG$122,$AG$123,$AG$124,$AG$125,$AG$126,$AG$127,$AG$128),""),AU27) -> 101 | AO27: =IF(AND($AP$7=1,OR($AT27<>0,$AO$7=1)),IF(AO$19<=$AM27,CHOOSE(RANDBETWEEN(1,$AL27),$AG$119,$AG$120,$AG$121,$AG$122,$AG$123,$AG$124,$AG$125,$AG$126,$AG$127,$AG$128),""),AV27) -> 112 | AP27: =IF(AND($AP$7=1,OR($AT27<>0,$AO$7=1)),IF(AP$19<=$AM27,CHOOSE(RANDBETWEEN(1,$AL27),$AG$119,$AG$120,$AG$121,$AG$122,$AG$123,$AG$124,$AG$125,$AG$126,$AG$127,$AG$128),""),AW27) | AQ27: =IF(AND($AP$7=1,OR($AT27<>0,$AO$7=1)),IF(AQ$19<=$AM27,CHOOSE(RANDBETWEEN(1,$AL27),$AG$119,$AG$120,$AG$121,$AG$122,$AG$123,$AG$124,$AG$125,$AG$126,$AG$127,$AG$128),""),AX27) | AR27: =IF(AND($AP$7=1,OR($AT27<>0,$AO$7=1)),IF(AR$19<=$AM27,CHOOSE(RANDBETWEEN(1,$AL27),$AG$119,$AG$120,$AG$121,$AG$122,$AG$123,$AG$124,$AG$125,$AG$126,$AG$127,$AG$128),""),AY27) | AS27: =IF(AND($AP$7=1,OR($AT27<>0,$AO$7=1)),IF(AS$19<=$AM27,CHOOSE(RANDBETWEEN(1,$AL27),$AG$119,$AG$120,$AG$121,$AG$122,$AG$123,$AG$124,$AG$125,$AG$126,$AG$127,$AG$128),""),AZ27) | AT27: =ROUND(SUMPRODUCT(1/COUNTIF(AN27:AS27,AN27:AS27))-IFERROR(COUNTBLANK(AN27:AS27)/COUNTBLANK(AN27:AS27),0)-AM27,0) -> 0 | AU27: =IFERROR(IF($AP$7=0,0,AN27),0) -> 101 | AV27: =IFERROR(IF($AP$7=0,0,AO27),0) -> 112 | AW27: =IFERROR(IF($AP$7=0,0,AP27),0) | AX27: =IFERROR(IF($AP$7=0,0,AQ27),0) | AY27: =IFERROR(IF($AP$7=0,0,AR27),0) | AZ27: =IFERROR(IF($AP$7=0,0,AS27),0)
B28: =B27 -> 1 | C28: =IFERROR(HLOOKUP(ANS!C27,$M$21:$R$21,1,FALSE),0)+IFERROR(HLOOKUP(ANS!C27,$M$31:$R$31,1,FALSE),0)+IFERROR(HLOOKUP(ANS!C27,$M$41:$R$41,1,FALSE),0)+IFERROR(HLOOKUP(ANS!C27,$M$51:$R$51,1,FALSE),0)+IFERROR(HLOOKUP(ANS!C27,$M$61:$R$61,1,FALSE),0)+IFERROR(HLOOKUP(ANS!C27,$M$71:$R$71,1,FALSE),0)+IFERROR(HLOOKUP(ANS!C27,$M$81:$R$81,1,FALSE),0) -> 53 | D28: =IF(C28>=ANS!C27,0,1) -> 0 | E28: =IF(D28,ANS!C27,"") | F28: =IFERROR(SMALL($E$6:$E$50,ANS!B27),"") | J28: 8 | K28: =MAX(1,$G$178) -> 1 | L28: =WEIGHTS!D56 -> 0 | M28: =IF(AND($O$7=1,OR($S28<>0,$N$7=1)),IF(M$19<=$L28,CHOOSE(RANDBETWEEN(1,$K28),$F$178,$F$179),""),T28) | N28: =IF(AND($O$7=1,OR($S28<>0,$N$7=1)),IF(N$19<=$L28,CHOOSE(RANDBETWEEN(1,$K28),$F$178,$F$179),""),U28) | O28: =IF(AND($O$7=1,OR($S28<>0,$N$7=1)),IF(O$19<=$L28,CHOOSE(RANDBETWEEN(1,$K28),$F$178,$F$179),""),V28) | P28: =IF(AND($O$7=1,OR($S28<>0,$N$7=1)),IF(P$19<=$L28,CHOOSE(RANDBETWEEN(1,$K28),$F$178,$F$179),""),W28) | Q28: =IF(AND($O$7=1,OR($S28<>0,$N$7=1)),IF(Q$19<=$L28,CHOOSE(RANDBETWEEN(1,$K28),$F$178,$F$179),""),X28) | R28: =IF(AND($O$7=1,OR($S28<>0,$N$7=1)),IF(R$19<=$L28,CHOOSE(RANDBETWEEN(1,$K28),$F$178,$F$179),""),Y28) | S28: =ROUND(SUMPRODUCT(1/COUNTIF(M28:R28,M28:R28))-IFERROR(COUNTBLANK(M28:R28)/COUNTBLANK(M28:R28),0)-L28,0) -> 0 | T28: =IFERROR(IF($O$7=0,0,M28),0) | U28: =IFERROR(IF($O$7=0,0,N28),0) | V28: =IFERROR(IF($O$7=0,0,O28),0) | W28: =IFERROR(IF($O$7=0,0,P28),0) | X28: =IFERROR(IF($O$7=0,0,Q28),0) | Y28: =IFERROR(IF($O$7=0,0,R28),0) | AC28: =AC27 -> 3 | AD28: =IFERROR(HLOOKUP(ANS!M27,$AN$23:$AS$23,1,FALSE),0)+IFERROR(HLOOKUP(ANS!M27,$AN$33:$AS$33,1,FALSE),0)+IFERROR(HLOOKUP(ANS!M27,$AN$43:$AS$43,1,FALSE),0)+IFERROR(HLOOKUP(ANS!M27,$AN$53:$AS$53,1,FALSE),0)+IFERROR(HLOOKUP(ANS!M27,$AN$63:$AS$63,1,FALSE),0)+IFERROR(HLOOKUP(ANS!M27,$AN$73:$AS$73,1,FALSE),0)+IFERROR(HLOOKUP(ANS!M27,$AN$83:$AS$83,1,FALSE),0) -> 23 | AE28: =IF(AD28>=ANS!M27,0,1) -> 0 | AF28: =IF(AE28,ANS!M27,"") | AG28: =IFERROR(SMALL($AF$26:$AF$60,ANS!L27),"") -> 42 | AK28: 8 | AM28: =WEIGHTS!D69 -> 0
B29: =B28 -> 1 | C29: =IFERROR(HLOOKUP(ANS!C28,$M$21:$R$21,1,FALSE),0)+IFERROR(HLOOKUP(ANS!C28,$M$31:$R$31,1,FALSE),0)+IFERROR(HLOOKUP(ANS!C28,$M$41:$R$41,1,FALSE),0)+IFERROR(HLOOKUP(ANS!C28,$M$51:$R$51,1,FALSE),0)+IFERROR(HLOOKUP(ANS!C28,$M$61:$R$61,1,FALSE),0)+IFERROR(HLOOKUP(ANS!C28,$M$71:$R$71,1,FALSE),0)+IFERROR(HLOOKUP(ANS!C28,$M$81:$R$81,1,FALSE),0) -> 58 | D29: =IF(C29>=ANS!C28,0,1) -> 0 | E29: =IF(D29,ANS!C28,"") | F29: =IFERROR(SMALL($E$6:$E$50,ANS!B28),"") | J29: 9 | K29: =MAX(1,$G$180) -> 1 | L29: =WEIGHTS!D57 -> 0 | M29: =IF(AND($O$7=1,OR($S29<>0,$N$7=1)),IF(M$19<=$L29,CHOOSE(RANDBETWEEN(1,$K29),$F$180,$F$181),""),T29) | N29: =IF(AND($O$7=1,OR($S29<>0,$N$7=1)),IF(N$19<=$L29,CHOOSE(RANDBETWEEN(1,$K29),$F$180,$F$181),""),U29) | O29: =IF(AND($O$7=1,OR($S29<>0,$N$7=1)),IF(O$19<=$L29,CHOOSE(RANDBETWEEN(1,$K29),$F$180,$F$181),""),V29) | P29: =IF(AND($O$7=1,OR($S29<>0,$N$7=1)),IF(P$19<=$L29,CHOOSE(RANDBETWEEN(1,$K29),$F$180,$F$181),""),W29) | Q29: =IF(AND($O$7=1,OR($S29<>0,$N$7=1)),IF(Q$19<=$L29,CHOOSE(RANDBETWEEN(1,$K29),$F$180,$F$181),""),X29) | R29: =IF(AND($O$7=1,OR($S29<>0,$N$7=1)),IF(R$19<=$L29,CHOOSE(RANDBETWEEN(1,$K29),$F$180,$F$181),""),Y29) | S29: =ROUND(SUMPRODUCT(1/COUNTIF(M29:R29,M29:R29))-IFERROR(COUNTBLANK(M29:R29)/COUNTBLANK(M29:R29),0)-L29,0) -> 0 | T29: =IFERROR(IF($O$7=0,0,M29),0) | U29: =IFERROR(IF($O$7=0,0,N29),0) | V29: =IFERROR(IF($O$7=0,0,O29),0) | W29: =IFERROR(IF($O$7=0,0,P29),0) | X29: =IFERROR(IF($O$7=0,0,Q29),0) | Y29: =IFERROR(IF($O$7=0,0,R29),0) | AC29: =AC28 -> 3 | AD29: =IFERROR(HLOOKUP(ANS!M28,$AN$23:$AS$23,1,FALSE),0)+IFERROR(HLOOKUP(ANS!M28,$AN$33:$AS$33,1,FALSE),0)+IFERROR(HLOOKUP(ANS!M28,$AN$43:$AS$43,1,FALSE),0)+IFERROR(HLOOKUP(ANS!M28,$AN$53:$AS$53,1,FALSE),0)+IFERROR(HLOOKUP(ANS!M28,$AN$63:$AS$63,1,FALSE),0)+IFERROR(HLOOKUP(ANS!M28,$AN$73:$AS$73,1,FALSE),0)+IFERROR(HLOOKUP(ANS!M28,$AN$83:$AS$83,1,FALSE),0) -> 25 | AE29: =IF(AD29>=ANS!M28,0,1) -> 0 | AF29: =IF(AE29,ANS!M28,"") | AG29: =IFERROR(SMALL($AF$26:$AF$60,ANS!L28),"") -> 105 | AK29: 9 | AL29: =MAX(1,$AH$129) -> 1 | AM29: =WEIGHTS!D70 -> 0 | AN29: =IF(AND($AP$7=1,OR($AT29<>0,$AO$7=1)),IF(AN$19<=$AM29,CHOOSE(RANDBETWEEN(1,$AL29),$AG$129),""),AU29) | AO29: =IF(AND($AP$7=1,OR($AT29<>0,$AO$7=1)),IF(AO$19<=$AM29,CHOOSE(RANDBETWEEN(1,$AL29),$AG$129),""),AV29) | AP29: =IF(AND($AP$7=1,OR($AT29<>0,$AO$7=1)),IF(AP$19<=$AM29,CHOOSE(RANDBETWEEN(1,$AL29),$AG$129),""),AW29) | AQ29: =IF(AND($AP$7=1,OR($AT29<>0,$AO$7=1)),IF(AQ$19<=$AM29,CHOOSE(RANDBETWEEN(1,$AL29),$AG$129),""),AX29) | AR29: =IF(AND($AP$7=1,OR($AT29<>0,$AO$7=1)),IF(AR$19<=$AM29,CHOOSE(RANDBETWEEN(1,$AL29),$AG$129),""),AY29) | AS29: =IF(AND($AP$7=1,OR($AT29<>0,$AO$7=1)),IF(AS$19<=$AM29,CHOOSE(RANDBETWEEN(1,$AL29),$AG$129),""),AZ29) | AT29: =ROUND(SUMPRODUCT(1/COUNTIF(AN29:AS29,AN29:AS29))-IFERROR(COUNTBLANK(AN29:AS29)/COUNTBLANK(AN29:AS29),0)-AM29,0) -> 0 | AU29: =IFERROR(IF($AP$7=0,0,AN29),0) | AV29: =IFERROR(IF($AP$7=0,0,AO29),0) | AW29: =IFERROR(IF($AP$7=0,0,AP29),0) | AX29: =IFERROR(IF($AP$7=0,0,AQ29),0) | AY29: =IFERROR(IF($AP$7=0,0,AR29),0) | AZ29: =IFERROR(IF($AP$7=0,0,AS29),0)
B30: =B29 -> 1 | C30: =IFERROR(HLOOKUP(ANS!C29,$M$21:$R$21,1,FALSE),0)+IFERROR(HLOOKUP(ANS!C29,$M$31:$R$31,1,FALSE),0)+IFERROR(HLOOKUP(ANS!C29,$M$41:$R$41,1,FALSE),0)+IFERROR(HLOOKUP(ANS!C29,$M$51:$R$51,1,FALSE),0)+IFERROR(HLOOKUP(ANS!C29,$M$61:$R$61,1,FALSE),0)+IFERROR(HLOOKUP(ANS!C29,$M$71:$R$71,1,FALSE),0)+IFERROR(HLOOKUP(ANS!C29,$M$81:$R$81,1,FALSE),0) -> 59 | D30: =IF(C30>=ANS!C29,0,1) -> 0 | E30: =IF(D30,ANS!C29,"") | F30: =IFERROR(SMALL($E$6:$E$50,ANS!B29),"") | M30: Drill 2 | S30: =COUNTIF(M31:R39,0) -> 0 | T30: Drill 2 | AC30: =AC29 -> 3 | AD30: =IFERROR(HLOOKUP(ANS!M29,$AN$23:$AS$23,1,FALSE),0)+IFERROR(HLOOKUP(ANS!M29,$AN$33:$AS$33,1,FALSE),0)+IFERROR(HLOOKUP(ANS!M29,$AN$43:$AS$43,1,FALSE),0)+IFERROR(HLOOKUP(ANS!M29,$AN$53:$AS$53,1,FALSE),0)+IFERROR(HLOOKUP(ANS!M29,$AN$63:$AS$63,1,FALSE),0)+IFERROR(HLOOKUP(ANS!M29,$AN$73:$AS$73,1,FALSE),0)+IFERROR(HLOOKUP(ANS!M29,$AN$83:$AS$83,1,FALSE),0) -> 0 | AE30: =IF(AD30>=ANS!M29,0,1) -> 1 | AF30: =IF(AE30,ANS!M29,"") -> 28 | AG30: =IFERROR(SMALL($AF$26:$AF$60,ANS!L29),"") -> 124 | AN30: Drill 2 | AT30: =COUNTIF(AN31:AS39,0) -> 0 | AU30: Drill 2
B31: =B30 -> 1 | C31: =IFERROR(HLOOKUP(ANS!C30,$M$21:$R$21,1,FALSE),0)+IFERROR(HLOOKUP(ANS!C30,$M$31:$R$31,1,FALSE),0)+IFERROR(HLOOKUP(ANS!C30,$M$41:$R$41,1,FALSE),0)+IFERROR(HLOOKUP(ANS!C30,$M$51:$R$51,1,FALSE),0)+IFERROR(HLOOKUP(ANS!C30,$M$61:$R$61,1,FALSE),0)+IFERROR(HLOOKUP(ANS!C30,$M$71:$R$71,1,FALSE),0)+IFERROR(HLOOKUP(ANS!C30,$M$81:$R$81,1,FALSE),0) -> 60 | D31: =IF(C31>=ANS!C30,0,1) -> 0 | E31: =IF(D31,ANS!C30,"") | F31: =IFERROR(SMALL($E$6:$E$50,ANS!B30),"") | J31: 1 | K31: =MAX(1,$G$6) -> 7 | L31: =WEIGHTS!E49 -> 5 | M31: =IF(AND($O$8=1,OR($S31<>0,$N$8=1)),IF(M$19<=$L31,CHOOSE(RANDBETWEEN(1,$K31),$F$6,$F$7,$F$8,$F$9,$F$10,$F$11,$F$12,$F$13,$F$14,$F$15,$F$16,$F$17,$F$18,$F$19,$F$20,$F$21,$F$22,$F$23,$F$24,$F$25,$F$26,$F$27,$F$28,$F$29,$F$30,$F$31,$F$32,$F$33,$F$34,$F$35,$F$36,$F$37,$F$38,$F$39,$F$40,$F$41,$F$42,$F$43,$F$44,$F$45,$F$46,$F$47,$F$48,$F$49,$F$50),""),T31) -> 100 | N31: =IF(AND($O$8=1,OR($S31<>0,$N$8=1)),IF(N$19<=$L31,CHOOSE(RANDBETWEEN(1,$K31),$F$6,$F$7,$F$8,$F$9,$F$10,$F$11,$F$12,$F$13,$F$14,$F$15,$F$16,$F$17,$F$18,$F$19,$F$20,$F$21,$F$22,$F$23,$F$24,$F$25,$F$26,$F$27,$F$28,$F$29,$F$30,$F$31,$F$32,$F$33,$F$34,$F$35,$F$36,$F$37,$F$38,$F$39,$F$40,$F$41,$F$42,$F$43,$F$44,$F$45,$F$46,$F$47,$F$48,$F$49,$F$50),""),U31) -> 53 | O31: =IF(AND($O$8=1,OR($S31<>0,$N$8=1)),IF(O$19<=$L31,CHOOSE(RANDBETWEEN(1,$K31),$F$6,$F$7,$F$8,$F$9,$F$10,$F$11,$F$12,$F$13,$F$14,$F$15,$F$16,$F$17,$F$18,$F$19,$F$20,$F$21,$F$22,$F$23,$F$24,$F$25,$F$26,$F$27,$F$28,$F$29,$F$30,$F$31,$F$32,$F$33,$F$34,$F$35,$F$36,$F$37,$F$38,$F$39,$F$40,$F$41,$F$42,$F$43,$F$44,$F$45,$F$46,$F$47,$F$48,$F$49,$F$50),""),V31) -> 143 | P31: =IF(AND($O$8=1,OR($S31<>0,$N$8=1)),IF(P$19<=$L31,CHOOSE(RANDBETWEEN(1,$K31),$F$6,$F$7,$F$8,$F$9,$F$10,$F$11,$F$12,$F$13,$F$14,$F$15,$F$16,$F$17,$F$18,$F$19,$F$20,$F$21,$F$22,$F$23,$F$24,$F$25,$F$26,$F$27,$F$28,$F$29,$F$30,$F$31,$F$32,$F$33,$F$34,$F$35,$F$36,$F$37,$F$38,$F$39,$F$40,$F$41,$F$42,$F$43,$F$44,$F$45,$F$46,$F$47,$F$48,$F$49,$F$50),""),W31) -> 29 | Q31: =IF(AND($O$8=1,OR($S31<>0,$N$8=1)),IF(Q$19<=$L31,CHOOSE(RANDBETWEEN(1,$K31),$F$6,$F$7,$F$8,$F$9,$F$10,$F$11,$F$12,$F$13,$F$14,$F$15,$F$16,$F$17,$F$18,$F$19,$F$20,$F$21,$F$22,$F$23,$F$24,$F$25,$F$26,$F$27,$F$28,$F$29,$F$30,$F$31,$F$32,$F$33,$F$34,$F$35,$F$36,$F$37,$F$38,$F$39,$F$40,$F$41,$F$42,$F$43,$F$44,$F$45,$F$46,$F$47,$F$48,$F$49,$F$50),""),X31) -> 66 | R31: =IF(AND($O$8=1,OR($S31<>0,$N$8=1)),IF(R$19<=$L31,CHOOSE(RANDBETWEEN(1,$K31),$F$6,$F$7,$F$8,$F$9,$F$10,$F$11,$F$12,$F$13,$F$14,$F$15,$F$16,$F$17,$F$18,$F$19,$F$20,$F$21,$F$22,$F$23,$F$24,$F$25,$F$26,$F$27,$F$28,$F$29,$F$30,$F$31,$F$32,$F$33,$F$34,$F$35,$F$36,$F$37,$F$38,$F$39,$F$40,$F$41,$F$42,$F$43,$F$44,$F$45,$F$46,$F$47,$F$48,$F$49,$F$50),""),Y31) | S31: =ROUND(SUMPRODUCT(1/COUNTIF(M31:R31,M31:R31))-IFERROR(COUNTBLANK(M31:R31)/COUNTBLANK(M31:R31),0)-L31,0) -> 0 | T31: =IFERROR(IF($O$8=0,0,M31),0) -> 100 | U31: =IFERROR(IF($O$8=0,0,N31),0) -> 53 | V31: =IFERROR(IF($O$8=0,0,O31),0) -> 143 | W31: =IFERROR(IF($O$8=0,0,P31),0) -> 29 | X31: =IFERROR(IF($O$8=0,0,Q31),0) -> 66 | Y31: =IFERROR(IF($O$8=0,0,R31),0) | AC31: =AC30 -> 3 | AD31: =IFERROR(HLOOKUP(ANS!M30,$AN$23:$AS$23,1,FALSE),0)+IFERROR(HLOOKUP(ANS!M30,$AN$33:$AS$33,1,FALSE),0)+IFERROR(HLOOKUP(ANS!M30,$AN$43:$AS$43,1,FALSE),0)+IFERROR(HLOOKUP(ANS!M30,$AN$53:$AS$53,1,FALSE),0)+IFERROR(HLOOKUP(ANS!M30,$AN$63:$AS$63,1,FALSE),0)+IFERROR(HLOOKUP(ANS!M30,$AN$73:$AS$73,1,FALSE),0)+IFERROR(HLOOKUP(ANS!M30,$AN$83:$AS$83,1,FALSE),0) -> 30 | AE31: =IF(AD31>=ANS!M30,0,1) -> 0 | AF31: =IF(AE31,ANS!M30,"") | AG31: =IFERROR(SMALL($AF$26:$AF$60,ANS!L30),"") | AK31: 1 | AL31: =MAX(1,$AH$6) -> 2 | AM31: =WEIGHTS!E62 -> 2 | AN31: =IF(AND($AP$8=1,OR($AT31<>0,$AO$8=1)),IF(AN$19<=$AM31,CHOOSE(RANDBETWEEN(1,$AL31),$AG$6,$AG$7,$AG$8,$AG$9,$AG$10,$AG$11,$AG$12,$AG$13,$AG$14,$AG$15,$AG$16,$AG$17,$AG$18,$AG$19),""),AU31) -> 93 | AO31: =IF(AND($AP$8=1,OR($AT31<>0,$AO$8=1)),IF(AO$19<=$AM31,CHOOSE(RANDBETWEEN(1,$AL31),$AG$6,$AG$7,$AG$8,$AG$9,$AG$10,$AG$11,$AG$12,$AG$13,$AG$14,$AG$15,$AG$16,$AG$17,$AG$18,$AG$19),""),AV31) -> 49 | AP31: =IF(AND($AP$8=1,OR($AT31<>0,$AO$8=1)),IF(AP$19<=$AM31,CHOOSE(RANDBETWEEN(1,$AL31),$AG$6,$AG$7,$AG$8,$AG$9,$AG$10,$AG$11,$AG$12,$AG$13,$AG$14,$AG$15,$AG$16,$AG$17,$AG$18,$AG$19),""),AW31) | AQ31: =IF(AND($AP$8=1,OR($AT31<>0,$AO$8=1)),IF(AQ$19<=$AM31,CHOOSE(RANDBETWEEN(1,$AL31),$AG$6,$AG$7,$AG$8,$AG$9,$AG$10,$AG$11,$AG$12,$AG$13,$AG$14,$AG$15,$AG$16,$AG$17,$AG$18,$AG$19),""),AX31) | AR31: =IF(AND($AP$8=1,OR($AT31<>0,$AO$8=1)),IF(AR$19<=$AM31,CHOOSE(RANDBETWEEN(1,$AL31),$AG$6,$AG$7,$AG$8,$AG$9,$AG$10,$AG$11,$AG$12,$AG$13,$AG$14,$AG$15,$AG$16,$AG$17,$AG$18,$AG$19),""),AY31) | AS31: =IF(AND($AP$8=1,OR($AT31<>0,$AO$8=1)),IF(AS$19<=$AM31,CHOOSE(RANDBETWEEN(1,$AL31),$AG$6,$AG$7,$AG$8,$AG$9,$AG$10,$AG$11,$AG$12,$AG$13,$AG$14,$AG$15,$AG$16,$AG$17,$AG$18,$AG$19),""),AZ31) | AT31: =ROUND(SUMPRODUCT(1/COUNTIF(AN31:AS31,AN31:AS31))-IFERROR(COUNTBLANK(AN31:AS31)/COUNTBLANK(AN31:AS31),0)-AM31,0) -> 0 | AU31: =IFERROR(IF($AP$8=0,0,AN31),0) -> 93 | AV31: =IFERROR(IF($AP$8=0,0,AO31),0) -> 49 | AW31: =IFERROR(IF($AP$8=0,0,AP31),0) | AX31: =IFERROR(IF($AP$8=0,0,AQ31),0) | AY31: =IFERROR(IF($AP$8=0,0,AR31),0) | AZ31: =IFERROR(IF($AP$8=0,0,AS31),0)
B32: =B31 -> 1 | C32: =IFERROR(HLOOKUP(ANS!C31,$M$21:$R$21,1,FALSE),0)+IFERROR(HLOOKUP(ANS!C31,$M$31:$R$31,1,FALSE),0)+IFERROR(HLOOKUP(ANS!C31,$M$41:$R$41,1,FALSE),0)+IFERROR(HLOOKUP(ANS!C31,$M$51:$R$51,1,FALSE),0)+IFERROR(HLOOKUP(ANS!C31,$M$61:$R$61,1,FALSE),0)+IFERROR(HLOOKUP(ANS!C31,$M$71:$R$71,1,FALSE),0)+IFERROR(HLOOKUP(ANS!C31,$M$81:$R$81,1,FALSE),0) -> 65 | D32: =IF(C32>=ANS!C31,0,1) -> 0 | E32: =IF(D32,ANS!C31,"") | F32: =IFERROR(SMALL($E$6:$E$50,ANS!B31),"") | J32: 2 | K32: =MAX(1,$G$51) -> 1 | L32: =WEIGHTS!E50 -> 1 | M32: =IF(AND($O$8=1,OR($S32<>0,$N$8=1)),IF(M$19<=$L32,CHOOSE(RANDBETWEEN(1,$K32),$F$51,$F$52,$F$53,$F$54,$F$55,$F$56,$F$57,$F$58,$F$59),""),T32) -> 36 | N32: =IF(AND($O$8=1,OR($S32<>0,$N$8=1)),IF(N$19<=$L32,CHOOSE(RANDBETWEEN(1,$K32),$F$51,$F$52,$F$53,$F$54,$F$55,$F$56,$F$57,$F$58,$F$59),""),U32) | O32: =IF(AND($O$8=1,OR($S32<>0,$N$8=1)),IF(O$19<=$L32,CHOOSE(RANDBETWEEN(1,$K32),$F$51,$F$52,$F$53,$F$54,$F$55,$F$56,$F$57,$F$58,$F$59),""),V32) | P32: =IF(AND($O$8=1,OR($S32<>0,$N$8=1)),IF(P$19<=$L32,CHOOSE(RANDBETWEEN(1,$K32),$F$51,$F$52,$F$53,$F$54,$F$55,$F$56,$F$57,$F$58,$F$59),""),W32) | Q32: =IF(AND($O$8=1,OR($S32<>0,$N$8=1)),IF(Q$19<=$L32,CHOOSE(RANDBETWEEN(1,$K32),$F$51,$F$52,$F$53,$F$54,$F$55,$F$56,$F$57,$F$58,$F$59),""),X32) | R32: =IF(AND($O$8=1,OR($S32<>0,$N$8=1)),IF(R$19<=$L32,CHOOSE(RANDBETWEEN(1,$K32),$F$51,$F$52,$F$53,$F$54,$F$55,$F$56,$F$57,$F$58,$F$59),""),Y32) | S32: =ROUND(SUMPRODUCT(1/COUNTIF(M32:R32,M32:R32))-IFERROR(COUNTBLANK(M32:R32)/COUNTBLANK(M32:R32),0)-L32,0) -> 0 | T32: =IFERROR(IF($O$8=0,0,M32),0) -> 36 | U32: =IFERROR(IF($O$8=0,0,N32),0) | V32: =IFERROR(IF($O$8=0,0,O32),0) | W32: =IFERROR(IF($O$8=0,0,P32),0) | X32: =IFERROR(IF($O$8=0,0,Q32),0) | Y32: =IFERROR(IF($O$8=0,0,R32),0) | AC32: =AC31 -> 3 | AD32: =IFERROR(HLOOKUP(ANS!M31,$AN$23:$AS$23,1,FALSE),0)+IFERROR(HLOOKUP(ANS!M31,$AN$33:$AS$33,1,FALSE),0)+IFERROR(HLOOKUP(ANS!M31,$AN$43:$AS$43,1,FALSE),0)+IFERROR(HLOOKUP(ANS!M31,$AN$53:$AS$53,1,FALSE),0)+IFERROR(HLOOKUP(ANS!M31,$AN$63:$AS$63,1,FALSE),0)+IFERROR(HLOOKUP(ANS!M31,$AN$73:$AS$73,1,FALSE),0)+IFERROR(HLOOKUP(ANS!M31,$AN$83:$AS$83,1,FALSE),0) -> 32 | AE32: =IF(AD32>=ANS!M31,0,1) -> 0 | AF32: =IF(AE32,ANS!M31,"") | AG32: =IFERROR(SMALL($AF$26:$AF$60,ANS!L31),"") | AK32: 2 | AL32: =MAX(1,$AH$20) -> 1 | AM32: =WEIGHTS!E63 -> 1 | AN32: =IF(AND($AP$8=1,OR($AT32<>0,$AO$8=1)),IF(AN$19<=$AM32,CHOOSE(RANDBETWEEN(1,$AL32),$AG$20,$AG$21,$AG$22,$AG$23,$AG$24,$AG$25),""),AU32) -> 51 | AO32: =IF(AND($AP$8=1,OR($AT32<>0,$AO$8=1)),IF(AO$19<=$AM32,CHOOSE(RANDBETWEEN(1,$AL32),$AG$20,$AG$21,$AG$22,$AG$23,$AG$24,$AG$25),""),AV32) | AP32: =IF(AND($AP$8=1,OR($AT32<>0,$AO$8=1)),IF(AP$19<=$AM32,CHOOSE(RANDBETWEEN(1,$AL32),$AG$20,$AG$21,$AG$22,$AG$23,$AG$24,$AG$25),""),AW32) | AQ32: =IF(AND($AP$8=1,OR($AT32<>0,$AO$8=1)),IF(AQ$19<=$AM32,CHOOSE(RANDBETWEEN(1,$AL32),$AG$20,$AG$21,$AG$22,$AG$23,$AG$24,$AG$25),""),AX32) | AR32: =IF(AND($AP$8=1,OR($AT32<>0,$AO$8=1)),IF(AR$19<=$AM32,CHOOSE(RANDBETWEEN(1,$AL32),$AG$20,$AG$21,$AG$22,$AG$23,$AG$24,$AG$25),""),AY32) | AS32: =IF(AND($AP$8=1,OR($AT32<>0,$AO$8=1)),IF(AS$19<=$AM32,CHOOSE(RANDBETWEEN(1,$AL32),$AG$20,$AG$21,$AG$22,$AG$23,$AG$24,$AG$25),""),AZ32) | AT32: =ROUND(SUMPRODUCT(1/COUNTIF(AN32:AS32,AN32:AS32))-IFERROR(COUNTBLANK(AN32:AS32)/COUNTBLANK(AN32:AS32),0)-AM32,0) -> 0 | AU32: =IFERROR(IF($AP$8=0,0,AN32),0) -> 51 | AV32: =IFERROR(IF($AP$8=0,0,AO32),0) | AW32: =IFERROR(IF($AP$8=0,0,AP32),0) | AX32: =IFERROR(IF($AP$8=0,0,AQ32),0) | AY32: =IFERROR(IF($AP$8=0,0,AR32),0) | AZ32: =IFERROR(IF($AP$8=0,0,AS32),0)
B33: =B32 -> 1 | C33: =IFERROR(HLOOKUP(ANS!C32,$M$21:$R$21,1,FALSE),0)+IFERROR(HLOOKUP(ANS!C32,$M$31:$R$31,1,FALSE),0)+IFERROR(HLOOKUP(ANS!C32,$M$41:$R$41,1,FALSE),0)+IFERROR(HLOOKUP(ANS!C32,$M$51:$R$51,1,FALSE),0)+IFERROR(HLOOKUP(ANS!C32,$M$61:$R$61,1,FALSE),0)+IFERROR(HLOOKUP(ANS!C32,$M$71:$R$71,1,FALSE),0)+IFERROR(HLOOKUP(ANS!C32,$M$81:$R$81,1,FALSE),0) -> 66 | D33: =IF(C33>=ANS!C32,0,1) -> 0 | E33: =IF(D33,ANS!C32,"") | F33: =IFERROR(SMALL($E$6:$E$50,ANS!B32),"") | J33: 3 | K33: =MAX(1,$G$60) -> 4 | L33: =WEIGHTS!E51 -> 4 | M33: =IF(AND($O$8=1,OR($S33<>0,$N$8=1)),IF(M$19<=$L33,CHOOSE(RANDBETWEEN(1,$K33),$F$60,$F$61,$F$62,$F$63,$F$64,$F$65,$F$66,$F$67,$F$68,$F$69,$F$70,$F$71,$F$72,$F$73,$F$74,$F$75,$F$76,$F$77,$F$78,$F$79,$F$80,$F$81,$F$82,$F$83,$F$84,$F$85,$F$86,$F$87,$F$88,$F$89,$F$90,$F$91),""),T33) -> 72 | N33: =IF(AND($O$8=1,OR($S33<>0,$N$8=1)),IF(N$19<=$L33,CHOOSE(RANDBETWEEN(1,$K33),$F$60,$F$61,$F$62,$F$63,$F$64,$F$65,$F$66,$F$67,$F$68,$F$69,$F$70,$F$71,$F$72,$F$73,$F$74,$F$75,$F$76,$F$77,$F$78,$F$79,$F$80,$F$81,$F$82,$F$83,$F$84,$F$85,$F$86,$F$87,$F$88,$F$89,$F$90,$F$91),""),U33) -> 106 | O33: =IF(AND($O$8=1,OR($S33<>0,$N$8=1)),IF(O$19<=$L33,CHOOSE(RANDBETWEEN(1,$K33),$F$60,$F$61,$F$62,$F$63,$F$64,$F$65,$F$66,$F$67,$F$68,$F$69,$F$70,$F$71,$F$72,$F$73,$F$74,$F$75,$F$76,$F$77,$F$78,$F$79,$F$80,$F$81,$F$82,$F$83,$F$84,$F$85,$F$86,$F$87,$F$88,$F$89,$F$90,$F$91),""),V33) -> 123 | P33: =IF(AND($O$8=1,OR($S33<>0,$N$8=1)),IF(P$19<=$L33,CHOOSE(RANDBETWEEN(1,$K33),$F$60,$F$61,$F$62,$F$63,$F$64,$F$65,$F$66,$F$67,$F$68,$F$69,$F$70,$F$71,$F$72,$F$73,$F$74,$F$75,$F$76,$F$77,$F$78,$F$79,$F$80,$F$81,$F$82,$F$83,$F$84,$F$85,$F$86,$F$87,$F$88,$F$89,$F$90,$F$91),""),W33) -> 108 | Q33: =IF(AND($O$8=1,OR($S33<>0,$N$8=1)),IF(Q$19<=$L33,CHOOSE(RANDBETWEEN(1,$K33),$F$60,$F$61,$F$62,$F$63,$F$64,$F$65,$F$66,$F$67,$F$68,$F$69,$F$70,$F$71,$F$72,$F$73,$F$74,$F$75,$F$76,$F$77,$F$78,$F$79,$F$80,$F$81,$F$82,$F$83,$F$84,$F$85,$F$86,$F$87,$F$88,$F$89,$F$90,$F$91),""),X33) | R33: =IF(AND($O$8=1,OR($S33<>0,$N$8=1)),IF(R$19<=$L33,CHOOSE(RANDBETWEEN(1,$K33),$F$60,$F$61,$F$62,$F$63,$F$64,$F$65,$F$66,$F$67,$F$68,$F$69,$F$70,$F$71,$F$72,$F$73,$F$74,$F$75,$F$76,$F$77,$F$78,$F$79,$F$80,$F$81,$F$82,$F$83,$F$84,$F$85,$F$86,$F$87,$F$88,$F$89,$F$90,$F$91),""),Y33) | S33: =ROUND(SUMPRODUCT(1/COUNTIF(M33:R33,M33:R33))-IFERROR(COUNTBLANK(M33:R33)/COUNTBLANK(M33:R33),0)-L33,0) -> 0 | T33: =IFERROR(IF($O$8=0,0,M33),0) -> 72 | U33: =IFERROR(IF($O$8=0,0,N33),0) -> 106 | V33: =IFERROR(IF($O$8=0,0,O33),0) -> 123 | W33: =IFERROR(IF($O$8=0,0,P33),0) -> 108 | X33: =IFERROR(IF($O$8=0,0,Q33),0) | Y33: =IFERROR(IF($O$8=0,0,R33),0) | AC33: =AC32 -> 3 | AD33: =IFERROR(HLOOKUP(ANS!M32,$AN$23:$AS$23,1,FALSE),0)+IFERROR(HLOOKUP(ANS!M32,$AN$33:$AS$33,1,FALSE),0)+IFERROR(HLOOKUP(ANS!M32,$AN$43:$AS$43,1,FALSE),0)+IFERROR(HLOOKUP(ANS!M32,$AN$53:$AS$53,1,FALSE),0)+IFERROR(HLOOKUP(ANS!M32,$AN$63:$AS$63,1,FALSE),0)+IFERROR(HLOOKUP(ANS!M32,$AN$73:$AS$73,1,FALSE),0)+IFERROR(HLOOKUP(ANS!M32,$AN$83:$AS$83,1,FALSE),0) -> 37 | AE33: =IF(AD33>=ANS!M32,0,1) -> 0 | AF33: =IF(AE33,ANS!M32,"") | AG33: =IFERROR(SMALL($AF$26:$AF$60,ANS!L32),"") | AK33: 3 | AL33: =MAX(1,$AH$26) -> 5 | AM33: =WEIGHTS!E64 -> 4 | AN33: =IF(AND($AP$8=1,OR($AT33<>0,$AO$8=1)),IF(AN$19<=$AM33,CHOOSE(RANDBETWEEN(1,$AL33),$AG$26,$AG$27,$AG$28,$AG$29,$AG$30,$AG$31,$AG$32,$AG$33,$AG$34,$AG$35,$AG$36,$AG$37,$AG$38,$AG$39,$AG$40,$AG$41,$AG$42,$AG$43,$AG$44,$AG$45,$AG$46,$AG$47,$AG$48,$AG$49,$AG$50,$AG$51,$AG$52,$AG$53,$AG$54,$AG$55,$AG$56,$AG$57,$AG$58,$AG$59,$AG$60),""),AU33) -> 46 | AO33: =IF(AND($AP$8=1,OR($AT33<>0,$AO$8=1)),IF(AO$19<=$AM33,CHOOSE(RANDBETWEEN(1,$AL33),$AG$26,$AG$27,$AG$28,$AG$29,$AG$30,$AG$31,$AG$32,$AG$33,$AG$34,$AG$35,$AG$36,$AG$37,$AG$38,$AG$39,$AG$40,$AG$41,$AG$42,$AG$43,$AG$44,$AG$45,$AG$46,$AG$47,$AG$48,$AG$49,$AG$50,$AG$51,$AG$52,$AG$53,$AG$54,$AG$55,$AG$56,$AG$57,$AG$58,$AG$59,$AG$60),""),AV33) -> 100 | AP33: =IF(AND($AP$8=1,OR($AT33<>0,$AO$8=1)),IF(AP$19<=$AM33,CHOOSE(RANDBETWEEN(1,$AL33),$AG$26,$AG$27,$AG$28,$AG$29,$AG$30,$AG$31,$AG$32,$AG$33,$AG$34,$AG$35,$AG$36,$AG$37,$AG$38,$AG$39,$AG$40,$AG$41,$AG$42,$AG$43,$AG$44,$AG$45,$AG$46,$AG$47,$AG$48,$AG$49,$AG$50,$AG$51,$AG$52,$AG$53,$AG$54,$AG$55,$AG$56,$AG$57,$AG$58,$AG$59,$AG$60),""),AW33) -> 109 | AQ33: =IF(AND($AP$8=1,OR($AT33<>0,$AO$8=1)),IF(AQ$19<=$AM33,CHOOSE(RANDBETWEEN(1,$AL33),$AG$26,$AG$27,$AG$28,$AG$29,$AG$30,$AG$31,$AG$32,$AG$33,$AG$34,$AG$35,$AG$36,$AG$37,$AG$38,$AG$39,$AG$40,$AG$41,$AG$42,$AG$43,$AG$44,$AG$45,$AG$46,$AG$47,$AG$48,$AG$49,$AG$50,$AG$51,$AG$52,$AG$53,$AG$54,$AG$55,$AG$56,$AG$57,$AG$58,$AG$59,$AG$60),""),AX33) -> 37 | AR33: =IF(AND($AP$8=1,OR($AT33<>0,$AO$8=1)),IF(AR$19<=$AM33,CHOOSE(RANDBETWEEN(1,$AL33),$AG$26,$AG$27,$AG$28,$AG$29,$AG$30,$AG$31,$AG$32,$AG$33,$AG$34,$AG$35,$AG$36,$AG$37,$AG$38,$AG$39,$AG$40,$AG$41,$AG$42,$AG$43,$AG$44,$AG$45,$AG$46,$AG$47,$AG$48,$AG$49,$AG$50,$AG$51,$AG$52,$AG$53,$AG$54,$AG$55,$AG$56,$AG$57,$AG$58,$AG$59,$AG$60),""),AY33) | AS33: =IF(AND($AP$8=1,OR($AT33<>0,$AO$8=1)),IF(AS$19<=$AM33,CHOOSE(RANDBETWEEN(1,$AL33),$AG$26,$AG$27,$AG$28,$AG$29,$AG$30,$AG$31,$AG$32,$AG$33,$AG$34,$AG$35,$AG$36,$AG$37,$AG$38,$AG$39,$AG$40,$AG$41,$AG$42,$AG$43,$AG$44,$AG$45,$AG$46,$AG$47,$AG$48,$AG$49,$AG$50,$AG$51,$AG$52,$AG$53,$AG$54,$AG$55,$AG$56,$AG$57,$AG$58,$AG$59,$AG$60),""),AZ33) | AT33: =ROUND(SUMPRODUCT(1/COUNTIF(AN33:AS33,AN33:AS33))-IFERROR(COUNTBLANK(AN33:AS33)/COUNTBLANK(AN33:AS33),0)-AM33,0) -> 0 | AU33: =IFERROR(IF($AP$8=0,0,AN33),0) -> 46 | AV33: =IFERROR(IF($AP$8=0,0,AO33),0) -> 100 | AW33: =IFERROR(IF($AP$8=0,0,AP33),0) -> 109 | AX33: =IFERROR(IF($AP$8=0,0,AQ33),0) -> 37 | AY33: =IFERROR(IF($AP$8=0,0,AR33),0) | AZ33: =IFERROR(IF($AP$8=0,0,AS33),0)
B34: =B33 -> 1 | C34: =IFERROR(HLOOKUP(ANS!C33,$M$21:$R$21,1,FALSE),0)+IFERROR(HLOOKUP(ANS!C33,$M$31:$R$31,1,FALSE),0)+IFERROR(HLOOKUP(ANS!C33,$M$41:$R$41,1,FALSE),0)+IFERROR(HLOOKUP(ANS!C33,$M$51:$R$51,1,FALSE),0)+IFERROR(HLOOKUP(ANS!C33,$M$61:$R$61,1,FALSE),0)+IFERROR(HLOOKUP(ANS!C33,$M$71:$R$71,1,FALSE),0)+IFERROR(HLOOKUP(ANS!C33,$M$81:$R$81,1,FALSE),0) -> 80 | D34: =IF(C34>=ANS!C33,0,1) -> 0 | E34: =IF(D34,ANS!C33,"") | F34: =IFERROR(SMALL($E$6:$E$50,ANS!B33),"") | J34: 4 | K34: =MAX(1,$G$92) -> 4 | L34: =WEIGHTS!E52 -> 3 | M34: =IF(AND($O$8=1,OR($S34<>0,$N$8=1)),IF(M$19<=$L34,CHOOSE(RANDBETWEEN(1,$K34),$F$92,$F$93,$F$94,$F$95,$F$96,$F$97,$F$98,$F$99,$F$100,$F$101,$F$102,$F$103,$F$104,$F$105,$F$106,$F$107,$F$108,$F$109,$F$110),""),T34) -> 153 | N34: =IF(AND($O$8=1,OR($S34<>0,$N$8=1)),IF(N$19<=$L34,CHOOSE(RANDBETWEEN(1,$K34),$F$92,$F$93,$F$94,$F$95,$F$96,$F$97,$F$98,$F$99,$F$100,$F$101,$F$102,$F$103,$F$104,$F$105,$F$106,$F$107,$F$108,$F$109,$F$110),""),U34) -> 85 | O34: =IF(AND($O$8=1,OR($S34<>0,$N$8=1)),IF(O$19<=$L34,CHOOSE(RANDBETWEEN(1,$K34),$F$92,$F$93,$F$94,$F$95,$F$96,$F$97,$F$98,$F$99,$F$100,$F$101,$F$102,$F$103,$F$104,$F$105,$F$106,$F$107,$F$108,$F$109,$F$110),""),V34) -> 162 | P34: =IF(AND($O$8=1,OR($S34<>0,$N$8=1)),IF(P$19<=$L34,CHOOSE(RANDBETWEEN(1,$K34),$F$92,$F$93,$F$94,$F$95,$F$96,$F$97,$F$98,$F$99,$F$100,$F$101,$F$102,$F$103,$F$104,$F$105,$F$106,$F$107,$F$108,$F$109,$F$110),""),W34) | Q34: =IF(AND($O$8=1,OR($S34<>0,$N$8=1)),IF(Q$19<=$L34,CHOOSE(RANDBETWEEN(1,$K34),$F$92,$F$93,$F$94,$F$95,$F$96,$F$97,$F$98,$F$99,$F$100,$F$101,$F$102,$F$103,$F$104,$F$105,$F$106,$F$107,$F$108,$F$109,$F$110),""),X34) | R34: =IF(AND($O$8=1,OR($S34<>0,$N$8=1)),IF(R$19<=$L34,CHOOSE(RANDBETWEEN(1,$K34),$F$92,$F$93,$F$94,$F$95,$F$96,$F$97,$F$98,$F$99,$F$100,$F$101,$F$102,$F$103,$F$104,$F$105,$F$106,$F$107,$F$108,$F$109,$F$110),""),Y34) | S34: =ROUND(SUMPRODUCT(1/COUNTIF(M34:R34,M34:R34))-IFERROR(COUNTBLANK(M34:R34)/COUNTBLANK(M34:R34),0)-L34,0) -> 0 | T34: =IFERROR(IF($O$8=0,0,M34),0) -> 153 | U34: =IFERROR(IF($O$8=0,0,N34),0) -> 85 | V34: =IFERROR(IF($O$8=0,0,O34),0) -> 162 | W34: =IFERROR(IF($O$8=0,0,P34),0) | X34: =IFERROR(IF($O$8=0,0,Q34),0) | Y34: =IFERROR(IF($O$8=0,0,R34),0) | AC34: =AC33 -> 3 | AD34: =IFERROR(HLOOKUP(ANS!M33,$AN$23:$AS$23,1,FALSE),0)+IFERROR(HLOOKUP(ANS!M33,$AN$33:$AS$33,1,FALSE),0)+IFERROR(HLOOKUP(ANS!M33,$AN$43:$AS$43,1,FALSE),0)+IFERROR(HLOOKUP(ANS!M33,$AN$53:$AS$53,1,FALSE),0)+IFERROR(HLOOKUP(ANS!M33,$AN$63:$AS$63,1,FALSE),0)+IFERROR(HLOOKUP(ANS!M33,$AN$73:$AS$73,1,FALSE),0)+IFERROR(HLOOKUP(ANS!M33,$AN$83:$AS$83,1,FALSE),0) -> 40 | AE34: =IF(AD34>=ANS!M33,0,1) -> 0 | AF34: =IF(AE34,ANS!M33,"") | AG34: =IFERROR(SMALL($AF$26:$AF$60,ANS!L33),"") | AK34: 4 | AL34: =MAX(1,$AH$61) -> 3 | AM34: =WEIGHTS!E65 -> 1 | AN34: =IF(AND($AP$8=1,OR($AT34<>0,$AO$8=1)),IF(AN$19<=$AM34,CHOOSE(RANDBETWEEN(1,$AL34),$AG$61,$AG$62,$AG$63,$AG$64,$AG$65,$AG$66,$AG$67,$AG$68,$AG$69,$AG$70,$AG$71,$AG$72,$AG$73,$AG$74,$AG$75,$AG$76),""),AU34) -> 22 | AO34: =IF(AND($AP$8=1,OR($AT34<>0,$AO$8=1)),IF(AO$19<=$AM34,CHOOSE(RANDBETWEEN(1,$AL34),$AG$61,$AG$62,$AG$63,$AG$64,$AG$65,$AG$66,$AG$67,$AG$68,$AG$69,$AG$70,$AG$71,$AG$72,$AG$73,$AG$74,$AG$75,$AG$76),""),AV34) | AP34: =IF(AND($AP$8=1,OR($AT34<>0,$AO$8=1)),IF(AP$19<=$AM34,CHOOSE(RANDBETWEEN(1,$AL34),$AG$61,$AG$62,$AG$63,$AG$64,$AG$65,$AG$66,$AG$67,$AG$68,$AG$69,$AG$70,$AG$71,$AG$72,$AG$73,$AG$74,$AG$75,$AG$76),""),AW34) | AQ34: =IF(AND($AP$8=1,OR($AT34<>0,$AO$8=1)),IF(AQ$19<=$AM34,CHOOSE(RANDBETWEEN(1,$AL34),$AG$61,$AG$62,$AG$63,$AG$64,$AG$65,$AG$66,$AG$67,$AG$68,$AG$69,$AG$70,$AG$71,$AG$72,$AG$73,$AG$74,$AG$75,$AG$76),""),AX34) | AR34: =IF(AND($AP$8=1,OR($AT34<>0,$AO$8=1)),IF(AR$19<=$AM34,CHOOSE(RANDBETWEEN(1,$AL34),$AG$61,$AG$62,$AG$63,$AG$64,$AG$65,$AG$66,$AG$67,$AG$68,$AG$69,$AG$70,$AG$71,$AG$72,$AG$73,$AG$74,$AG$75,$AG$76),""),AY34) | AS34: =IF(AND($AP$8=1,OR($AT34<>0,$AO$8=1)),IF(AS$19<=$AM34,CHOOSE(RANDBETWEEN(1,$AL34),$AG$61,$AG$62,$AG$63,$AG$64,$AG$65,$AG$66,$AG$67,$AG$68,$AG$69,$AG$70,$AG$71,$AG$72,$AG$73,$AG$74,$AG$75,$AG$76),""),AZ34) | AT34: =ROUND(SUMPRODUCT(1/COUNTIF(AN34:AS34,AN34:AS34))-IFERROR(COUNTBLANK(AN34:AS34)/COUNTBLANK(AN34:AS34),0)-AM34,0) -> 0 | AU34: =IFERROR(IF($AP$8=0,0,AN34),0) -> 22 | AV34: =IFERROR(IF($AP$8=0,0,AO34),0) | AW34: =IFERROR(IF($AP$8=0,0,AP34),0) | AX34: =IFERROR(IF($AP$8=0,0,AQ34),0) | AY34: =IFERROR(IF($AP$8=0,0,AR34),0) | AZ34: =IFERROR(IF($AP$8=0,0,AS34),0)
B35: =B34 -> 1 | C35: =IFERROR(HLOOKUP(ANS!C34,$M$21:$R$21,1,FALSE),0)+IFERROR(HLOOKUP(ANS!C34,$M$31:$R$31,1,FALSE),0)+IFERROR(HLOOKUP(ANS!C34,$M$41:$R$41,1,FALSE),0)+IFERROR(HLOOKUP(ANS!C34,$M$51:$R$51,1,FALSE),0)+IFERROR(HLOOKUP(ANS!C34,$M$61:$R$61,1,FALSE),0)+IFERROR(HLOOKUP(ANS!C34,$M$71:$R$71,1,FALSE),0)+IFERROR(HLOOKUP(ANS!C34,$M$81:$R$81,1,FALSE),0) -> 82 | D35: =IF(C35>=ANS!C34,0,1) -> 0 | E35: =IF(D35,ANS!C34,"") | F35: =IFERROR(SMALL($E$6:$E$50,ANS!B34),"") | J35: 5 | K35: =MAX(1,$G$111) -> 6 | L35: =WEIGHTS!E53 -> 5 | M35: =IF(AND($O$8=1,OR($S35<>0,$N$8=1)),IF(M$19<=$L35,CHOOSE(RANDBETWEEN(1,$K35),$F$111,$F$112,$F$113,$F$114,$F$115,$F$116,$F$117,$F$118,$F$119,$F$120,$F$121,$F$122,$F$123,$F$124,$F$125,$F$126,$F$127,$F$128,$F$129,$F$130,$F$131,$F$132,$F$133,$F$134,$F$135,$F$136,$F$137,$F$138,$F$139,$F$140,$F$141,$F$142,$F$143,$F$144,$F$145,$F$146,$F$147,$F$148,$F$149,$F$150,$F$151,$F$152,$F$153),""),T35) -> 73 | N35: =IF(AND($O$8=1,OR($S35<>0,$N$8=1)),IF(N$19<=$L35,CHOOSE(RANDBETWEEN(1,$K35),$F$111,$F$112,$F$113,$F$114,$F$115,$F$116,$F$117,$F$118,$F$119,$F$120,$F$121,$F$122,$F$123,$F$124,$F$125,$F$126,$F$127,$F$128,$F$129,$F$130,$F$131,$F$132,$F$133,$F$134,$F$135,$F$136,$F$137,$F$138,$F$139,$F$140,$F$141,$F$142,$F$143,$F$144,$F$145,$F$146,$F$147,$F$148,$F$149,$F$150,$F$151,$F$152,$F$153),""),U35) -> 155 | O35: =IF(AND($O$8=1,OR($S35<>0,$N$8=1)),IF(O$19<=$L35,CHOOSE(RANDBETWEEN(1,$K35),$F$111,$F$112,$F$113,$F$114,$F$115,$F$116,$F$117,$F$118,$F$119,$F$120,$F$121,$F$122,$F$123,$F$124,$F$125,$F$126,$F$127,$F$128,$F$129,$F$130,$F$131,$F$132,$F$133,$F$134,$F$135,$F$136,$F$137,$F$138,$F$139,$F$140,$F$141,$F$142,$F$143,$F$144,$F$145,$F$146,$F$147,$F$148,$F$149,$F$150,$F$151,$F$152,$F$153),""),V35) -> 62 | P35: =IF(AND($O$8=1,OR($S35<>0,$N$8=1)),IF(P$19<=$L35,CHOOSE(RANDBETWEEN(1,$K35),$F$111,$F$112,$F$113,$F$114,$F$115,$F$116,$F$117,$F$118,$F$119,$F$120,$F$121,$F$122,$F$123,$F$124,$F$125,$F$126,$F$127,$F$128,$F$129,$F$130,$F$131,$F$132,$F$133,$F$134,$F$135,$F$136,$F$137,$F$138,$F$139,$F$140,$F$141,$F$142,$F$143,$F$144,$F$145,$F$146,$F$147,$F$148,$F$149,$F$150,$F$151,$F$152,$F$153),""),W35) -> 2 | Q35: =IF(AND($O$8=1,OR($S35<>0,$N$8=1)),IF(Q$19<=$L35,CHOOSE(RANDBETWEEN(1,$K35),$F$111,$F$112,$F$113,$F$114,$F$115,$F$116,$F$117,$F$118,$F$119,$F$120,$F$121,$F$122,$F$123,$F$124,$F$125,$F$126,$F$127,$F$128,$F$129,$F$130,$F$131,$F$132,$F$133,$F$134,$F$135,$F$136,$F$137,$F$138,$F$139,$F$140,$F$141,$F$142,$F$143,$F$144,$F$145,$F$146,$F$147,$F$148,$F$149,$F$150,$F$151,$F$152,$F$153),""),X35) -> 75 | R35: =IF(AND($O$8=1,OR($S35<>0,$N$8=1)),IF(R$19<=$L35,CHOOSE(RANDBETWEEN(1,$K35),$F$111,$F$112,$F$113,$F$114,$F$115,$F$116,$F$117,$F$118,$F$119,$F$120,$F$121,$F$122,$F$123,$F$124,$F$125,$F$126,$F$127,$F$128,$F$129,$F$130,$F$131,$F$132,$F$133,$F$134,$F$135,$F$136,$F$137,$F$138,$F$139,$F$140,$F$141,$F$142,$F$143,$F$144,$F$145,$F$146,$F$147,$F$148,$F$149,$F$150,$F$151,$F$152,$F$153),""),Y35) | S35: =ROUND(SUMPRODUCT(1/COUNTIF(M35:R35,M35:R35))-IFERROR(COUNTBLANK(M35:R35)/COUNTBLANK(M35:R35),0)-L35,0) -> 0 | T35: =IFERROR(IF($O$8=0,0,M35),0) -> 73 | U35: =IFERROR(IF($O$8=0,0,N35),0) -> 155 | V35: =IFERROR(IF($O$8=0,0,O35),0) -> 62 | W35: =IFERROR(IF($O$8=0,0,P35),0) -> 2 | X35: =IFERROR(IF($O$8=0,0,Q35),0) -> 75 | Y35: =IFERROR(IF($O$8=0,0,R35),0) | AC35: =AC34 -> 3 | AD35: =IFERROR(HLOOKUP(ANS!M34,$AN$23:$AS$23,1,FALSE),0)+IFERROR(HLOOKUP(ANS!M34,$AN$33:$AS$33,1,FALSE),0)+IFERROR(HLOOKUP(ANS!M34,$AN$43:$AS$43,1,FALSE),0)+IFERROR(HLOOKUP(ANS!M34,$AN$53:$AS$53,1,FALSE),0)+IFERROR(HLOOKUP(ANS!M34,$AN$63:$AS$63,1,FALSE),0)+IFERROR(HLOOKUP(ANS!M34,$AN$73:$AS$73,1,FALSE),0)+IFERROR(HLOOKUP(ANS!M34,$AN$83:$AS$83,1,FALSE),0) -> 0 | AE35: =IF(AD35>=ANS!M34,0,1) -> 1 | AF35: =IF(AE35,ANS!M34,"") -> 42 | AG35: =IFERROR(SMALL($AF$26:$AF$60,ANS!L34),"") | AK35: 5 | AL35: =MAX(1,$AH$77) -> 3 | AM35: =WEIGHTS!E66 -> 3 | AN35: =IF(AND($AP$8=1,OR($AT35<>0,$AO$8=1)),IF(AN$19<=$AM35,CHOOSE(RANDBETWEEN(1,$AL35),$AG$77,$AG$78,$AG$79,$AG$80,$AG$81,$AG$82,$AG$83,$AG$84,$AG$85,$AG$86,$AG$87,$AG$88,$AG$89,$AG$90,$AG$91,$AG$92,$AG$93,$AG$94,$AG$95,$AG$96,$AG$97,$AG$98,$AG$99,$AG$100,$AG$101,$AG$102),""),AU35) -> 71 | AO35: =IF(AND($AP$8=1,OR($AT35<>0,$AO$8=1)),IF(AO$19<=$AM35,CHOOSE(RANDBETWEEN(1,$AL35),$AG$77,$AG$78,$AG$79,$AG$80,$AG$81,$AG$82,$AG$83,$AG$84,$AG$85,$AG$86,$AG$87,$AG$88,$AG$89,$AG$90,$AG$91,$AG$92,$AG$93,$AG$94,$AG$95,$AG$96,$AG$97,$AG$98,$AG$99,$AG$100,$AG$101,$AG$102),""),AV35) -> 13 | AP35: =IF(AND($AP$8=1,OR($AT35<>0,$AO$8=1)),IF(AP$19<=$AM35,CHOOSE(RANDBETWEEN(1,$AL35),$AG$77,$AG$78,$AG$79,$AG$80,$AG$81,$AG$82,$AG$83,$AG$84,$AG$85,$AG$86,$AG$87,$AG$88,$AG$89,$AG$90,$AG$91,$AG$92,$AG$93,$AG$94,$AG$95,$AG$96,$AG$97,$AG$98,$AG$99,$AG$100,$AG$101,$AG$102),""),AW35) -> 38 | AQ35: =IF(AND($AP$8=1,OR($AT35<>0,$AO$8=1)),IF(AQ$19<=$AM35,CHOOSE(RANDBETWEEN(1,$AL35),$AG$77,$AG$78,$AG$79,$AG$80,$AG$81,$AG$82,$AG$83,$AG$84,$AG$85,$AG$86,$AG$87,$AG$88,$AG$89,$AG$90,$AG$91,$AG$92,$AG$93,$AG$94,$AG$95,$AG$96,$AG$97,$AG$98,$AG$99,$AG$100,$AG$101,$AG$102),""),AX35) | AR35: =IF(AND($AP$8=1,OR($AT35<>0,$AO$8=1)),IF(AR$19<=$AM35,CHOOSE(RANDBETWEEN(1,$AL35),$AG$77,$AG$78,$AG$79,$AG$80,$AG$81,$AG$82,$AG$83,$AG$84,$AG$85,$AG$86,$AG$87,$AG$88,$AG$89,$AG$90,$AG$91,$AG$92,$AG$93,$AG$94,$AG$95,$AG$96,$AG$97,$AG$98,$AG$99,$AG$100,$AG$101,$AG$102),""),AY35) | AS35: =IF(AND($AP$8=1,OR($AT35<>0,$AO$8=1)),IF(AS$19<=$AM35,CHOOSE(RANDBETWEEN(1,$AL35),$AG$77,$AG$78,$AG$79,$AG$80,$AG$81,$AG$82,$AG$83,$AG$84,$AG$85,$AG$86,$AG$87,$AG$88,$AG$89,$AG$90,$AG$91,$AG$92,$AG$93,$AG$94,$AG$95,$AG$96,$AG$97,$AG$98,$AG$99,$AG$100,$AG$101,$AG$102),""),AZ35) | AT35: =ROUND(SUMPRODUCT(1/COUNTIF(AN35:AS35,AN35:AS35))-IFERROR(COUNTBLANK(AN35:AS35)/COUNTBLANK(AN35:AS35),0)-AM35,0) -> 0 | AU35: =IFERROR(IF($AP$8=0,0,AN35),0) -> 71 | AV35: =IFERROR(IF($AP$8=0,0,AO35),0) -> 13 | AW35: =IFERROR(IF($AP$8=0,0,AP35),0) -> 38 | AX35: =IFERROR(IF($AP$8=0,0,AQ35),0) | AY35: =IFERROR(IF($AP$8=0,0,AR35),0) | AZ35: =IFERROR(IF($AP$8=0,0,AS35),0)
B36: =B35 -> 1 | C36: =IFERROR(HLOOKUP(ANS!C35,$M$21:$R$21,1,FALSE),0)+IFERROR(HLOOKUP(ANS!C35,$M$31:$R$31,1,FALSE),0)+IFERROR(HLOOKUP(ANS!C35,$M$41:$R$41,1,FALSE),0)+IFERROR(HLOOKUP(ANS!C35,$M$51:$R$51,1,FALSE),0)+IFERROR(HLOOKUP(ANS!C35,$M$61:$R$61,1,FALSE),0)+IFERROR(HLOOKUP(ANS!C35,$M$71:$R$71,1,FALSE),0)+IFERROR(HLOOKUP(ANS!C35,$M$81:$R$81,1,FALSE),0) -> 0 | D36: =IF(C36>=ANS!C35,0,1) -> 1 | E36: =IF(D36,ANS!C35,"") -> 88 | F36: =IFERROR(SMALL($E$6:$E$50,ANS!B35),"") | J36: 6 | K36: =MAX(1,$G$154) -> 2 | L36: =WEIGHTS!E54 -> 2 | M36: =IF(AND($O$8=1,OR($S36<>0,$N$8=1)),IF(M$19<=$L36,CHOOSE(RANDBETWEEN(1,$K36),$F$154,$F$155,$F$156,$F$157,$F$158,$F$159,$F$160,$F$161,$F$162,$F$163,$F$164,$F$165,$F$166),""),T36) -> 164 | N36: =IF(AND($O$8=1,OR($S36<>0,$N$8=1)),IF(N$19<=$L36,CHOOSE(RANDBETWEEN(1,$K36),$F$154,$F$155,$F$156,$F$157,$F$158,$F$159,$F$160,$F$161,$F$162,$F$163,$F$164,$F$165,$F$166),""),U36) -> 147 | O36: =IF(AND($O$8=1,OR($S36<>0,$N$8=1)),IF(O$19<=$L36,CHOOSE(RANDBETWEEN(1,$K36),$F$154,$F$155,$F$156,$F$157,$F$158,$F$159,$F$160,$F$161,$F$162,$F$163,$F$164,$F$165,$F$166),""),V36) | P36: =IF(AND($O$8=1,OR($S36<>0,$N$8=1)),IF(P$19<=$L36,CHOOSE(RANDBETWEEN(1,$K36),$F$154,$F$155,$F$156,$F$157,$F$158,$F$159,$F$160,$F$161,$F$162,$F$163,$F$164,$F$165,$F$166),""),W36) | Q36: =IF(AND($O$8=1,OR($S36<>0,$N$8=1)),IF(Q$19<=$L36,CHOOSE(RANDBETWEEN(1,$K36),$F$154,$F$155,$F$156,$F$157,$F$158,$F$159,$F$160,$F$161,$F$162,$F$163,$F$164,$F$165,$F$166),""),X36) | R36: =IF(AND($O$8=1,OR($S36<>0,$N$8=1)),IF(R$19<=$L36,CHOOSE(RANDBETWEEN(1,$K36),$F$154,$F$155,$F$156,$F$157,$F$158,$F$159,$F$160,$F$161,$F$162,$F$163,$F$164,$F$165,$F$166),""),Y36) | S36: =ROUND(SUMPRODUCT(1/COUNTIF(M36:R36,M36:R36))-IFERROR(COUNTBLANK(M36:R36)/COUNTBLANK(M36:R36),0)-L36,0) -> 0 | T36: =IFERROR(IF($O$8=0,0,M36),0) -> 164 | U36: =IFERROR(IF($O$8=0,0,N36),0) -> 147 | V36: =IFERROR(IF($O$8=0,0,O36),0) | W36: =IFERROR(IF($O$8=0,0,P36),0) | X36: =IFERROR(IF($O$8=0,0,Q36),0) | Y36: =IFERROR(IF($O$8=0,0,R36),0) | AC36: =AC35 -> 3 | AD36: =IFERROR(HLOOKUP(ANS!M35,$AN$23:$AS$23,1,FALSE),0)+IFERROR(HLOOKUP(ANS!M35,$AN$33:$AS$33,1,FALSE),0)+IFERROR(HLOOKUP(ANS!M35,$AN$43:$AS$43,1,FALSE),0)+IFERROR(HLOOKUP(ANS!M35,$AN$53:$AS$53,1,FALSE),0)+IFERROR(HLOOKUP(ANS!M35,$AN$63:$AS$63,1,FALSE),0)+IFERROR(HLOOKUP(ANS!M35,$AN$73:$AS$73,1,FALSE),0)+IFERROR(HLOOKUP(ANS!M35,$AN$83:$AS$83,1,FALSE),0) -> 46 | AE36: =IF(AD36>=ANS!M35,0,1) -> 0 | AF36: =IF(AE36,ANS!M35,"") | AG36: =IFERROR(SMALL($AF$26:$AF$60,ANS!L35),"") | AK36: 6 | AL36: =MAX(1,$AH$103) -> 2 | AM36: =WEIGHTS!E67 -> 2 | AN36: =IF(AND($AP$8=1,OR($AT36<>0,$AO$8=1)),IF(AN$19<=$AM36,CHOOSE(RANDBETWEEN(1,$AL36),$AG$103,$AG$104,$AG$105,$AG$106,$AG$107,$AG$108,$AG$109,$AG$110,$AG$111,$AG$112,$AG$113,$AG$114,$AG$115,$AG$116,$AG$117,$AG$118),""),AU36) -> 87 | AO36: =IF(AND($AP$8=1,OR($AT36<>0,$AO$8=1)),IF(AO$19<=$AM36,CHOOSE(RANDBETWEEN(1,$AL36),$AG$103,$AG$104,$AG$105,$AG$106,$AG$107,$AG$108,$AG$109,$AG$110,$AG$111,$AG$112,$AG$113,$AG$114,$AG$115,$AG$116,$AG$117,$AG$118),""),AV36) -> 78 | AP36: =IF(AND($AP$8=1,OR($AT36<>0,$AO$8=1)),IF(AP$19<=$AM36,CHOOSE(RANDBETWEEN(1,$AL36),$AG$103,$AG$104,$AG$105,$AG$106,$AG$107,$AG$108,$AG$109,$AG$110,$AG$111,$AG$112,$AG$113,$AG$114,$AG$115,$AG$116,$AG$117,$AG$118),""),AW36) | AQ36: =IF(AND($AP$8=1,OR($AT36<>0,$AO$8=1)),IF(AQ$19<=$AM36,CHOOSE(RANDBETWEEN(1,$AL36),$AG$103,$AG$104,$AG$105,$AG$106,$AG$107,$AG$108,$AG$109,$AG$110,$AG$111,$AG$112,$AG$113,$AG$114,$AG$115,$AG$116,$AG$117,$AG$118),""),AX36) | AR36: =IF(AND($AP$8=1,OR($AT36<>0,$AO$8=1)),IF(AR$19<=$AM36,CHOOSE(RANDBETWEEN(1,$AL36),$AG$103,$AG$104,$AG$105,$AG$106,$AG$107,$AG$108,$AG$109,$AG$110,$AG$111,$AG$112,$AG$113,$AG$114,$AG$115,$AG$116,$AG$117,$AG$118),""),AY36) | AS36: =IF(AND($AP$8=1,OR($AT36<>0,$AO$8=1)),IF(AS$19<=$AM36,CHOOSE(RANDBETWEEN(1,$AL36),$AG$103,$AG$104,$AG$105,$AG$106,$AG$107,$AG$108,$AG$109,$AG$110,$AG$111,$AG$112,$AG$113,$AG$114,$AG$115,$AG$116,$AG$117,$AG$118),""),AZ36) | AT36: =ROUND(SUMPRODUCT(1/COUNTIF(AN36:AS36,AN36:AS36))-IFERROR(COUNTBLANK(AN36:AS36)/COUNTBLANK(AN36:AS36),0)-AM36,0) -> 0 | AU36: =IFERROR(IF($AP$8=0,0,AN36),0) -> 87 | AV36: =IFERROR(IF($AP$8=0,0,AO36),0) -> 78 | AW36: =IFERROR(IF($AP$8=0,0,AP36),0) | AX36: =IFERROR(IF($AP$8=0,0,AQ36),0) | AY36: =IFERROR(IF($AP$8=0,0,AR36),0) | AZ36: =IFERROR(IF($AP$8=0,0,AS36),0)
B37: =B36 -> 1 | C37: =IFERROR(HLOOKUP(ANS!C36,$M$21:$R$21,1,FALSE),0)+IFERROR(HLOOKUP(ANS!C36,$M$31:$R$31,1,FALSE),0)+IFERROR(HLOOKUP(ANS!C36,$M$41:$R$41,1,FALSE),0)+IFERROR(HLOOKUP(ANS!C36,$M$51:$R$51,1,FALSE),0)+IFERROR(HLOOKUP(ANS!C36,$M$61:$R$61,1,FALSE),0)+IFERROR(HLOOKUP(ANS!C36,$M$71:$R$71,1,FALSE),0)+IFERROR(HLOOKUP(ANS!C36,$M$81:$R$81,1,FALSE),0) -> 93 | D37: =IF(C37>=ANS!C36,0,1) -> 0 | E37: =IF(D37,ANS!C36,"") | F37: =IFERROR(SMALL($E$6:$E$50,ANS!B36),"") | J37: 7 | K37: =MAX(1,$G$167) -> 1 | L37: =WEIGHTS!E55 -> 2 | M37: =IF(AND($O$8=1,OR($S37<>0,$N$8=1)),IF(M$19<=$L37,CHOOSE(RANDBETWEEN(1,$K37),$F$167,$F$168,$F$169,$F$170,$F$171,$F$172,$F$173,$F$174,$F$175,$F$176,$F$177),""),T37) -> 116 | N37: =IF(AND($O$8=1,OR($S37<>0,$N$8=1)),IF(N$19<=$L37,CHOOSE(RANDBETWEEN(1,$K37),$F$167,$F$168,$F$169,$F$170,$F$171,$F$172,$F$173,$F$174,$F$175,$F$176,$F$177),""),U37) -> 84 | O37: =IF(AND($O$8=1,OR($S37<>0,$N$8=1)),IF(O$19<=$L37,CHOOSE(RANDBETWEEN(1,$K37),$F$167,$F$168,$F$169,$F$170,$F$171,$F$172,$F$173,$F$174,$F$175,$F$176,$F$177),""),V37) | P37: =IF(AND($O$8=1,OR($S37<>0,$N$8=1)),IF(P$19<=$L37,CHOOSE(RANDBETWEEN(1,$K37),$F$167,$F$168,$F$169,$F$170,$F$171,$F$172,$F$173,$F$174,$F$175,$F$176,$F$177),""),W37) | Q37: =IF(AND($O$8=1,OR($S37<>0,$N$8=1)),IF(Q$19<=$L37,CHOOSE(RANDBETWEEN(1,$K37),$F$167,$F$168,$F$169,$F$170,$F$171,$F$172,$F$173,$F$174,$F$175,$F$176,$F$177),""),X37) | R37: =IF(AND($O$8=1,OR($S37<>0,$N$8=1)),IF(R$19<=$L37,CHOOSE(RANDBETWEEN(1,$K37),$F$167,$F$168,$F$169,$F$170,$F$171,$F$172,$F$173,$F$174,$F$175,$F$176,$F$177),""),Y37) | S37: =ROUND(SUMPRODUCT(1/COUNTIF(M37:R37,M37:R37))-IFERROR(COUNTBLANK(M37:R37)/COUNTBLANK(M37:R37),0)-L37,0) -> 0 | T37: =IFERROR(IF($O$8=0,0,M37),0) -> 116 | U37: =IFERROR(IF($O$8=0,0,N37),0) -> 84 | V37: =IFERROR(IF($O$8=0,0,O37),0) | W37: =IFERROR(IF($O$8=0,0,P37),0) | X37: =IFERROR(IF($O$8=0,0,Q37),0) | Y37: =IFERROR(IF($O$8=0,0,R37),0) | AC37: =AC36 -> 3 | AD37: =IFERROR(HLOOKUP(ANS!M36,$AN$23:$AS$23,1,FALSE),0)+IFERROR(HLOOKUP(ANS!M36,$AN$33:$AS$33,1,FALSE),0)+IFERROR(HLOOKUP(ANS!M36,$AN$43:$AS$43,1,FALSE),0)+IFERROR(HLOOKUP(ANS!M36,$AN$53:$AS$53,1,FALSE),0)+IFERROR(HLOOKUP(ANS!M36,$AN$63:$AS$63,1,FALSE),0)+IFERROR(HLOOKUP(ANS!M36,$AN$73:$AS$73,1,FALSE),0)+IFERROR(HLOOKUP(ANS!M36,$AN$83:$AS$83,1,FALSE),0) -> 48 | AE37: =IF(AD37>=ANS!M36,0,1) -> 0 | AF37: =IF(AE37,ANS!M36,"") | AG37: =IFERROR(SMALL($AF$26:$AF$60,ANS!L36),"") | AK37: 7 | AL37: =MAX(1,$AH$119) -> 1 | AM37: =WEIGHTS!E68 -> 1 | AN37: =IF(AND($AP$8=1,OR($AT37<>0,$AO$8=1)),IF(AN$19<=$AM37,CHOOSE(RANDBETWEEN(1,$AL37),$AG$119,$AG$120,$AG$121,$AG$122,$AG$123,$AG$124,$AG$125,$AG$126,$AG$127,$AG$128),""),AU37) -> 74 | AO37: =IF(AND($AP$8=1,OR($AT37<>0,$AO$8=1)),IF(AO$19<=$AM37,CHOOSE(RANDBETWEEN(1,$AL37),$AG$119,$AG$120,$AG$121,$AG$122,$AG$123,$AG$124,$AG$125,$AG$126,$AG$127,$AG$128),""),AV37) | AP37: =IF(AND($AP$8=1,OR($AT37<>0,$AO$8=1)),IF(AP$19<=$AM37,CHOOSE(RANDBETWEEN(1,$AL37),$AG$119,$AG$120,$AG$121,$AG$122,$AG$123,$AG$124,$AG$125,$AG$126,$AG$127,$AG$128),""),AW37) | AQ37: =IF(AND($AP$8=1,OR($AT37<>0,$AO$8=1)),IF(AQ$19<=$AM37,CHOOSE(RANDBETWEEN(1,$AL37),$AG$119,$AG$120,$AG$121,$AG$122,$AG$123,$AG$124,$AG$125,$AG$126,$AG$127,$AG$128),""),AX37) | AR37: =IF(AND($AP$8=1,OR($AT37<>0,$AO$8=1)),IF(AR$19<=$AM37,CHOOSE(RANDBETWEEN(1,$AL37),$AG$119,$AG$120,$AG$121,$AG$122,$AG$123,$AG$124,$AG$125,$AG$126,$AG$127,$AG$128),""),AY37) | AS37: =IF(AND($AP$8=1,OR($AT37<>0,$AO$8=1)),IF(AS$19<=$AM37,CHOOSE(RANDBETWEEN(1,$AL37),$AG$119,$AG$120,$AG$121,$AG$122,$AG$123,$AG$124,$AG$125,$AG$126,$AG$127,$AG$128),""),AZ37) | AT37: =ROUND(SUMPRODUCT(1/COUNTIF(AN37:AS37,AN37:AS37))-IFERROR(COUNTBLANK(AN37:AS37)/COUNTBLANK(AN37:AS37),0)-AM37,0) -> 0 | AU37: =IFERROR(IF($AP$8=0,0,AN37),0) -> 74 | AV37: =IFERROR(IF($AP$8=0,0,AO37),0) | AW37: =IFERROR(IF($AP$8=0,0,AP37),0) | AX37: =IFERROR(IF($AP$8=0,0,AQ37),0) | AY37: =IFERROR(IF($AP$8=0,0,AR37),0) | AZ37: =IFERROR(IF($AP$8=0,0,AS37),0)
B38: =B37 -> 1 | C38: =IFERROR(HLOOKUP(ANS!C37,$M$21:$R$21,1,FALSE),0)+IFERROR(HLOOKUP(ANS!C37,$M$31:$R$31,1,FALSE),0)+IFERROR(HLOOKUP(ANS!C37,$M$41:$R$41,1,FALSE),0)+IFERROR(HLOOKUP(ANS!C37,$M$51:$R$51,1,FALSE),0)+IFERROR(HLOOKUP(ANS!C37,$M$61:$R$61,1,FALSE),0)+IFERROR(HLOOKUP(ANS!C37,$M$71:$R$71,1,FALSE),0)+IFERROR(HLOOKUP(ANS!C37,$M$81:$R$81,1,FALSE),0) -> 94 | D38: =IF(C38>=ANS!C37,0,1) -> 0 | E38: =IF(D38,ANS!C37,"") | F38: =IFERROR(SMALL($E$6:$E$50,ANS!B37),"") | J38: 8 | K38: =MAX(1,$G$178) -> 1 | L38: =WEIGHTS!E56 -> 0 | M38: =IF(AND($O$8=1,OR($S38<>0,$N$8=1)),IF(M$19<=$L38,CHOOSE(RANDBETWEEN(1,$K38),$F$178,$F$179),""),T38) | N38: =IF(AND($O$8=1,OR($S38<>0,$N$8=1)),IF(N$19<=$L38,CHOOSE(RANDBETWEEN(1,$K38),$F$178,$F$179),""),U38) | O38: =IF(AND($O$8=1,OR($S38<>0,$N$8=1)),IF(O$19<=$L38,CHOOSE(RANDBETWEEN(1,$K38),$F$178,$F$179),""),V38) | P38: =IF(AND($O$8=1,OR($S38<>0,$N$8=1)),IF(P$19<=$L38,CHOOSE(RANDBETWEEN(1,$K38),$F$178,$F$179),""),W38) | Q38: =IF(AND($O$8=1,OR($S38<>0,$N$8=1)),IF(Q$19<=$L38,CHOOSE(RANDBETWEEN(1,$K38),$F$178,$F$179),""),X38) | R38: =IF(AND($O$8=1,OR($S38<>0,$N$8=1)),IF(R$19<=$L38,CHOOSE(RANDBETWEEN(1,$K38),$F$178,$F$179),""),Y38) | S38: =ROUND(SUMPRODUCT(1/COUNTIF(M38:R38,M38:R38))-IFERROR(COUNTBLANK(M38:R38)/COUNTBLANK(M38:R38),0)-L38,0) -> 0 | T38: =IFERROR(IF($O$8=0,0,M38),0) | U38: =IFERROR(IF($O$8=0,0,N38),0) | V38: =IFERROR(IF($O$8=0,0,O38),0) | W38: =IFERROR(IF($O$8=0,0,P38),0) | X38: =IFERROR(IF($O$8=0,0,Q38),0) | Y38: =IFERROR(IF($O$8=0,0,R38),0) | AC38: =AC37 -> 3 | AD38: =IFERROR(HLOOKUP(ANS!M37,$AN$23:$AS$23,1,FALSE),0)+IFERROR(HLOOKUP(ANS!M37,$AN$33:$AS$33,1,FALSE),0)+IFERROR(HLOOKUP(ANS!M37,$AN$43:$AS$43,1,FALSE),0)+IFERROR(HLOOKUP(ANS!M37,$AN$53:$AS$53,1,FALSE),0)+IFERROR(HLOOKUP(ANS!M37,$AN$63:$AS$63,1,FALSE),0)+IFERROR(HLOOKUP(ANS!M37,$AN$73:$AS$73,1,FALSE),0)+IFERROR(HLOOKUP(ANS!M37,$AN$83:$AS$83,1,FALSE),0) -> 52 | AE38: =IF(AD38>=ANS!M37,0,1) -> 0 | AF38: =IF(AE38,ANS!M37,"") | AG38: =IFERROR(SMALL($AF$26:$AF$60,ANS!L37),"") | AK38: 8 | AM38: =WEIGHTS!E69 -> 0
B39: =B38 -> 1 | C39: =IFERROR(HLOOKUP(ANS!C38,$M$21:$R$21,1,FALSE),0)+IFERROR(HLOOKUP(ANS!C38,$M$31:$R$31,1,FALSE),0)+IFERROR(HLOOKUP(ANS!C38,$M$41:$R$41,1,FALSE),0)+IFERROR(HLOOKUP(ANS!C38,$M$51:$R$51,1,FALSE),0)+IFERROR(HLOOKUP(ANS!C38,$M$61:$R$61,1,FALSE),0)+IFERROR(HLOOKUP(ANS!C38,$M$71:$R$71,1,FALSE),0)+IFERROR(HLOOKUP(ANS!C38,$M$81:$R$81,1,FALSE),0) -> 0 | D39: =IF(C39>=ANS!C38,0,1) -> 1 | E39: =IF(D39,ANS!C38,"") -> 95 | F39: =IFERROR(SMALL($E$6:$E$50,ANS!B38),"") | J39: 9 | K39: =MAX(1,$G$180) -> 1 | L39: =WEIGHTS!E57 -> 1 | M39: =IF(AND($O$8=1,OR($S39<>0,$N$8=1)),IF(M$19<=$L39,CHOOSE(RANDBETWEEN(1,$K39),$F$180,$F$181),""),T39) -> 79 | N39: =IF(AND($O$8=1,OR($S39<>0,$N$8=1)),IF(N$19<=$L39,CHOOSE(RANDBETWEEN(1,$K39),$F$180,$F$181),""),U39) | O39: =IF(AND($O$8=1,OR($S39<>0,$N$8=1)),IF(O$19<=$L39,CHOOSE(RANDBETWEEN(1,$K39),$F$180,$F$181),""),V39) | P39: =IF(AND($O$8=1,OR($S39<>0,$N$8=1)),IF(P$19<=$L39,CHOOSE(RANDBETWEEN(1,$K39),$F$180,$F$181),""),W39) | Q39: =IF(AND($O$8=1,OR($S39<>0,$N$8=1)),IF(Q$19<=$L39,CHOOSE(RANDBETWEEN(1,$K39),$F$180,$F$181),""),X39) | R39: =IF(AND($O$8=1,OR($S39<>0,$N$8=1)),IF(R$19<=$L39,CHOOSE(RANDBETWEEN(1,$K39),$F$180,$F$181),""),Y39) | S39: =ROUND(SUMPRODUCT(1/COUNTIF(M39:R39,M39:R39))-IFERROR(COUNTBLANK(M39:R39)/COUNTBLANK(M39:R39),0)-L39,0) -> 0 | T39: =IFERROR(IF($O$8=0,0,M39),0) -> 79 | U39: =IFERROR(IF($O$8=0,0,N39),0) | V39: =IFERROR(IF($O$8=0,0,O39),0) | W39: =IFERROR(IF($O$8=0,0,P39),0) | X39: =IFERROR(IF($O$8=0,0,Q39),0) | Y39: =IFERROR(IF($O$8=0,0,R39),0) | AC39: =AC38 -> 3 | AD39: =IFERROR(HLOOKUP(ANS!M38,$AN$23:$AS$23,1,FALSE),0)+IFERROR(HLOOKUP(ANS!M38,$AN$33:$AS$33,1,FALSE),0)+IFERROR(HLOOKUP(ANS!M38,$AN$43:$AS$43,1,FALSE),0)+IFERROR(HLOOKUP(ANS!M38,$AN$53:$AS$53,1,FALSE),0)+IFERROR(HLOOKUP(ANS!M38,$AN$63:$AS$63,1,FALSE),0)+IFERROR(HLOOKUP(ANS!M38,$AN$73:$AS$73,1,FALSE),0)+IFERROR(HLOOKUP(ANS!M38,$AN$83:$AS$83,1,FALSE),0) -> 56 | AE39: =IF(AD39>=ANS!M38,0,1) -> 0 | AF39: =IF(AE39,ANS!M38,"") | AG39: =IFERROR(SMALL($AF$26:$AF$60,ANS!L38),"") | AK39: 9 | AL39: =MAX(1,$AH$129) -> 1 | AM39: =WEIGHTS!E70 -> 0 | AN39: =IF(AND($AP$8=1,OR($AT39<>0,$AO$8=1)),IF(AN$19<=$AM39,CHOOSE(RANDBETWEEN(1,$AL39),$AG$129),""),AU39) | AO39: =IF(AND($AP$8=1,OR($AT39<>0,$AO$8=1)),IF(AO$19<=$AM39,CHOOSE(RANDBETWEEN(1,$AL39),$AG$129),""),AV39) | AP39: =IF(AND($AP$8=1,OR($AT39<>0,$AO$8=1)),IF(AP$19<=$AM39,CHOOSE(RANDBETWEEN(1,$AL39),$AG$129),""),AW39) | AQ39: =IF(AND($AP$8=1,OR($AT39<>0,$AO$8=1)),IF(AQ$19<=$AM39,CHOOSE(RANDBETWEEN(1,$AL39),$AG$129),""),AX39) | AR39: =IF(AND($AP$8=1,OR($AT39<>0,$AO$8=1)),IF(AR$19<=$AM39,CHOOSE(RANDBETWEEN(1,$AL39),$AG$129),""),AY39) | AS39: =IF(AND($AP$8=1,OR($AT39<>0,$AO$8=1)),IF(AS$19<=$AM39,CHOOSE(RANDBETWEEN(1,$AL39),$AG$129),""),AZ39) | AT39: =ROUND(SUMPRODUCT(1/COUNTIF(AN39:AS39,AN39:AS39))-IFERROR(COUNTBLANK(AN39:AS39)/COUNTBLANK(AN39:AS39),0)-AM39,0) -> 0 | AU39: =IFERROR(IF($AP$8=0,0,AN39),0) | AV39: =IFERROR(IF($AP$8=0,0,AO39),0) | AW39: =IFERROR(IF($AP$8=0,0,AP39),0) | AX39: =IFERROR(IF($AP$8=0,0,AQ39),0) | AY39: =IFERROR(IF($AP$8=0,0,AR39),0) | AZ39: =IFERROR(IF($AP$8=0,0,AS39),0)
B40: =B39 -> 1 | C40: =IFERROR(HLOOKUP(ANS!C39,$M$21:$R$21,1,FALSE),0)+IFERROR(HLOOKUP(ANS!C39,$M$31:$R$31,1,FALSE),0)+IFERROR(HLOOKUP(ANS!C39,$M$41:$R$41,1,FALSE),0)+IFERROR(HLOOKUP(ANS!C39,$M$51:$R$51,1,FALSE),0)+IFERROR(HLOOKUP(ANS!C39,$M$61:$R$61,1,FALSE),0)+IFERROR(HLOOKUP(ANS!C39,$M$71:$R$71,1,FALSE),0)+IFERROR(HLOOKUP(ANS!C39,$M$81:$R$81,1,FALSE),0) -> 100 | D40: =IF(C40>=ANS!C39,0,1) -> 0 | E40: =IF(D40,ANS!C39,"") | F40: =IFERROR(SMALL($E$6:$E$50,ANS!B39),"") | M40: Drill 3 | S40: =COUNTIF(M41:R49,0) -> 0 | T40: Drill 3 | AC40: =AC39 -> 3 | AD40: =IFERROR(HLOOKUP(ANS!M39,$AN$23:$AS$23,1,FALSE),0)+IFERROR(HLOOKUP(ANS!M39,$AN$33:$AS$33,1,FALSE),0)+IFERROR(HLOOKUP(ANS!M39,$AN$43:$AS$43,1,FALSE),0)+IFERROR(HLOOKUP(ANS!M39,$AN$53:$AS$53,1,FALSE),0)+IFERROR(HLOOKUP(ANS!M39,$AN$63:$AS$63,1,FALSE),0)+IFERROR(HLOOKUP(ANS!M39,$AN$73:$AS$73,1,FALSE),0)+IFERROR(HLOOKUP(ANS!M39,$AN$83:$AS$83,1,FALSE),0) -> 57 | AE40: =IF(AD40>=ANS!M39,0,1) -> 0 | AF40: =IF(AE40,ANS!M39,"") | AG40: =IFERROR(SMALL($AF$26:$AF$60,ANS!L39),"") | AN40: Drill 3 | AT40: =COUNTIF(AN41:AS49,0) -> 0 | AU40: Drill 3
B41: =B40 -> 1 | C41: =IFERROR(HLOOKUP(ANS!C40,$M$21:$R$21,1,FALSE),0)+IFERROR(HLOOKUP(ANS!C40,$M$31:$R$31,1,FALSE),0)+IFERROR(HLOOKUP(ANS!C40,$M$41:$R$41,1,FALSE),0)+IFERROR(HLOOKUP(ANS!C40,$M$51:$R$51,1,FALSE),0)+IFERROR(HLOOKUP(ANS!C40,$M$61:$R$61,1,FALSE),0)+IFERROR(HLOOKUP(ANS!C40,$M$71:$R$71,1,FALSE),0)+IFERROR(HLOOKUP(ANS!C40,$M$81:$R$81,1,FALSE),0) -> 101 | D41: =IF(C41>=ANS!C40,0,1) -> 0 | E41: =IF(D41,ANS!C40,"") | F41: =IFERROR(SMALL($E$6:$E$50,ANS!B40),"") | J41: 1 | K41: =MAX(1,$G$6) -> 7 | L41: =WEIGHTS!F49 -> 6 | M41: =IF(AND($O$9=1,OR($S41<>0,$N$9=1)),IF(M$19<=$L41,CHOOSE(RANDBETWEEN(1,$K41),$F$6,$F$7,$F$8,$F$9,$F$10,$F$11,$F$12,$F$13,$F$14,$F$15,$F$16,$F$17,$F$18,$F$19,$F$20,$F$21,$F$22,$F$23,$F$24,$F$25,$F$26,$F$27,$F$28,$F$29,$F$30,$F$31,$F$32,$F$33,$F$34,$F$35,$F$36,$F$37,$F$38,$F$39,$F$40,$F$41,$F$42,$F$43,$F$44,$F$45,$F$46,$F$47,$F$48,$F$49,$F$50),""),T41) -> 46 | N41: =IF(AND($O$9=1,OR($S41<>0,$N$9=1)),IF(N$19<=$L41,CHOOSE(RANDBETWEEN(1,$K41),$F$6,$F$7,$F$8,$F$9,$F$10,$F$11,$F$12,$F$13,$F$14,$F$15,$F$16,$F$17,$F$18,$F$19,$F$20,$F$21,$F$22,$F$23,$F$24,$F$25,$F$26,$F$27,$F$28,$F$29,$F$30,$F$31,$F$32,$F$33,$F$34,$F$35,$F$36,$F$37,$F$38,$F$39,$F$40,$F$41,$F$42,$F$43,$F$44,$F$45,$F$46,$F$47,$F$48,$F$49,$F$50),""),U41) -> 94 | O41: =IF(AND($O$9=1,OR($S41<>0,$N$9=1)),IF(O$19<=$L41,CHOOSE(RANDBETWEEN(1,$K41),$F$6,$F$7,$F$8,$F$9,$F$10,$F$11,$F$12,$F$13,$F$14,$F$15,$F$16,$F$17,$F$18,$F$19,$F$20,$F$21,$F$22,$F$23,$F$24,$F$25,$F$26,$F$27,$F$28,$F$29,$F$30,$F$31,$F$32,$F$33,$F$34,$F$35,$F$36,$F$37,$F$38,$F$39,$F$40,$F$41,$F$42,$F$43,$F$44,$F$45,$F$46,$F$47,$F$48,$F$49,$F$50),""),V41) -> 4 | P41: =IF(AND($O$9=1,OR($S41<>0,$N$9=1)),IF(P$19<=$L41,CHOOSE(RANDBETWEEN(1,$K41),$F$6,$F$7,$F$8,$F$9,$F$10,$F$11,$F$12,$F$13,$F$14,$F$15,$F$16,$F$17,$F$18,$F$19,$F$20,$F$21,$F$22,$F$23,$F$24,$F$25,$F$26,$F$27,$F$28,$F$29,$F$30,$F$31,$F$32,$F$33,$F$34,$F$35,$F$36,$F$37,$F$38,$F$39,$F$40,$F$41,$F$42,$F$43,$F$44,$F$45,$F$46,$F$47,$F$48,$F$49,$F$50),""),W41) -> 158 | Q41: =IF(AND($O$9=1,OR($S41<>0,$N$9=1)),IF(Q$19<=$L41,CHOOSE(RANDBETWEEN(1,$K41),$F$6,$F$7,$F$8,$F$9,$F$10,$F$11,$F$12,$F$13,$F$14,$F$15,$F$16,$F$17,$F$18,$F$19,$F$20,$F$21,$F$22,$F$23,$F$24,$F$25,$F$26,$F$27,$F$28,$F$29,$F$30,$F$31,$F$32,$F$33,$F$34,$F$35,$F$36,$F$37,$F$38,$F$39,$F$40,$F$41,$F$42,$F$43,$F$44,$F$45,$F$46,$F$47,$F$48,$F$49,$F$50),""),X41) -> 10 | R41: =IF(AND($O$9=1,OR($S41<>0,$N$9=1)),IF(R$19<=$L41,CHOOSE(RANDBETWEEN(1,$K41),$F$6,$F$7,$F$8,$F$9,$F$10,$F$11,$F$12,$F$13,$F$14,$F$15,$F$16,$F$17,$F$18,$F$19,$F$20,$F$21,$F$22,$F$23,$F$24,$F$25,$F$26,$F$27,$F$28,$F$29,$F$30,$F$31,$F$32,$F$33,$F$34,$F$35,$F$36,$F$37,$F$38,$F$39,$F$40,$F$41,$F$42,$F$43,$F$44,$F$45,$F$46,$F$47,$F$48,$F$49,$F$50),""),Y41) -> 176 | S41: =ROUND(SUMPRODUCT(1/COUNTIF(M41:R41,M41:R41))-IFERROR(COUNTBLANK(M41:R41)/COUNTBLANK(M41:R41),0)-L41,0) -> 0 | T41: =IFERROR(IF($O$9=0,0,M41),0) -> 46 | U41: =IFERROR(IF($O$9=0,0,N41),0) -> 94 | V41: =IFERROR(IF($O$9=0,0,O41),0) -> 4 | W41: =IFERROR(IF($O$9=0,0,P41),0) -> 158 | X41: =IFERROR(IF($O$9=0,0,Q41),0) -> 10 | Y41: =IFERROR(IF($O$9=0,0,R41),0) -> 176 | AC41: =AC40 -> 3 | AD41: =IFERROR(HLOOKUP(ANS!M40,$AN$23:$AS$23,1,FALSE),0)+IFERROR(HLOOKUP(ANS!M40,$AN$33:$AS$33,1,FALSE),0)+IFERROR(HLOOKUP(ANS!M40,$AN$43:$AS$43,1,FALSE),0)+IFERROR(HLOOKUP(ANS!M40,$AN$53:$AS$53,1,FALSE),0)+IFERROR(HLOOKUP(ANS!M40,$AN$63:$AS$63,1,FALSE),0)+IFERROR(HLOOKUP(ANS!M40,$AN$73:$AS$73,1,FALSE),0)+IFERROR(HLOOKUP(ANS!M40,$AN$83:$AS$83,1,FALSE),0) -> 61 | AE41: =IF(AD41>=ANS!M40,0,1) -> 0 | AF41: =IF(AE41,ANS!M40,"") | AG41: =IFERROR(SMALL($AF$26:$AF$60,ANS!L40),"") | AK41: 1 | AL41: =MAX(1,$AH$6) -> 2 | AM41: =WEIGHTS!F62 -> 1 | AN41: =IF(AND($AP$9=1,OR($AT41<>0,$AO$9=1)),IF(AN$19<=$AM41,CHOOSE(RANDBETWEEN(1,$AL41),$AG$6,$AG$7,$AG$8,$AG$9,$AG$10,$AG$11,$AG$12,$AG$13,$AG$14,$AG$15,$AG$16,$AG$17,$AG$18,$AG$19),""),AU41) -> 10 | AO41: =IF(AND($AP$9=1,OR($AT41<>0,$AO$9=1)),IF(AO$19<=$AM41,CHOOSE(RANDBETWEEN(1,$AL41),$AG$6,$AG$7,$AG$8,$AG$9,$AG$10,$AG$11,$AG$12,$AG$13,$AG$14,$AG$15,$AG$16,$AG$17,$AG$18,$AG$19),""),AV41) | AP41: =IF(AND($AP$9=1,OR($AT41<>0,$AO$9=1)),IF(AP$19<=$AM41,CHOOSE(RANDBETWEEN(1,$AL41),$AG$6,$AG$7,$AG$8,$AG$9,$AG$10,$AG$11,$AG$12,$AG$13,$AG$14,$AG$15,$AG$16,$AG$17,$AG$18,$AG$19),""),AW41) | AQ41: =IF(AND($AP$9=1,OR($AT41<>0,$AO$9=1)),IF(AQ$19<=$AM41,CHOOSE(RANDBETWEEN(1,$AL41),$AG$6,$AG$7,$AG$8,$AG$9,$AG$10,$AG$11,$AG$12,$AG$13,$AG$14,$AG$15,$AG$16,$AG$17,$AG$18,$AG$19),""),AX41) | AR41: =IF(AND($AP$9=1,OR($AT41<>0,$AO$9=1)),IF(AR$19<=$AM41,CHOOSE(RANDBETWEEN(1,$AL41),$AG$6,$AG$7,$AG$8,$AG$9,$AG$10,$AG$11,$AG$12,$AG$13,$AG$14,$AG$15,$AG$16,$AG$17,$AG$18,$AG$19),""),AY41) | AS41: =IF(AND($AP$9=1,OR($AT41<>0,$AO$9=1)),IF(AS$19<=$AM41,CHOOSE(RANDBETWEEN(1,$AL41),$AG$6,$AG$7,$AG$8,$AG$9,$AG$10,$AG$11,$AG$12,$AG$13,$AG$14,$AG$15,$AG$16,$AG$17,$AG$18,$AG$19),""),AZ41) | AT41: =ROUND(SUMPRODUCT(1/COUNTIF(AN41:AS41,AN41:AS41))-IFERROR(COUNTBLANK(AN41:AS41)/COUNTBLANK(AN41:AS41),0)-AM41,0) -> 0 | AU41: =IFERROR(IF($AP$9=0,0,AN41),0) -> 10 | AV41: =IFERROR(IF($AP$9=0,0,AO41),0) | AW41: =IFERROR(IF($AP$9=0,0,AP41),0) | AX41: =IFERROR(IF($AP$9=0,0,AQ41),0) | AY41: =IFERROR(IF($AP$9=0,0,AR41),0) | AZ41: =IFERROR(IF($AP$9=0,0,AS41),0)
B42: =B41 -> 1 | C42: =IFERROR(HLOOKUP(ANS!C41,$M$21:$R$21,1,FALSE),0)+IFERROR(HLOOKUP(ANS!C41,$M$31:$R$31,1,FALSE),0)+IFERROR(HLOOKUP(ANS!C41,$M$41:$R$41,1,FALSE),0)+IFERROR(HLOOKUP(ANS!C41,$M$51:$R$51,1,FALSE),0)+IFERROR(HLOOKUP(ANS!C41,$M$61:$R$61,1,FALSE),0)+IFERROR(HLOOKUP(ANS!C41,$M$71:$R$71,1,FALSE),0)+IFERROR(HLOOKUP(ANS!C41,$M$81:$R$81,1,FALSE),0) -> 105 | D42: =IF(C42>=ANS!C41,0,1) -> 0 | E42: =IF(D42,ANS!C41,"") | F42: =IFERROR(SMALL($E$6:$E$50,ANS!B41),"") | J42: 2 | K42: =MAX(1,$G$51) -> 1 | L42: =WEIGHTS!F50 -> 1 | M42: =IF(AND($O$9=1,OR($S42<>0,$N$9=1)),IF(M$19<=$L42,CHOOSE(RANDBETWEEN(1,$K42),$F$51,$F$52,$F$53,$F$54,$F$55,$F$56,$F$57,$F$58,$F$59),""),T42) -> 86 | N42: =IF(AND($O$9=1,OR($S42<>0,$N$9=1)),IF(N$19<=$L42,CHOOSE(RANDBETWEEN(1,$K42),$F$51,$F$52,$F$53,$F$54,$F$55,$F$56,$F$57,$F$58,$F$59),""),U42) | O42: =IF(AND($O$9=1,OR($S42<>0,$N$9=1)),IF(O$19<=$L42,CHOOSE(RANDBETWEEN(1,$K42),$F$51,$F$52,$F$53,$F$54,$F$55,$F$56,$F$57,$F$58,$F$59),""),V42) | P42: =IF(AND($O$9=1,OR($S42<>0,$N$9=1)),IF(P$19<=$L42,CHOOSE(RANDBETWEEN(1,$K42),$F$51,$F$52,$F$53,$F$54,$F$55,$F$56,$F$57,$F$58,$F$59),""),W42) | Q42: =IF(AND($O$9=1,OR($S42<>0,$N$9=1)),IF(Q$19<=$L42,CHOOSE(RANDBETWEEN(1,$K42),$F$51,$F$52,$F$53,$F$54,$F$55,$F$56,$F$57,$F$58,$F$59),""),X42) | R42: =IF(AND($O$9=1,OR($S42<>0,$N$9=1)),IF(R$19<=$L42,CHOOSE(RANDBETWEEN(1,$K42),$F$51,$F$52,$F$53,$F$54,$F$55,$F$56,$F$57,$F$58,$F$59),""),Y42) | S42: =ROUND(SUMPRODUCT(1/COUNTIF(M42:R42,M42:R42))-IFERROR(COUNTBLANK(M42:R42)/COUNTBLANK(M42:R42),0)-L42,0) -> 0 | T42: =IFERROR(IF($O$9=0,0,M42),0) -> 86 | U42: =IFERROR(IF($O$9=0,0,N42),0) | V42: =IFERROR(IF($O$9=0,0,O42),0) | W42: =IFERROR(IF($O$9=0,0,P42),0) | X42: =IFERROR(IF($O$9=0,0,Q42),0) | Y42: =IFERROR(IF($O$9=0,0,R42),0) | AC42: =AC41 -> 3 | AD42: =IFERROR(HLOOKUP(ANS!M41,$AN$23:$AS$23,1,FALSE),0)+IFERROR(HLOOKUP(ANS!M41,$AN$33:$AS$33,1,FALSE),0)+IFERROR(HLOOKUP(ANS!M41,$AN$43:$AS$43,1,FALSE),0)+IFERROR(HLOOKUP(ANS!M41,$AN$53:$AS$53,1,FALSE),0)+IFERROR(HLOOKUP(ANS!M41,$AN$63:$AS$63,1,FALSE),0)+IFERROR(HLOOKUP(ANS!M41,$AN$73:$AS$73,1,FALSE),0)+IFERROR(HLOOKUP(ANS!M41,$AN$83:$AS$83,1,FALSE),0) -> 62 | AE42: =IF(AD42>=ANS!M41,0,1) -> 0 | AF42: =IF(AE42,ANS!M41,"") | AG42: =IFERROR(SMALL($AF$26:$AF$60,ANS!L41),"") | AK42: 2 | AL42: =MAX(1,$AH$20) -> 1 | AM42: =WEIGHTS!F63 -> 1 | AN42: =IF(AND($AP$9=1,OR($AT42<>0,$AO$9=1)),IF(AN$19<=$AM42,CHOOSE(RANDBETWEEN(1,$AL42),$AG$20,$AG$21,$AG$22,$AG$23,$AG$24,$AG$25),""),AU42) -> 113 | AO42: =IF(AND($AP$9=1,OR($AT42<>0,$AO$9=1)),IF(AO$19<=$AM42,CHOOSE(RANDBETWEEN(1,$AL42),$AG$20,$AG$21,$AG$22,$AG$23,$AG$24,$AG$25),""),AV42) | AP42: =IF(AND($AP$9=1,OR($AT42<>0,$AO$9=1)),IF(AP$19<=$AM42,CHOOSE(RANDBETWEEN(1,$AL42),$AG$20,$AG$21,$AG$22,$AG$23,$AG$24,$AG$25),""),AW42) | AQ42: =IF(AND($AP$9=1,OR($AT42<>0,$AO$9=1)),IF(AQ$19<=$AM42,CHOOSE(RANDBETWEEN(1,$AL42),$AG$20,$AG$21,$AG$22,$AG$23,$AG$24,$AG$25),""),AX42) | AR42: =IF(AND($AP$9=1,OR($AT42<>0,$AO$9=1)),IF(AR$19<=$AM42,CHOOSE(RANDBETWEEN(1,$AL42),$AG$20,$AG$21,$AG$22,$AG$23,$AG$24,$AG$25),""),AY42) | AS42: =IF(AND($AP$9=1,OR($AT42<>0,$AO$9=1)),IF(AS$19<=$AM42,CHOOSE(RANDBETWEEN(1,$AL42),$AG$20,$AG$21,$AG$22,$AG$23,$AG$24,$AG$25),""),AZ42) | AT42: =ROUND(SUMPRODUCT(1/COUNTIF(AN42:AS42,AN42:AS42))-IFERROR(COUNTBLANK(AN42:AS42)/COUNTBLANK(AN42:AS42),0)-AM42,0) -> 0 | AU42: =IFERROR(IF($AP$9=0,0,AN42),0) -> 113 | AV42: =IFERROR(IF($AP$9=0,0,AO42),0) | AW42: =IFERROR(IF($AP$9=0,0,AP42),0) | AX42: =IFERROR(IF($AP$9=0,0,AQ42),0) | AY42: =IFERROR(IF($AP$9=0,0,AR42),0) | AZ42: =IFERROR(IF($AP$9=0,0,AS42),0)
B43: =B42 -> 1 | C43: =IFERROR(HLOOKUP(ANS!C42,$M$21:$R$21,1,FALSE),0)+IFERROR(HLOOKUP(ANS!C42,$M$31:$R$31,1,FALSE),0)+IFERROR(HLOOKUP(ANS!C42,$M$41:$R$41,1,FALSE),0)+IFERROR(HLOOKUP(ANS!C42,$M$51:$R$51,1,FALSE),0)+IFERROR(HLOOKUP(ANS!C42,$M$61:$R$61,1,FALSE),0)+IFERROR(HLOOKUP(ANS!C42,$M$71:$R$71,1,FALSE),0)+IFERROR(HLOOKUP(ANS!C42,$M$81:$R$81,1,FALSE),0) -> 110 | D43: =IF(C43>=ANS!C42,0,1) -> 0 | E43: =IF(D43,ANS!C42,"") | F43: =IFERROR(SMALL($E$6:$E$50,ANS!B42),"") | J43: 3 | K43: =MAX(1,$G$60) -> 4 | L43: =WEIGHTS!F51 -> 4 | M43: =IF(AND($O$9=1,OR($S43<>0,$N$9=1)),IF(M$19<=$L43,CHOOSE(RANDBETWEEN(1,$K43),$F$60,$F$61,$F$62,$F$63,$F$64,$F$65,$F$66,$F$67,$F$68,$F$69,$F$70,$F$71,$F$72,$F$73,$F$74,$F$75,$F$76,$F$77,$F$78,$F$79,$F$80,$F$81,$F$82,$F$83,$F$84,$F$85,$F$86,$F$87,$F$88,$F$89,$F$90,$F$91),""),T43) -> 1 | N43: =IF(AND($O$9=1,OR($S43<>0,$N$9=1)),IF(N$19<=$L43,CHOOSE(RANDBETWEEN(1,$K43),$F$60,$F$61,$F$62,$F$63,$F$64,$F$65,$F$66,$F$67,$F$68,$F$69,$F$70,$F$71,$F$72,$F$73,$F$74,$F$75,$F$76,$F$77,$F$78,$F$79,$F$80,$F$81,$F$82,$F$83,$F$84,$F$85,$F$86,$F$87,$F$88,$F$89,$F$90,$F$91),""),U43) -> 152 | O43: =IF(AND($O$9=1,OR($S43<>0,$N$9=1)),IF(O$19<=$L43,CHOOSE(RANDBETWEEN(1,$K43),$F$60,$F$61,$F$62,$F$63,$F$64,$F$65,$F$66,$F$67,$F$68,$F$69,$F$70,$F$71,$F$72,$F$73,$F$74,$F$75,$F$76,$F$77,$F$78,$F$79,$F$80,$F$81,$F$82,$F$83,$F$84,$F$85,$F$86,$F$87,$F$88,$F$89,$F$90,$F$91),""),V43) -> 113 | P43: =IF(AND($O$9=1,OR($S43<>0,$N$9=1)),IF(P$19<=$L43,CHOOSE(RANDBETWEEN(1,$K43),$F$60,$F$61,$F$62,$F$63,$F$64,$F$65,$F$66,$F$67,$F$68,$F$69,$F$70,$F$71,$F$72,$F$73,$F$74,$F$75,$F$76,$F$77,$F$78,$F$79,$F$80,$F$81,$F$82,$F$83,$F$84,$F$85,$F$86,$F$87,$F$88,$F$89,$F$90,$F$91),""),W43) -> 77 | Q43: =IF(AND($O$9=1,OR($S43<>0,$N$9=1)),IF(Q$19<=$L43,CHOOSE(RANDBETWEEN(1,$K43),$F$60,$F$61,$F$62,$F$63,$F$64,$F$65,$F$66,$F$67,$F$68,$F$69,$F$70,$F$71,$F$72,$F$73,$F$74,$F$75,$F$76,$F$77,$F$78,$F$79,$F$80,$F$81,$F$82,$F$83,$F$84,$F$85,$F$86,$F$87,$F$88,$F$89,$F$90,$F$91),""),X43) | R43: =IF(AND($O$9=1,OR($S43<>0,$N$9=1)),IF(R$19<=$L43,CHOOSE(RANDBETWEEN(1,$K43),$F$60,$F$61,$F$62,$F$63,$F$64,$F$65,$F$66,$F$67,$F$68,$F$69,$F$70,$F$71,$F$72,$F$73,$F$74,$F$75,$F$76,$F$77,$F$78,$F$79,$F$80,$F$81,$F$82,$F$83,$F$84,$F$85,$F$86,$F$87,$F$88,$F$89,$F$90,$F$91),""),Y43) | S43: =ROUND(SUMPRODUCT(1/COUNTIF(M43:R43,M43:R43))-IFERROR(COUNTBLANK(M43:R43)/COUNTBLANK(M43:R43),0)-L43,0) -> 0 | T43: =IFERROR(IF($O$9=0,0,M43),0) -> 1 | U43: =IFERROR(IF($O$9=0,0,N43),0) -> 152 | V43: =IFERROR(IF($O$9=0,0,O43),0) -> 113 | W43: =IFERROR(IF($O$9=0,0,P43),0) -> 77 | X43: =IFERROR(IF($O$9=0,0,Q43),0) | Y43: =IFERROR(IF($O$9=0,0,R43),0) | AC43: =AC42 -> 3 | AD43: =IFERROR(HLOOKUP(ANS!M42,$AN$23:$AS$23,1,FALSE),0)+IFERROR(HLOOKUP(ANS!M42,$AN$33:$AS$33,1,FALSE),0)+IFERROR(HLOOKUP(ANS!M42,$AN$43:$AS$43,1,FALSE),0)+IFERROR(HLOOKUP(ANS!M42,$AN$53:$AS$53,1,FALSE),0)+IFERROR(HLOOKUP(ANS!M42,$AN$63:$AS$63,1,FALSE),0)+IFERROR(HLOOKUP(ANS!M42,$AN$73:$AS$73,1,FALSE),0)+IFERROR(HLOOKUP(ANS!M42,$AN$83:$AS$83,1,FALSE),0) -> 68 | AE43: =IF(AD43>=ANS!M42,0,1) -> 0 | AF43: =IF(AE43,ANS!M42,"") | AG43: =IFERROR(SMALL($AF$26:$AF$60,ANS!L42),"") | AK43: 3 | AL43: =MAX(1,$AH$26) -> 5 | AM43: =WEIGHTS!F64 -> 4 | AN43: =IF(AND($AP$9=1,OR($AT43<>0,$AO$9=1)),IF(AN$19<=$AM43,CHOOSE(RANDBETWEEN(1,$AL43),$AG$26,$AG$27,$AG$28,$AG$29,$AG$30,$AG$31,$AG$32,$AG$33,$AG$34,$AG$35,$AG$36,$AG$37,$AG$38,$AG$39,$AG$40,$AG$41,$AG$42,$AG$43,$AG$44,$AG$45,$AG$46,$AG$47,$AG$48,$AG$49,$AG$50,$AG$51,$AG$52,$AG$53,$AG$54,$AG$55,$AG$56,$AG$57,$AG$58,$AG$59,$AG$60),""),AU43) -> 57 | AO43: =IF(AND($AP$9=1,OR($AT43<>0,$AO$9=1)),IF(AO$19<=$AM43,CHOOSE(RANDBETWEEN(1,$AL43),$AG$26,$AG$27,$AG$28,$AG$29,$AG$30,$AG$31,$AG$32,$AG$33,$AG$34,$AG$35,$AG$36,$AG$37,$AG$38,$AG$39,$AG$40,$AG$41,$AG$42,$AG$43,$AG$44,$AG$45,$AG$46,$AG$47,$AG$48,$AG$49,$AG$50,$AG$51,$AG$52,$AG$53,$AG$54,$AG$55,$AG$56,$AG$57,$AG$58,$AG$59,$AG$60),""),AV43) -> 121 | AP43: =IF(AND($AP$9=1,OR($AT43<>0,$AO$9=1)),IF(AP$19<=$AM43,CHOOSE(RANDBETWEEN(1,$AL43),$AG$26,$AG$27,$AG$28,$AG$29,$AG$30,$AG$31,$AG$32,$AG$33,$AG$34,$AG$35,$AG$36,$AG$37,$AG$38,$AG$39,$AG$40,$AG$41,$AG$42,$AG$43,$AG$44,$AG$45,$AG$46,$AG$47,$AG$48,$AG$49,$AG$50,$AG$51,$AG$52,$AG$53,$AG$54,$AG$55,$AG$56,$AG$57,$AG$58,$AG$59,$AG$60),""),AW43) -> 40 | AQ43: =IF(AND($AP$9=1,OR($AT43<>0,$AO$9=1)),IF(AQ$19<=$AM43,CHOOSE(RANDBETWEEN(1,$AL43),$AG$26,$AG$27,$AG$28,$AG$29,$AG$30,$AG$31,$AG$32,$AG$33,$AG$34,$AG$35,$AG$36,$AG$37,$AG$38,$AG$39,$AG$40,$AG$41,$AG$42,$AG$43,$AG$44,$AG$45,$AG$46,$AG$47,$AG$48,$AG$49,$AG$50,$AG$51,$AG$52,$AG$53,$AG$54,$AG$55,$AG$56,$AG$57,$AG$58,$AG$59,$AG$60),""),AX43) -> 30 | AR43: =IF(AND($AP$9=1,OR($AT43<>0,$AO$9=1)),IF(AR$19<=$AM43,CHOOSE(RANDBETWEEN(1,$AL43),$AG$26,$AG$27,$AG$28,$AG$29,$AG$30,$AG$31,$AG$32,$AG$33,$AG$34,$AG$35,$AG$36,$AG$37,$AG$38,$AG$39,$AG$40,$AG$41,$AG$42,$AG$43,$AG$44,$AG$45,$AG$46,$AG$47,$AG$48,$AG$49,$AG$50,$AG$51,$AG$52,$AG$53,$AG$54,$AG$55,$AG$56,$AG$57,$AG$58,$AG$59,$AG$60),""),AY43) | AS43: =IF(AND($AP$9=1,OR($AT43<>0,$AO$9=1)),IF(AS$19<=$AM43,CHOOSE(RANDBETWEEN(1,$AL43),$AG$26,$AG$27,$AG$28,$AG$29,$AG$30,$AG$31,$AG$32,$AG$33,$AG$34,$AG$35,$AG$36,$AG$37,$AG$38,$AG$39,$AG$40,$AG$41,$AG$42,$AG$43,$AG$44,$AG$45,$AG$46,$AG$47,$AG$48,$AG$49,$AG$50,$AG$51,$AG$52,$AG$53,$AG$54,$AG$55,$AG$56,$AG$57,$AG$58,$AG$59,$AG$60),""),AZ43) | AT43: =ROUND(SUMPRODUCT(1/COUNTIF(AN43:AS43,AN43:AS43))-IFERROR(COUNTBLANK(AN43:AS43)/COUNTBLANK(AN43:AS43),0)-AM43,0) -> 0 | AU43: =IFERROR(IF($AP$9=0,0,AN43),0) -> 57 | AV43: =IFERROR(IF($AP$9=0,0,AO43),0) -> 121 | AW43: =IFERROR(IF($AP$9=0,0,AP43),0) -> 40 | AX43: =IFERROR(IF($AP$9=0,0,AQ43),0) -> 30 | AY43: =IFERROR(IF($AP$9=0,0,AR43),0) | AZ43: =IFERROR(IF($AP$9=0,0,AS43),0)
B44: =B43 -> 1 | C44: =IFERROR(HLOOKUP(ANS!C43,$M$21:$R$21,1,FALSE),0)+IFERROR(HLOOKUP(ANS!C43,$M$31:$R$31,1,FALSE),0)+IFERROR(HLOOKUP(ANS!C43,$M$41:$R$41,1,FALSE),0)+IFERROR(HLOOKUP(ANS!C43,$M$51:$R$51,1,FALSE),0)+IFERROR(HLOOKUP(ANS!C43,$M$61:$R$61,1,FALSE),0)+IFERROR(HLOOKUP(ANS!C43,$M$71:$R$71,1,FALSE),0)+IFERROR(HLOOKUP(ANS!C43,$M$81:$R$81,1,FALSE),0) -> 0 | D44: =IF(C44>=ANS!C43,0,1) -> 1 | E44: =IF(D44,ANS!C43,"") -> 126 | F44: =IFERROR(SMALL($E$6:$E$50,ANS!B43),"") | J44: 4 | K44: =MAX(1,$G$92) -> 4 | L44: =WEIGHTS!F52 -> 2 | M44: =IF(AND($O$9=1,OR($S44<>0,$N$9=1)),IF(M$19<=$L44,CHOOSE(RANDBETWEEN(1,$K44),$F$92,$F$93,$F$94,$F$95,$F$96,$F$97,$F$98,$F$99,$F$100,$F$101,$F$102,$F$103,$F$104,$F$105,$F$106,$F$107,$F$108,$F$109,$F$110),""),T44) -> 141 | N44: =IF(AND($O$9=1,OR($S44<>0,$N$9=1)),IF(N$19<=$L44,CHOOSE(RANDBETWEEN(1,$K44),$F$92,$F$93,$F$94,$F$95,$F$96,$F$97,$F$98,$F$99,$F$100,$F$101,$F$102,$F$103,$F$104,$F$105,$F$106,$F$107,$F$108,$F$109,$F$110),""),U44) -> 157 | O44: =IF(AND($O$9=1,OR($S44<>0,$N$9=1)),IF(O$19<=$L44,CHOOSE(RANDBETWEEN(1,$K44),$F$92,$F$93,$F$94,$F$95,$F$96,$F$97,$F$98,$F$99,$F$100,$F$101,$F$102,$F$103,$F$104,$F$105,$F$106,$F$107,$F$108,$F$109,$F$110),""),V44) | P44: =IF(AND($O$9=1,OR($S44<>0,$N$9=1)),IF(P$19<=$L44,CHOOSE(RANDBETWEEN(1,$K44),$F$92,$F$93,$F$94,$F$95,$F$96,$F$97,$F$98,$F$99,$F$100,$F$101,$F$102,$F$103,$F$104,$F$105,$F$106,$F$107,$F$108,$F$109,$F$110),""),W44) | Q44: =IF(AND($O$9=1,OR($S44<>0,$N$9=1)),IF(Q$19<=$L44,CHOOSE(RANDBETWEEN(1,$K44),$F$92,$F$93,$F$94,$F$95,$F$96,$F$97,$F$98,$F$99,$F$100,$F$101,$F$102,$F$103,$F$104,$F$105,$F$106,$F$107,$F$108,$F$109,$F$110),""),X44) | R44: =IF(AND($O$9=1,OR($S44<>0,$N$9=1)),IF(R$19<=$L44,CHOOSE(RANDBETWEEN(1,$K44),$F$92,$F$93,$F$94,$F$95,$F$96,$F$97,$F$98,$F$99,$F$100,$F$101,$F$102,$F$103,$F$104,$F$105,$F$106,$F$107,$F$108,$F$109,$F$110),""),Y44) | S44: =ROUND(SUMPRODUCT(1/COUNTIF(M44:R44,M44:R44))-IFERROR(COUNTBLANK(M44:R44)/COUNTBLANK(M44:R44),0)-L44,0) -> 0 | T44: =IFERROR(IF($O$9=0,0,M44),0) -> 141 | U44: =IFERROR(IF($O$9=0,0,N44),0) -> 157 | V44: =IFERROR(IF($O$9=0,0,O44),0) | W44: =IFERROR(IF($O$9=0,0,P44),0) | X44: =IFERROR(IF($O$9=0,0,Q44),0) | Y44: =IFERROR(IF($O$9=0,0,R44),0) | AC44: =AC43 -> 3 | AD44: =IFERROR(HLOOKUP(ANS!M43,$AN$23:$AS$23,1,FALSE),0)+IFERROR(HLOOKUP(ANS!M43,$AN$33:$AS$33,1,FALSE),0)+IFERROR(HLOOKUP(ANS!M43,$AN$43:$AS$43,1,FALSE),0)+IFERROR(HLOOKUP(ANS!M43,$AN$53:$AS$53,1,FALSE),0)+IFERROR(HLOOKUP(ANS!M43,$AN$63:$AS$63,1,FALSE),0)+IFERROR(HLOOKUP(ANS!M43,$AN$73:$AS$73,1,FALSE),0)+IFERROR(HLOOKUP(ANS!M43,$AN$83:$AS$83,1,FALSE),0) -> 69 | AE44: =IF(AD44>=ANS!M43,0,1) -> 0 | AF44: =IF(AE44,ANS!M43,"") | AG44: =IFERROR(SMALL($AF$26:$AF$60,ANS!L43),"") | AK44: 4 | AL44: =MAX(1,$AH$61) -> 3 | AM44: =WEIGHTS!F65 -> 2 | AN44: =IF(AND($AP$9=1,OR($AT44<>0,$AO$9=1)),IF(AN$19<=$AM44,CHOOSE(RANDBETWEEN(1,$AL44),$AG$61,$AG$62,$AG$63,$AG$64,$AG$65,$AG$66,$AG$67,$AG$68,$AG$69,$AG$70,$AG$71,$AG$72,$AG$73,$AG$74,$AG$75,$AG$76),""),AU44) -> 99 | AO44: =IF(AND($AP$9=1,OR($AT44<>0,$AO$9=1)),IF(AO$19<=$AM44,CHOOSE(RANDBETWEEN(1,$AL44),$AG$61,$AG$62,$AG$63,$AG$64,$AG$65,$AG$66,$AG$67,$AG$68,$AG$69,$AG$70,$AG$71,$AG$72,$AG$73,$AG$74,$AG$75,$AG$76),""),AV44) -> 19 | AP44: =IF(AND($AP$9=1,OR($AT44<>0,$AO$9=1)),IF(AP$19<=$AM44,CHOOSE(RANDBETWEEN(1,$AL44),$AG$61,$AG$62,$AG$63,$AG$64,$AG$65,$AG$66,$AG$67,$AG$68,$AG$69,$AG$70,$AG$71,$AG$72,$AG$73,$AG$74,$AG$75,$AG$76),""),AW44) | AQ44: =IF(AND($AP$9=1,OR($AT44<>0,$AO$9=1)),IF(AQ$19<=$AM44,CHOOSE(RANDBETWEEN(1,$AL44),$AG$61,$AG$62,$AG$63,$AG$64,$AG$65,$AG$66,$AG$67,$AG$68,$AG$69,$AG$70,$AG$71,$AG$72,$AG$73,$AG$74,$AG$75,$AG$76),""),AX44) | AR44: =IF(AND($AP$9=1,OR($AT44<>0,$AO$9=1)),IF(AR$19<=$AM44,CHOOSE(RANDBETWEEN(1,$AL44),$AG$61,$AG$62,$AG$63,$AG$64,$AG$65,$AG$66,$AG$67,$AG$68,$AG$69,$AG$70,$AG$71,$AG$72,$AG$73,$AG$74,$AG$75,$AG$76),""),AY44) | AS44: =IF(AND($AP$9=1,OR($AT44<>0,$AO$9=1)),IF(AS$19<=$AM44,CHOOSE(RANDBETWEEN(1,$AL44),$AG$61,$AG$62,$AG$63,$AG$64,$AG$65,$AG$66,$AG$67,$AG$68,$AG$69,$AG$70,$AG$71,$AG$72,$AG$73,$AG$74,$AG$75,$AG$76),""),AZ44) | AT44: =ROUND(SUMPRODUCT(1/COUNTIF(AN44:AS44,AN44:AS44))-IFERROR(COUNTBLANK(AN44:AS44)/COUNTBLANK(AN44:AS44),0)-AM44,0) -> 0 | AU44: =IFERROR(IF($AP$9=0,0,AN44),0) -> 99 | AV44: =IFERROR(IF($AP$9=0,0,AO44),0) -> 19 | AW44: =IFERROR(IF($AP$9=0,0,AP44),0) | AX44: =IFERROR(IF($AP$9=0,0,AQ44),0) | AY44: =IFERROR(IF($AP$9=0,0,AR44),0) | AZ44: =IFERROR(IF($AP$9=0,0,AS44),0)
B45: =B44 -> 1 | C45: =IFERROR(HLOOKUP(ANS!C44,$M$21:$R$21,1,FALSE),0)+IFERROR(HLOOKUP(ANS!C44,$M$31:$R$31,1,FALSE),0)+IFERROR(HLOOKUP(ANS!C44,$M$41:$R$41,1,FALSE),0)+IFERROR(HLOOKUP(ANS!C44,$M$51:$R$51,1,FALSE),0)+IFERROR(HLOOKUP(ANS!C44,$M$61:$R$61,1,FALSE),0)+IFERROR(HLOOKUP(ANS!C44,$M$71:$R$71,1,FALSE),0)+IFERROR(HLOOKUP(ANS!C44,$M$81:$R$81,1,FALSE),0) -> 143 | D45: =IF(C45>=ANS!C44,0,1) -> 0 | E45: =IF(D45,ANS!C44,"") | F45: =IFERROR(SMALL($E$6:$E$50,ANS!B44),"") | J45: 5 | K45: =MAX(1,$G$111) -> 6 | L45: =WEIGHTS!F53 -> 6 | M45: =IF(AND($O$9=1,OR($S45<>0,$N$9=1)),IF(M$19<=$L45,CHOOSE(RANDBETWEEN(1,$K45),$F$111,$F$112,$F$113,$F$114,$F$115,$F$116,$F$117,$F$118,$F$119,$F$120,$F$121,$F$122,$F$123,$F$124,$F$125,$F$126,$F$127,$F$128,$F$129,$F$130,$F$131,$F$132,$F$133,$F$134,$F$135,$F$136,$F$137,$F$138,$F$139,$F$140,$F$141,$F$142,$F$143,$F$144,$F$145,$F$146,$F$147,$F$148,$F$149,$F$150,$F$151,$F$152,$F$153),""),T45) -> 114 | N45: =IF(AND($O$9=1,OR($S45<>0,$N$9=1)),IF(N$19<=$L45,CHOOSE(RANDBETWEEN(1,$K45),$F$111,$F$112,$F$113,$F$114,$F$115,$F$116,$F$117,$F$118,$F$119,$F$120,$F$121,$F$122,$F$123,$F$124,$F$125,$F$126,$F$127,$F$128,$F$129,$F$130,$F$131,$F$132,$F$133,$F$134,$F$135,$F$136,$F$137,$F$138,$F$139,$F$140,$F$141,$F$142,$F$143,$F$144,$F$145,$F$146,$F$147,$F$148,$F$149,$F$150,$F$151,$F$152,$F$153),""),U45) -> 34 | O45: =IF(AND($O$9=1,OR($S45<>0,$N$9=1)),IF(O$19<=$L45,CHOOSE(RANDBETWEEN(1,$K45),$F$111,$F$112,$F$113,$F$114,$F$115,$F$116,$F$117,$F$118,$F$119,$F$120,$F$121,$F$122,$F$123,$F$124,$F$125,$F$126,$F$127,$F$128,$F$129,$F$130,$F$131,$F$132,$F$133,$F$134,$F$135,$F$136,$F$137,$F$138,$F$139,$F$140,$F$141,$F$142,$F$143,$F$144,$F$145,$F$146,$F$147,$F$148,$F$149,$F$150,$F$151,$F$152,$F$153),""),V45) -> 18 | P45: =IF(AND($O$9=1,OR($S45<>0,$N$9=1)),IF(P$19<=$L45,CHOOSE(RANDBETWEEN(1,$K45),$F$111,$F$112,$F$113,$F$114,$F$115,$F$116,$F$117,$F$118,$F$119,$F$120,$F$121,$F$122,$F$123,$F$124,$F$125,$F$126,$F$127,$F$128,$F$129,$F$130,$F$131,$F$132,$F$133,$F$134,$F$135,$F$136,$F$137,$F$138,$F$139,$F$140,$F$141,$F$142,$F$143,$F$144,$F$145,$F$146,$F$147,$F$148,$F$149,$F$150,$F$151,$F$152,$F$153),""),W45) -> 69 | Q45: =IF(AND($O$9=1,OR($S45<>0,$N$9=1)),IF(Q$19<=$L45,CHOOSE(RANDBETWEEN(1,$K45),$F$111,$F$112,$F$113,$F$114,$F$115,$F$116,$F$117,$F$118,$F$119,$F$120,$F$121,$F$122,$F$123,$F$124,$F$125,$F$126,$F$127,$F$128,$F$129,$F$130,$F$131,$F$132,$F$133,$F$134,$F$135,$F$136,$F$137,$F$138,$F$139,$F$140,$F$141,$F$142,$F$143,$F$144,$F$145,$F$146,$F$147,$F$148,$F$149,$F$150,$F$151,$F$152,$F$153),""),X45) -> 142 | R45: =IF(AND($O$9=1,OR($S45<>0,$N$9=1)),IF(R$19<=$L45,CHOOSE(RANDBETWEEN(1,$K45),$F$111,$F$112,$F$113,$F$114,$F$115,$F$116,$F$117,$F$118,$F$119,$F$120,$F$121,$F$122,$F$123,$F$124,$F$125,$F$126,$F$127,$F$128,$F$129,$F$130,$F$131,$F$132,$F$133,$F$134,$F$135,$F$136,$F$137,$F$138,$F$139,$F$140,$F$141,$F$142,$F$143,$F$144,$F$145,$F$146,$F$147,$F$148,$F$149,$F$150,$F$151,$F$152,$F$153),""),Y45) -> 136 | S45: =ROUND(SUMPRODUCT(1/COUNTIF(M45:R45,M45:R45))-IFERROR(COUNTBLANK(M45:R45)/COUNTBLANK(M45:R45),0)-L45,0) -> 0 | T45: =IFERROR(IF($O$9=0,0,M45),0) -> 114 | U45: =IFERROR(IF($O$9=0,0,N45),0) -> 34 | V45: =IFERROR(IF($O$9=0,0,O45),0) -> 18 | W45: =IFERROR(IF($O$9=0,0,P45),0) -> 69 | X45: =IFERROR(IF($O$9=0,0,Q45),0) -> 142 | Y45: =IFERROR(IF($O$9=0,0,R45),0) -> 136 | AC45: =AC44 -> 3 | AD45: =IFERROR(HLOOKUP(ANS!M44,$AN$23:$AS$23,1,FALSE),0)+IFERROR(HLOOKUP(ANS!M44,$AN$33:$AS$33,1,FALSE),0)+IFERROR(HLOOKUP(ANS!M44,$AN$43:$AS$43,1,FALSE),0)+IFERROR(HLOOKUP(ANS!M44,$AN$53:$AS$53,1,FALSE),0)+IFERROR(HLOOKUP(ANS!M44,$AN$63:$AS$63,1,FALSE),0)+IFERROR(HLOOKUP(ANS!M44,$AN$73:$AS$73,1,FALSE),0)+IFERROR(HLOOKUP(ANS!M44,$AN$83:$AS$83,1,FALSE),0) -> 73 | AE45: =IF(AD45>=ANS!M44,0,1) -> 0 | AF45: =IF(AE45,ANS!M44,"") | AG45: =IFERROR(SMALL($AF$26:$AF$60,ANS!L44),"") | AK45: 5 | AL45: =MAX(1,$AH$77) -> 3 | AM45: =WEIGHTS!F66 -> 3 | AN45: =IF(AND($AP$9=1,OR($AT45<>0,$AO$9=1)),IF(AN$19<=$AM45,CHOOSE(RANDBETWEEN(1,$AL45),$AG$77,$AG$78,$AG$79,$AG$80,$AG$81,$AG$82,$AG$83,$AG$84,$AG$85,$AG$86,$AG$87,$AG$88,$AG$89,$AG$90,$AG$91,$AG$92,$AG$93,$AG$94,$AG$95,$AG$96,$AG$97,$AG$98,$AG$99,$AG$100,$AG$101,$AG$102),""),AU45) -> 29 | AO45: =IF(AND($AP$9=1,OR($AT45<>0,$AO$9=1)),IF(AO$19<=$AM45,CHOOSE(RANDBETWEEN(1,$AL45),$AG$77,$AG$78,$AG$79,$AG$80,$AG$81,$AG$82,$AG$83,$AG$84,$AG$85,$AG$86,$AG$87,$AG$88,$AG$89,$AG$90,$AG$91,$AG$92,$AG$93,$AG$94,$AG$95,$AG$96,$AG$97,$AG$98,$AG$99,$AG$100,$AG$101,$AG$102),""),AV45) -> 55 | AP45: =IF(AND($AP$9=1,OR($AT45<>0,$AO$9=1)),IF(AP$19<=$AM45,CHOOSE(RANDBETWEEN(1,$AL45),$AG$77,$AG$78,$AG$79,$AG$80,$AG$81,$AG$82,$AG$83,$AG$84,$AG$85,$AG$86,$AG$87,$AG$88,$AG$89,$AG$90,$AG$91,$AG$92,$AG$93,$AG$94,$AG$95,$AG$96,$AG$97,$AG$98,$AG$99,$AG$100,$AG$101,$AG$102),""),AW45) -> 116 | AQ45: =IF(AND($AP$9=1,OR($AT45<>0,$AO$9=1)),IF(AQ$19<=$AM45,CHOOSE(RANDBETWEEN(1,$AL45),$AG$77,$AG$78,$AG$79,$AG$80,$AG$81,$AG$82,$AG$83,$AG$84,$AG$85,$AG$86,$AG$87,$AG$88,$AG$89,$AG$90,$AG$91,$AG$92,$AG$93,$AG$94,$AG$95,$AG$96,$AG$97,$AG$98,$AG$99,$AG$100,$AG$101,$AG$102),""),AX45) | AR45: =IF(AND($AP$9=1,OR($AT45<>0,$AO$9=1)),IF(AR$19<=$AM45,CHOOSE(RANDBETWEEN(1,$AL45),$AG$77,$AG$78,$AG$79,$AG$80,$AG$81,$AG$82,$AG$83,$AG$84,$AG$85,$AG$86,$AG$87,$AG$88,$AG$89,$AG$90,$AG$91,$AG$92,$AG$93,$AG$94,$AG$95,$AG$96,$AG$97,$AG$98,$AG$99,$AG$100,$AG$101,$AG$102),""),AY45) | AS45: =IF(AND($AP$9=1,OR($AT45<>0,$AO$9=1)),IF(AS$19<=$AM45,CHOOSE(RANDBETWEEN(1,$AL45),$AG$77,$AG$78,$AG$79,$AG$80,$AG$81,$AG$82,$AG$83,$AG$84,$AG$85,$AG$86,$AG$87,$AG$88,$AG$89,$AG$90,$AG$91,$AG$92,$AG$93,$AG$94,$AG$95,$AG$96,$AG$97,$AG$98,$AG$99,$AG$100,$AG$101,$AG$102),""),AZ45) | AT45: =ROUND(SUMPRODUCT(1/COUNTIF(AN45:AS45,AN45:AS45))-IFERROR(COUNTBLANK(AN45:AS45)/COUNTBLANK(AN45:AS45),0)-AM45,0) -> 0 | AU45: =IFERROR(IF($AP$9=0,0,AN45),0) -> 29 | AV45: =IFERROR(IF($AP$9=0,0,AO45),0) -> 55 | AW45: =IFERROR(IF($AP$9=0,0,AP45),0) -> 116 | AX45: =IFERROR(IF($AP$9=0,0,AQ45),0) | AY45: =IFERROR(IF($AP$9=0,0,AR45),0) | AZ45: =IFERROR(IF($AP$9=0,0,AS45),0)
B46: =B45 -> 1 | C46: =IFERROR(HLOOKUP(ANS!C45,$M$21:$R$21,1,FALSE),0)+IFERROR(HLOOKUP(ANS!C45,$M$31:$R$31,1,FALSE),0)+IFERROR(HLOOKUP(ANS!C45,$M$41:$R$41,1,FALSE),0)+IFERROR(HLOOKUP(ANS!C45,$M$51:$R$51,1,FALSE),0)+IFERROR(HLOOKUP(ANS!C45,$M$61:$R$61,1,FALSE),0)+IFERROR(HLOOKUP(ANS!C45,$M$71:$R$71,1,FALSE),0)+IFERROR(HLOOKUP(ANS!C45,$M$81:$R$81,1,FALSE),0) -> 158 | D46: =IF(C46>=ANS!C45,0,1) -> 0 | E46: =IF(D46,ANS!C45,"") | F46: =IFERROR(SMALL($E$6:$E$50,ANS!B45),"") | J46: 6 | K46: =MAX(1,$G$154) -> 2 | L46: =WEIGHTS!F54 -> 1 | M46: =IF(AND($O$9=1,OR($S46<>0,$N$9=1)),IF(M$19<=$L46,CHOOSE(RANDBETWEEN(1,$K46),$F$154,$F$155,$F$156,$F$157,$F$158,$F$159,$F$160,$F$161,$F$162,$F$163,$F$164,$F$165,$F$166),""),T46) -> 144 | N46: =IF(AND($O$9=1,OR($S46<>0,$N$9=1)),IF(N$19<=$L46,CHOOSE(RANDBETWEEN(1,$K46),$F$154,$F$155,$F$156,$F$157,$F$158,$F$159,$F$160,$F$161,$F$162,$F$163,$F$164,$F$165,$F$166),""),U46) | O46: =IF(AND($O$9=1,OR($S46<>0,$N$9=1)),IF(O$19<=$L46,CHOOSE(RANDBETWEEN(1,$K46),$F$154,$F$155,$F$156,$F$157,$F$158,$F$159,$F$160,$F$161,$F$162,$F$163,$F$164,$F$165,$F$166),""),V46) | P46: =IF(AND($O$9=1,OR($S46<>0,$N$9=1)),IF(P$19<=$L46,CHOOSE(RANDBETWEEN(1,$K46),$F$154,$F$155,$F$156,$F$157,$F$158,$F$159,$F$160,$F$161,$F$162,$F$163,$F$164,$F$165,$F$166),""),W46) | Q46: =IF(AND($O$9=1,OR($S46<>0,$N$9=1)),IF(Q$19<=$L46,CHOOSE(RANDBETWEEN(1,$K46),$F$154,$F$155,$F$156,$F$157,$F$158,$F$159,$F$160,$F$161,$F$162,$F$163,$F$164,$F$165,$F$166),""),X46) | R46: =IF(AND($O$9=1,OR($S46<>0,$N$9=1)),IF(R$19<=$L46,CHOOSE(RANDBETWEEN(1,$K46),$F$154,$F$155,$F$156,$F$157,$F$158,$F$159,$F$160,$F$161,$F$162,$F$163,$F$164,$F$165,$F$166),""),Y46) | S46: =ROUND(SUMPRODUCT(1/COUNTIF(M46:R46,M46:R46))-IFERROR(COUNTBLANK(M46:R46)/COUNTBLANK(M46:R46),0)-L46,0) -> 0 | T46: =IFERROR(IF($O$9=0,0,M46),0) -> 144 | U46: =IFERROR(IF($O$9=0,0,N46),0) | V46: =IFERROR(IF($O$9=0,0,O46),0) | W46: =IFERROR(IF($O$9=0,0,P46),0) | X46: =IFERROR(IF($O$9=0,0,Q46),0) | Y46: =IFERROR(IF($O$9=0,0,R46),0) | AC46: =AC45 -> 3 | AD46: =IFERROR(HLOOKUP(ANS!M45,$AN$23:$AS$23,1,FALSE),0)+IFERROR(HLOOKUP(ANS!M45,$AN$33:$AS$33,1,FALSE),0)+IFERROR(HLOOKUP(ANS!M45,$AN$43:$AS$43,1,FALSE),0)+IFERROR(HLOOKUP(ANS!M45,$AN$53:$AS$53,1,FALSE),0)+IFERROR(HLOOKUP(ANS!M45,$AN$63:$AS$63,1,FALSE),0)+IFERROR(HLOOKUP(ANS!M45,$AN$73:$AS$73,1,FALSE),0)+IFERROR(HLOOKUP(ANS!M45,$AN$83:$AS$83,1,FALSE),0) -> 76 | AE46: =IF(AD46>=ANS!M45,0,1) -> 0 | AF46: =IF(AE46,ANS!M45,"") | AG46: =IFERROR(SMALL($AF$26:$AF$60,ANS!L45),"") | AK46: 6 | AL46: =MAX(1,$AH$103) -> 2 | AM46: =WEIGHTS!F67 -> 2 | AN46: =IF(AND($AP$9=1,OR($AT46<>0,$AO$9=1)),IF(AN$19<=$AM46,CHOOSE(RANDBETWEEN(1,$AL46),$AG$103,$AG$104,$AG$105,$AG$106,$AG$107,$AG$108,$AG$109,$AG$110,$AG$111,$AG$112,$AG$113,$AG$114,$AG$115,$AG$116,$AG$117,$AG$118),""),AU46) -> 115 | AO46: =IF(AND($AP$9=1,OR($AT46<>0,$AO$9=1)),IF(AO$19<=$AM46,CHOOSE(RANDBETWEEN(1,$AL46),$AG$103,$AG$104,$AG$105,$AG$106,$AG$107,$AG$108,$AG$109,$AG$110,$AG$111,$AG$112,$AG$113,$AG$114,$AG$115,$AG$116,$AG$117,$AG$118),""),AV46) -> 16 | AP46: =IF(AND($AP$9=1,OR($AT46<>0,$AO$9=1)),IF(AP$19<=$AM46,CHOOSE(RANDBETWEEN(1,$AL46),$AG$103,$AG$104,$AG$105,$AG$106,$AG$107,$AG$108,$AG$109,$AG$110,$AG$111,$AG$112,$AG$113,$AG$114,$AG$115,$AG$116,$AG$117,$AG$118),""),AW46) | AQ46: =IF(AND($AP$9=1,OR($AT46<>0,$AO$9=1)),IF(AQ$19<=$AM46,CHOOSE(RANDBETWEEN(1,$AL46),$AG$103,$AG$104,$AG$105,$AG$106,$AG$107,$AG$108,$AG$109,$AG$110,$AG$111,$AG$112,$AG$113,$AG$114,$AG$115,$AG$116,$AG$117,$AG$118),""),AX46) | AR46: =IF(AND($AP$9=1,OR($AT46<>0,$AO$9=1)),IF(AR$19<=$AM46,CHOOSE(RANDBETWEEN(1,$AL46),$AG$103,$AG$104,$AG$105,$AG$106,$AG$107,$AG$108,$AG$109,$AG$110,$AG$111,$AG$112,$AG$113,$AG$114,$AG$115,$AG$116,$AG$117,$AG$118),""),AY46) | AS46: =IF(AND($AP$9=1,OR($AT46<>0,$AO$9=1)),IF(AS$19<=$AM46,CHOOSE(RANDBETWEEN(1,$AL46),$AG$103,$AG$104,$AG$105,$AG$106,$AG$107,$AG$108,$AG$109,$AG$110,$AG$111,$AG$112,$AG$113,$AG$114,$AG$115,$AG$116,$AG$117,$AG$118),""),AZ46) | AT46: =ROUND(SUMPRODUCT(1/COUNTIF(AN46:AS46,AN46:AS46))-IFERROR(COUNTBLANK(AN46:AS46)/COUNTBLANK(AN46:AS46),0)-AM46,0) -> 0 | AU46: =IFERROR(IF($AP$9=0,0,AN46),0) -> 115 | AV46: =IFERROR(IF($AP$9=0,0,AO46),0) -> 16 | AW46: =IFERROR(IF($AP$9=0,0,AP46),0) | AX46: =IFERROR(IF($AP$9=0,0,AQ46),0) | AY46: =IFERROR(IF($AP$9=0,0,AR46),0) | AZ46: =IFERROR(IF($AP$9=0,0,AS46),0)
B47: =B46 -> 1 | C47: =IFERROR(HLOOKUP(ANS!C46,$M$21:$R$21,1,FALSE),0)+IFERROR(HLOOKUP(ANS!C46,$M$31:$R$31,1,FALSE),0)+IFERROR(HLOOKUP(ANS!C46,$M$41:$R$41,1,FALSE),0)+IFERROR(HLOOKUP(ANS!C46,$M$51:$R$51,1,FALSE),0)+IFERROR(HLOOKUP(ANS!C46,$M$61:$R$61,1,FALSE),0)+IFERROR(HLOOKUP(ANS!C46,$M$71:$R$71,1,FALSE),0)+IFERROR(HLOOKUP(ANS!C46,$M$81:$R$81,1,FALSE),0) -> 159 | D47: =IF(C47>=ANS!C46,0,1) -> 0 | E47: =IF(D47,ANS!C46,"") | F47: =IFERROR(SMALL($E$6:$E$50,ANS!B46),"") | J47: 7 | K47: =MAX(1,$G$167) -> 1 | L47: =WEIGHTS!F55 -> 1 | M47: =IF(AND($O$9=1,OR($S47<>0,$N$9=1)),IF(M$19<=$L47,CHOOSE(RANDBETWEEN(1,$K47),$F$167,$F$168,$F$169,$F$170,$F$171,$F$172,$F$173,$F$174,$F$175,$F$176,$F$177),""),T47) -> 104 | N47: =IF(AND($O$9=1,OR($S47<>0,$N$9=1)),IF(N$19<=$L47,CHOOSE(RANDBETWEEN(1,$K47),$F$167,$F$168,$F$169,$F$170,$F$171,$F$172,$F$173,$F$174,$F$175,$F$176,$F$177),""),U47) | O47: =IF(AND($O$9=1,OR($S47<>0,$N$9=1)),IF(O$19<=$L47,CHOOSE(RANDBETWEEN(1,$K47),$F$167,$F$168,$F$169,$F$170,$F$171,$F$172,$F$173,$F$174,$F$175,$F$176,$F$177),""),V47) | P47: =IF(AND($O$9=1,OR($S47<>0,$N$9=1)),IF(P$19<=$L47,CHOOSE(RANDBETWEEN(1,$K47),$F$167,$F$168,$F$169,$F$170,$F$171,$F$172,$F$173,$F$174,$F$175,$F$176,$F$177),""),W47) | Q47: =IF(AND($O$9=1,OR($S47<>0,$N$9=1)),IF(Q$19<=$L47,CHOOSE(RANDBETWEEN(1,$K47),$F$167,$F$168,$F$169,$F$170,$F$171,$F$172,$F$173,$F$174,$F$175,$F$176,$F$177),""),X47) | R47: =IF(AND($O$9=1,OR($S47<>0,$N$9=1)),IF(R$19<=$L47,CHOOSE(RANDBETWEEN(1,$K47),$F$167,$F$168,$F$169,$F$170,$F$171,$F$172,$F$173,$F$174,$F$175,$F$176,$F$177),""),Y47) | S47: =ROUND(SUMPRODUCT(1/COUNTIF(M47:R47,M47:R47))-IFERROR(COUNTBLANK(M47:R47)/COUNTBLANK(M47:R47),0)-L47,0) -> 0 | T47: =IFERROR(IF($O$9=0,0,M47),0) -> 104 | U47: =IFERROR(IF($O$9=0,0,N47),0) | V47: =IFERROR(IF($O$9=0,0,O47),0) | W47: =IFERROR(IF($O$9=0,0,P47),0) | X47: =IFERROR(IF($O$9=0,0,Q47),0) | Y47: =IFERROR(IF($O$9=0,0,R47),0) | AC47: =AC46 -> 3 | AD47: =IFERROR(HLOOKUP(ANS!M46,$AN$23:$AS$23,1,FALSE),0)+IFERROR(HLOOKUP(ANS!M46,$AN$33:$AS$33,1,FALSE),0)+IFERROR(HLOOKUP(ANS!M46,$AN$43:$AS$43,1,FALSE),0)+IFERROR(HLOOKUP(ANS!M46,$AN$53:$AS$53,1,FALSE),0)+IFERROR(HLOOKUP(ANS!M46,$AN$63:$AS$63,1,FALSE),0)+IFERROR(HLOOKUP(ANS!M46,$AN$73:$AS$73,1,FALSE),0)+IFERROR(HLOOKUP(ANS!M46,$AN$83:$AS$83,1,FALSE),0) -> 80 | AE47: =IF(AD47>=ANS!M46,0,1) -> 0 | AF47: =IF(AE47,ANS!M46,"") | AG47: =IFERROR(SMALL($AF$26:$AF$60,ANS!L46),"") | AK47: 7 | AL47: =MAX(1,$AH$119) -> 1 | AM47: =WEIGHTS!F68 -> 2 | AN47: =IF(AND($AP$9=1,OR($AT47<>0,$AO$9=1)),IF(AN$19<=$AM47,CHOOSE(RANDBETWEEN(1,$AL47),$AG$119,$AG$120,$AG$121,$AG$122,$AG$123,$AG$124,$AG$125,$AG$126,$AG$127,$AG$128),""),AU47) -> 41 | AO47: =IF(AND($AP$9=1,OR($AT47<>0,$AO$9=1)),IF(AO$19<=$AM47,CHOOSE(RANDBETWEEN(1,$AL47),$AG$119,$AG$120,$AG$121,$AG$122,$AG$123,$AG$124,$AG$125,$AG$126,$AG$127,$AG$128),""),AV47) -> 14 | AP47: =IF(AND($AP$9=1,OR($AT47<>0,$AO$9=1)),IF(AP$19<=$AM47,CHOOSE(RANDBETWEEN(1,$AL47),$AG$119,$AG$120,$AG$121,$AG$122,$AG$123,$AG$124,$AG$125,$AG$126,$AG$127,$AG$128),""),AW47) | AQ47: =IF(AND($AP$9=1,OR($AT47<>0,$AO$9=1)),IF(AQ$19<=$AM47,CHOOSE(RANDBETWEEN(1,$AL47),$AG$119,$AG$120,$AG$121,$AG$122,$AG$123,$AG$124,$AG$125,$AG$126,$AG$127,$AG$128),""),AX47) | AR47: =IF(AND($AP$9=1,OR($AT47<>0,$AO$9=1)),IF(AR$19<=$AM47,CHOOSE(RANDBETWEEN(1,$AL47),$AG$119,$AG$120,$AG$121,$AG$122,$AG$123,$AG$124,$AG$125,$AG$126,$AG$127,$AG$128),""),AY47) | AS47: =IF(AND($AP$9=1,OR($AT47<>0,$AO$9=1)),IF(AS$19<=$AM47,CHOOSE(RANDBETWEEN(1,$AL47),$AG$119,$AG$120,$AG$121,$AG$122,$AG$123,$AG$124,$AG$125,$AG$126,$AG$127,$AG$128),""),AZ47) | AT47: =ROUND(SUMPRODUCT(1/COUNTIF(AN47:AS47,AN47:AS47))-IFERROR(COUNTBLANK(AN47:AS47)/COUNTBLANK(AN47:AS47),0)-AM47,0) -> 0 | AU47: =IFERROR(IF($AP$9=0,0,AN47),0) -> 41 | AV47: =IFERROR(IF($AP$9=0,0,AO47),0) -> 14 | AW47: =IFERROR(IF($AP$9=0,0,AP47),0) | AX47: =IFERROR(IF($AP$9=0,0,AQ47),0) | AY47: =IFERROR(IF($AP$9=0,0,AR47),0) | AZ47: =IFERROR(IF($AP$9=0,0,AS47),0)
B48: =B47 -> 1 | C48: =IFERROR(HLOOKUP(ANS!C47,$M$21:$R$21,1,FALSE),0)+IFERROR(HLOOKUP(ANS!C47,$M$31:$R$31,1,FALSE),0)+IFERROR(HLOOKUP(ANS!C47,$M$41:$R$41,1,FALSE),0)+IFERROR(HLOOKUP(ANS!C47,$M$51:$R$51,1,FALSE),0)+IFERROR(HLOOKUP(ANS!C47,$M$61:$R$61,1,FALSE),0)+IFERROR(HLOOKUP(ANS!C47,$M$71:$R$71,1,FALSE),0)+IFERROR(HLOOKUP(ANS!C47,$M$81:$R$81,1,FALSE),0) -> 168 | D48: =IF(C48>=ANS!C47,0,1) -> 0 | E48: =IF(D48,ANS!C47,"") | F48: =IFERROR(SMALL($E$6:$E$50,ANS!B47),"") | J48: 8 | K48: =MAX(1,$G$178) -> 1 | L48: =WEIGHTS!F56 -> 1 | M48: =IF(AND($O$9=1,OR($S48<>0,$N$9=1)),IF(M$19<=$L48,CHOOSE(RANDBETWEEN(1,$K48),$F$178,$F$179),""),T48) -> 132 | N48: =IF(AND($O$9=1,OR($S48<>0,$N$9=1)),IF(N$19<=$L48,CHOOSE(RANDBETWEEN(1,$K48),$F$178,$F$179),""),U48) | O48: =IF(AND($O$9=1,OR($S48<>0,$N$9=1)),IF(O$19<=$L48,CHOOSE(RANDBETWEEN(1,$K48),$F$178,$F$179),""),V48) | P48: =IF(AND($O$9=1,OR($S48<>0,$N$9=1)),IF(P$19<=$L48,CHOOSE(RANDBETWEEN(1,$K48),$F$178,$F$179),""),W48) | Q48: =IF(AND($O$9=1,OR($S48<>0,$N$9=1)),IF(Q$19<=$L48,CHOOSE(RANDBETWEEN(1,$K48),$F$178,$F$179),""),X48) | R48: =IF(AND($O$9=1,OR($S48<>0,$N$9=1)),IF(R$19<=$L48,CHOOSE(RANDBETWEEN(1,$K48),$F$178,$F$179),""),Y48) | S48: =ROUND(SUMPRODUCT(1/COUNTIF(M48:R48,M48:R48))-IFERROR(COUNTBLANK(M48:R48)/COUNTBLANK(M48:R48),0)-L48,0) -> 0 | T48: =IFERROR(IF($O$9=0,0,M48),0) -> 132 | U48: =IFERROR(IF($O$9=0,0,N48),0) | V48: =IFERROR(IF($O$9=0,0,O48),0) | W48: =IFERROR(IF($O$9=0,0,P48),0) | X48: =IFERROR(IF($O$9=0,0,Q48),0) | Y48: =IFERROR(IF($O$9=0,0,R48),0) | AC48: =AC47 -> 3 | AD48: =IFERROR(HLOOKUP(ANS!M47,$AN$23:$AS$23,1,FALSE),0)+IFERROR(HLOOKUP(ANS!M47,$AN$33:$AS$33,1,FALSE),0)+IFERROR(HLOOKUP(ANS!M47,$AN$43:$AS$43,1,FALSE),0)+IFERROR(HLOOKUP(ANS!M47,$AN$53:$AS$53,1,FALSE),0)+IFERROR(HLOOKUP(ANS!M47,$AN$63:$AS$63,1,FALSE),0)+IFERROR(HLOOKUP(ANS!M47,$AN$73:$AS$73,1,FALSE),0)+IFERROR(HLOOKUP(ANS!M47,$AN$83:$AS$83,1,FALSE),0) -> 83 | AE48: =IF(AD48>=ANS!M47,0,1) -> 0 | AF48: =IF(AE48,ANS!M47,"") | AG48: =IFERROR(SMALL($AF$26:$AF$60,ANS!L47),"") | AK48: 8 | AM48: =WEIGHTS!F69 -> 0
B49: =B48 -> 1 | C49: =IFERROR(HLOOKUP(ANS!C48,$M$21:$R$21,1,FALSE),0)+IFERROR(HLOOKUP(ANS!C48,$M$31:$R$31,1,FALSE),0)+IFERROR(HLOOKUP(ANS!C48,$M$41:$R$41,1,FALSE),0)+IFERROR(HLOOKUP(ANS!C48,$M$51:$R$51,1,FALSE),0)+IFERROR(HLOOKUP(ANS!C48,$M$61:$R$61,1,FALSE),0)+IFERROR(HLOOKUP(ANS!C48,$M$71:$R$71,1,FALSE),0)+IFERROR(HLOOKUP(ANS!C48,$M$81:$R$81,1,FALSE),0) -> 174 | D49: =IF(C49>=ANS!C48,0,1) -> 0 | E49: =IF(D49,ANS!C48,"") | F49: =IFERROR(SMALL($E$6:$E$50,ANS!B48),"") | J49: 9 | K49: =MAX(1,$G$180) -> 1 | L49: =WEIGHTS!F57 -> 0 | M49: =IF(AND($O$9=1,OR($S49<>0,$N$9=1)),IF(M$19<=$L49,CHOOSE(RANDBETWEEN(1,$K49),$F$180,$F$181),""),T49) | N49: =IF(AND($O$9=1,OR($S49<>0,$N$9=1)),IF(N$19<=$L49,CHOOSE(RANDBETWEEN(1,$K49),$F$180,$F$181),""),U49) | O49: =IF(AND($O$9=1,OR($S49<>0,$N$9=1)),IF(O$19<=$L49,CHOOSE(RANDBETWEEN(1,$K49),$F$180,$F$181),""),V49) | P49: =IF(AND($O$9=1,OR($S49<>0,$N$9=1)),IF(P$19<=$L49,CHOOSE(RANDBETWEEN(1,$K49),$F$180,$F$181),""),W49) | Q49: =IF(AND($O$9=1,OR($S49<>0,$N$9=1)),IF(Q$19<=$L49,CHOOSE(RANDBETWEEN(1,$K49),$F$180,$F$181),""),X49) | R49: =IF(AND($O$9=1,OR($S49<>0,$N$9=1)),IF(R$19<=$L49,CHOOSE(RANDBETWEEN(1,$K49),$F$180,$F$181),""),Y49) | S49: =ROUND(SUMPRODUCT(1/COUNTIF(M49:R49,M49:R49))-IFERROR(COUNTBLANK(M49:R49)/COUNTBLANK(M49:R49),0)-L49,0) -> 0 | T49: =IFERROR(IF($O$9=0,0,M49),0) | U49: =IFERROR(IF($O$9=0,0,N49),0) | V49: =IFERROR(IF($O$9=0,0,O49),0) | W49: =IFERROR(IF($O$9=0,0,P49),0) | X49: =IFERROR(IF($O$9=0,0,Q49),0) | Y49: =IFERROR(IF($O$9=0,0,R49),0) | AC49: =AC48 -> 3 | AD49: =IFERROR(HLOOKUP(ANS!M48,$AN$23:$AS$23,1,FALSE),0)+IFERROR(HLOOKUP(ANS!M48,$AN$33:$AS$33,1,FALSE),0)+IFERROR(HLOOKUP(ANS!M48,$AN$43:$AS$43,1,FALSE),0)+IFERROR(HLOOKUP(ANS!M48,$AN$53:$AS$53,1,FALSE),0)+IFERROR(HLOOKUP(ANS!M48,$AN$63:$AS$63,1,FALSE),0)+IFERROR(HLOOKUP(ANS!M48,$AN$73:$AS$73,1,FALSE),0)+IFERROR(HLOOKUP(ANS!M48,$AN$83:$AS$83,1,FALSE),0) -> 89 | AE49: =IF(AD49>=ANS!M48,0,1) -> 0 | AF49: =IF(AE49,ANS!M48,"") | AG49: =IFERROR(SMALL($AF$26:$AF$60,ANS!L48),"") | AK49: 9 | AL49: =MAX(1,$AH$129) -> 1 | AM49: =WEIGHTS!F70 -> 0 | AN49: =IF(AND($AP$9=1,OR($AT49<>0,$AO$9=1)),IF(AN$19<=$AM49,CHOOSE(RANDBETWEEN(1,$AL49),$AG$129),""),AU49) | AO49: =IF(AND($AP$9=1,OR($AT49<>0,$AO$9=1)),IF(AO$19<=$AM49,CHOOSE(RANDBETWEEN(1,$AL49),$AG$129),""),AV49) | AP49: =IF(AND($AP$9=1,OR($AT49<>0,$AO$9=1)),IF(AP$19<=$AM49,CHOOSE(RANDBETWEEN(1,$AL49),$AG$129),""),AW49) | AQ49: =IF(AND($AP$9=1,OR($AT49<>0,$AO$9=1)),IF(AQ$19<=$AM49,CHOOSE(RANDBETWEEN(1,$AL49),$AG$129),""),AX49) | AR49: =IF(AND($AP$9=1,OR($AT49<>0,$AO$9=1)),IF(AR$19<=$AM49,CHOOSE(RANDBETWEEN(1,$AL49),$AG$129),""),AY49) | AS49: =IF(AND($AP$9=1,OR($AT49<>0,$AO$9=1)),IF(AS$19<=$AM49,CHOOSE(RANDBETWEEN(1,$AL49),$AG$129),""),AZ49) | AT49: =ROUND(SUMPRODUCT(1/COUNTIF(AN49:AS49,AN49:AS49))-IFERROR(COUNTBLANK(AN49:AS49)/COUNTBLANK(AN49:AS49),0)-AM49,0) -> 0 | AU49: =IFERROR(IF($AP$9=0,0,AN49),0) | AV49: =IFERROR(IF($AP$9=0,0,AO49),0) | AW49: =IFERROR(IF($AP$9=0,0,AP49),0) | AX49: =IFERROR(IF($AP$9=0,0,AQ49),0) | AY49: =IFERROR(IF($AP$9=0,0,AR49),0) | AZ49: =IFERROR(IF($AP$9=0,0,AS49),0)
B50: =B49 -> 1 | C50: =IFERROR(HLOOKUP(ANS!C49,$M$21:$R$21,1,FALSE),0)+IFERROR(HLOOKUP(ANS!C49,$M$31:$R$31,1,FALSE),0)+IFERROR(HLOOKUP(ANS!C49,$M$41:$R$41,1,FALSE),0)+IFERROR(HLOOKUP(ANS!C49,$M$51:$R$51,1,FALSE),0)+IFERROR(HLOOKUP(ANS!C49,$M$61:$R$61,1,FALSE),0)+IFERROR(HLOOKUP(ANS!C49,$M$71:$R$71,1,FALSE),0)+IFERROR(HLOOKUP(ANS!C49,$M$81:$R$81,1,FALSE),0) -> 176 | D50: =IF(C50>=ANS!C49,0,1) -> 0 | E50: =IF(D50,ANS!C49,"") | F50: =IFERROR(SMALL($E$6:$E$50,ANS!B49),"") | M50: Drill 4 | S50: =COUNTIF(M51:R59,0) -> 0 | T50: Drill 4 | AC50: =AC49 -> 3 | AD50: =IFERROR(HLOOKUP(ANS!M49,$AN$23:$AS$23,1,FALSE),0)+IFERROR(HLOOKUP(ANS!M49,$AN$33:$AS$33,1,FALSE),0)+IFERROR(HLOOKUP(ANS!M49,$AN$43:$AS$43,1,FALSE),0)+IFERROR(HLOOKUP(ANS!M49,$AN$53:$AS$53,1,FALSE),0)+IFERROR(HLOOKUP(ANS!M49,$AN$63:$AS$63,1,FALSE),0)+IFERROR(HLOOKUP(ANS!M49,$AN$73:$AS$73,1,FALSE),0)+IFERROR(HLOOKUP(ANS!M49,$AN$83:$AS$83,1,FALSE),0) -> 94 | AE50: =IF(AD50>=ANS!M49,0,1) -> 0 | AF50: =IF(AE50,ANS!M49,"") | AG50: =IFERROR(SMALL($AF$26:$AF$60,ANS!L49),"") | AN50: Drill 4 | AT50: =COUNTIF(AN51:AS59,0) -> 0 | AU50: Drill 4
B51: 2 | C51: =IFERROR(HLOOKUP(ANS!C50,$M$22:$R$22,1,FALSE),0)+IFERROR(HLOOKUP(ANS!C50,$M$32:$R$32,1,FALSE),0)+IFERROR(HLOOKUP(ANS!C50,$M$42:$R$42,1,FALSE),0)+IFERROR(HLOOKUP(ANS!C50,$M$52:$R$52,1,FALSE),0)+IFERROR(HLOOKUP(ANS!C50,$M$62:$R$62,1,FALSE),0)+IFERROR(HLOOKUP(ANS!C50,$M$72:$R$72,1,FALSE),0)+IFERROR(HLOOKUP(ANS!C50,$M$82:$R$82,1,FALSE),0) -> 36 | D51: =IF(C51>=ANS!C50,0,1) -> 0 | E51: =IF(D51,ANS!C50,"") | F51: =IFERROR(SMALL($E$51:$E$59,ANS!B50),"") -> 97 | G51: =COUNT(F51:F59) -> 1 | H51: =G51-L92 -> 0 | J51: 1 | K51: =MAX(1,$G$6) -> 7 | L51: =WEIGHTS!G49 -> 5 | M51: =IF(AND($O$10=1,OR($S51<>0,$N$10=1)),IF(M$19<=$L51,CHOOSE(RANDBETWEEN(1,$K51),$F$6,$F$7,$F$8,$F$9,$F$10,$F$11,$F$12,$F$13,$F$14,$F$15,$F$16,$F$17,$F$18,$F$19,$F$20,$F$21,$F$22,$F$23,$F$24,$F$25,$F$26,$F$27,$F$28,$F$29,$F$30,$F$31,$F$32,$F$33,$F$34,$F$35,$F$36,$F$37,$F$38,$F$39,$F$40,$F$41,$F$42,$F$43,$F$44,$F$45,$F$46,$F$47,$F$48,$F$49,$F$50),""),T51) -> 59 | N51: =IF(AND($O$10=1,OR($S51<>0,$N$10=1)),IF(N$19<=$L51,CHOOSE(RANDBETWEEN(1,$K51),$F$6,$F$7,$F$8,$F$9,$F$10,$F$11,$F$12,$F$13,$F$14,$F$15,$F$16,$F$17,$F$18,$F$19,$F$20,$F$21,$F$22,$F$23,$F$24,$F$25,$F$26,$F$27,$F$28,$F$29,$F$30,$F$31,$F$32,$F$33,$F$34,$F$35,$F$36,$F$37,$F$38,$F$39,$F$40,$F$41,$F$42,$F$43,$F$44,$F$45,$F$46,$F$47,$F$48,$F$49,$F$50),""),U51) -> 49 | O51: =IF(AND($O$10=1,OR($S51<>0,$N$10=1)),IF(O$19<=$L51,CHOOSE(RANDBETWEEN(1,$K51),$F$6,$F$7,$F$8,$F$9,$F$10,$F$11,$F$12,$F$13,$F$14,$F$15,$F$16,$F$17,$F$18,$F$19,$F$20,$F$21,$F$22,$F$23,$F$24,$F$25,$F$26,$F$27,$F$28,$F$29,$F$30,$F$31,$F$32,$F$33,$F$34,$F$35,$F$36,$F$37,$F$38,$F$39,$F$40,$F$41,$F$42,$F$43,$F$44,$F$45,$F$46,$F$47,$F$48,$F$49,$F$50),""),V51) -> 12 | P51: =IF(AND($O$10=1,OR($S51<>0,$N$10=1)),IF(P$19<=$L51,CHOOSE(RANDBETWEEN(1,$K51),$F$6,$F$7,$F$8,$F$9,$F$10,$F$11,$F$12,$F$13,$F$14,$F$15,$F$16,$F$17,$F$18,$F$19,$F$20,$F$21,$F$22,$F$23,$F$24,$F$25,$F$26,$F$27,$F$28,$F$29,$F$30,$F$31,$F$32,$F$33,$F$34,$F$35,$F$36,$F$37,$F$38,$F$39,$F$40,$F$41,$F$42,$F$43,$F$44,$F$45,$F$46,$F$47,$F$48,$F$49,$F$50),""),W51) -> 60 | Q51: =IF(AND($O$10=1,OR($S51<>0,$N$10=1)),IF(Q$19<=$L51,CHOOSE(RANDBETWEEN(1,$K51),$F$6,$F$7,$F$8,$F$9,$F$10,$F$11,$F$12,$F$13,$F$14,$F$15,$F$16,$F$17,$F$18,$F$19,$F$20,$F$21,$F$22,$F$23,$F$24,$F$25,$F$26,$F$27,$F$28,$F$29,$F$30,$F$31,$F$32,$F$33,$F$34,$F$35,$F$36,$F$37,$F$38,$F$39,$F$40,$F$41,$F$42,$F$43,$F$44,$F$45,$F$46,$F$47,$F$48,$F$49,$F$50),""),X51) -> 51 | R51: =IF(AND($O$10=1,OR($S51<>0,$N$10=1)),IF(R$19<=$L51,CHOOSE(RANDBETWEEN(1,$K51),$F$6,$F$7,$F$8,$F$9,$F$10,$F$11,$F$12,$F$13,$F$14,$F$15,$F$16,$F$17,$F$18,$F$19,$F$20,$F$21,$F$22,$F$23,$F$24,$F$25,$F$26,$F$27,$F$28,$F$29,$F$30,$F$31,$F$32,$F$33,$F$34,$F$35,$F$36,$F$37,$F$38,$F$39,$F$40,$F$41,$F$42,$F$43,$F$44,$F$45,$F$46,$F$47,$F$48,$F$49,$F$50),""),Y51) | S51: =ROUND(SUMPRODUCT(1/COUNTIF(M51:R51,M51:R51))-IFERROR(COUNTBLANK(M51:R51)/COUNTBLANK(M51:R51),0)-L51,0) -> 0 | T51: =IFERROR(IF($O$10=0,0,M51),0) -> 59 | U51: =IFERROR(IF($O$10=0,0,N51),0) -> 49 | V51: =IFERROR(IF($O$10=0,0,O51),0) -> 12 | W51: =IFERROR(IF($O$10=0,0,P51),0) -> 60 | X51: =IFERROR(IF($O$10=0,0,Q51),0) -> 51 | Y51: =IFERROR(IF($O$10=0,0,R51),0) | AC51: =AC50 -> 3 | AD51: =IFERROR(HLOOKUP(ANS!M50,$AN$23:$AS$23,1,FALSE),0)+IFERROR(HLOOKUP(ANS!M50,$AN$33:$AS$33,1,FALSE),0)+IFERROR(HLOOKUP(ANS!M50,$AN$43:$AS$43,1,FALSE),0)+IFERROR(HLOOKUP(ANS!M50,$AN$53:$AS$53,1,FALSE),0)+IFERROR(HLOOKUP(ANS!M50,$AN$63:$AS$63,1,FALSE),0)+IFERROR(HLOOKUP(ANS!M50,$AN$73:$AS$73,1,FALSE),0)+IFERROR(HLOOKUP(ANS!M50,$AN$83:$AS$83,1,FALSE),0) -> 96 | AE51: =IF(AD51>=ANS!M50,0,1) -> 0 | AF51: =IF(AE51,ANS!M50,"") | AG51: =IFERROR(SMALL($AF$26:$AF$60,ANS!L50),"") | AK51: 1 | AL51: =MAX(1,$AH$6) -> 2 | AM51: =WEIGHTS!G62 -> 2 | AN51: =IF(AND($AP$10=1,OR($AT51<>0,$AO$10=1)),IF(AN$19<=$AM51,CHOOSE(RANDBETWEEN(1,$AL51),$AG$6,$AG$7,$AG$8,$AG$9,$AG$10,$AG$11,$AG$12,$AG$13,$AG$14,$AG$15,$AG$16,$AG$17,$AG$18,$AG$19),""),AU51) -> 8 | AO51: =IF(AND($AP$10=1,OR($AT51<>0,$AO$10=1)),IF(AO$19<=$AM51,CHOOSE(RANDBETWEEN(1,$AL51),$AG$6,$AG$7,$AG$8,$AG$9,$AG$10,$AG$11,$AG$12,$AG$13,$AG$14,$AG$15,$AG$16,$AG$17,$AG$18,$AG$19),""),AV51) -> 36 | AP51: =IF(AND($AP$10=1,OR($AT51<>0,$AO$10=1)),IF(AP$19<=$AM51,CHOOSE(RANDBETWEEN(1,$AL51),$AG$6,$AG$7,$AG$8,$AG$9,$AG$10,$AG$11,$AG$12,$AG$13,$AG$14,$AG$15,$AG$16,$AG$17,$AG$18,$AG$19),""),AW51) | AQ51: =IF(AND($AP$10=1,OR($AT51<>0,$AO$10=1)),IF(AQ$19<=$AM51,CHOOSE(RANDBETWEEN(1,$AL51),$AG$6,$AG$7,$AG$8,$AG$9,$AG$10,$AG$11,$AG$12,$AG$13,$AG$14,$AG$15,$AG$16,$AG$17,$AG$18,$AG$19),""),AX51) | AR51: =IF(AND($AP$10=1,OR($AT51<>0,$AO$10=1)),IF(AR$19<=$AM51,CHOOSE(RANDBETWEEN(1,$AL51),$AG$6,$AG$7,$AG$8,$AG$9,$AG$10,$AG$11,$AG$12,$AG$13,$AG$14,$AG$15,$AG$16,$AG$17,$AG$18,$AG$19),""),AY51) | AS51: =IF(AND($AP$10=1,OR($AT51<>0,$AO$10=1)),IF(AS$19<=$AM51,CHOOSE(RANDBETWEEN(1,$AL51),$AG$6,$AG$7,$AG$8,$AG$9,$AG$10,$AG$11,$AG$12,$AG$13,$AG$14,$AG$15,$AG$16,$AG$17,$AG$18,$AG$19),""),AZ51) | AT51: =ROUND(SUMPRODUCT(1/COUNTIF(AN51:AS51,AN51:AS51))-IFERROR(COUNTBLANK(AN51:AS51)/COUNTBLANK(AN51:AS51),0)-AM51,0) -> 0 | AU51: =IFERROR(IF($AP$10=0,0,AN51),0) -> 8 | AV51: =IFERROR(IF($AP$10=0,0,AO51),0) -> 36 | AW51: =IFERROR(IF($AP$10=0,0,AP51),0) | AX51: =IFERROR(IF($AP$10=0,0,AQ51),0) | AY51: =IFERROR(IF($AP$10=0,0,AR51),0) | AZ51: =IFERROR(IF($AP$10=0,0,AS51),0)
B52: =B51 -> 2 | C52: =IFERROR(HLOOKUP(ANS!C51,$M$22:$R$22,1,FALSE),0)+IFERROR(HLOOKUP(ANS!C51,$M$32:$R$32,1,FALSE),0)+IFERROR(HLOOKUP(ANS!C51,$M$42:$R$42,1,FALSE),0)+IFERROR(HLOOKUP(ANS!C51,$M$52:$R$52,1,FALSE),0)+IFERROR(HLOOKUP(ANS!C51,$M$62:$R$62,1,FALSE),0)+IFERROR(HLOOKUP(ANS!C51,$M$72:$R$72,1,FALSE),0)+IFERROR(HLOOKUP(ANS!C51,$M$82:$R$82,1,FALSE),0) -> 47 | D52: =IF(C52>=ANS!C51,0,1) -> 0 | E52: =IF(D52,ANS!C51,"") | F52: =IFERROR(SMALL($E$51:$E$59,ANS!B51),"") | J52: 2 | K52: =MAX(1,$G$51) -> 1 | L52: =WEIGHTS!G50 -> 2 | M52: =IF(AND($O$10=1,OR($S52<>0,$N$10=1)),IF(M$19<=$L52,CHOOSE(RANDBETWEEN(1,$K52),$F$51,$F$52,$F$53,$F$54,$F$55,$F$56,$F$57,$F$58,$F$59),""),T52) -> 55 | N52: =IF(AND($O$10=1,OR($S52<>0,$N$10=1)),IF(N$19<=$L52,CHOOSE(RANDBETWEEN(1,$K52),$F$51,$F$52,$F$53,$F$54,$F$55,$F$56,$F$57,$F$58,$F$59),""),U52) -> 163 | O52: =IF(AND($O$10=1,OR($S52<>0,$N$10=1)),IF(O$19<=$L52,CHOOSE(RANDBETWEEN(1,$K52),$F$51,$F$52,$F$53,$F$54,$F$55,$F$56,$F$57,$F$58,$F$59),""),V52) | P52: =IF(AND($O$10=1,OR($S52<>0,$N$10=1)),IF(P$19<=$L52,CHOOSE(RANDBETWEEN(1,$K52),$F$51,$F$52,$F$53,$F$54,$F$55,$F$56,$F$57,$F$58,$F$59),""),W52) | Q52: =IF(AND($O$10=1,OR($S52<>0,$N$10=1)),IF(Q$19<=$L52,CHOOSE(RANDBETWEEN(1,$K52),$F$51,$F$52,$F$53,$F$54,$F$55,$F$56,$F$57,$F$58,$F$59),""),X52) | R52: =IF(AND($O$10=1,OR($S52<>0,$N$10=1)),IF(R$19<=$L52,CHOOSE(RANDBETWEEN(1,$K52),$F$51,$F$52,$F$53,$F$54,$F$55,$F$56,$F$57,$F$58,$F$59),""),Y52) | S52: =ROUND(SUMPRODUCT(1/COUNTIF(M52:R52,M52:R52))-IFERROR(COUNTBLANK(M52:R52)/COUNTBLANK(M52:R52),0)-L52,0) -> 0 | T52: =IFERROR(IF($O$10=0,0,M52),0) -> 55 | U52: =IFERROR(IF($O$10=0,0,N52),0) -> 163 | V52: =IFERROR(IF($O$10=0,0,O52),0) | W52: =IFERROR(IF($O$10=0,0,P52),0) | X52: =IFERROR(IF($O$10=0,0,Q52),0) | Y52: =IFERROR(IF($O$10=0,0,R52),0) | AC52: =AC51 -> 3 | AD52: =IFERROR(HLOOKUP(ANS!M51,$AN$23:$AS$23,1,FALSE),0)+IFERROR(HLOOKUP(ANS!M51,$AN$33:$AS$33,1,FALSE),0)+IFERROR(HLOOKUP(ANS!M51,$AN$43:$AS$43,1,FALSE),0)+IFERROR(HLOOKUP(ANS!M51,$AN$53:$AS$53,1,FALSE),0)+IFERROR(HLOOKUP(ANS!M51,$AN$63:$AS$63,1,FALSE),0)+IFERROR(HLOOKUP(ANS!M51,$AN$73:$AS$73,1,FALSE),0)+IFERROR(HLOOKUP(ANS!M51,$AN$83:$AS$83,1,FALSE),0) -> 98 | AE52: =IF(AD52>=ANS!M51,0,1) -> 0 | AF52: =IF(AE52,ANS!M51,"") | AG52: =IFERROR(SMALL($AF$26:$AF$60,ANS!L51),"") | AK52: 2 | AL52: =MAX(1,$AH$20) -> 1 | AM52: =WEIGHTS!G63 -> 0 | AN52: =IF(AND($AP$10=1,OR($AT52<>0,$AO$10=1)),IF(AN$19<=$AM52,CHOOSE(RANDBETWEEN(1,$AL52),$AG$20,$AG$21,$AG$22,$AG$23,$AG$24,$AG$25),""),AU52) | AO52: =IF(AND($AP$10=1,OR($AT52<>0,$AO$10=1)),IF(AO$19<=$AM52,CHOOSE(RANDBETWEEN(1,$AL52),$AG$20,$AG$21,$AG$22,$AG$23,$AG$24,$AG$25),""),AV52) | AP52: =IF(AND($AP$10=1,OR($AT52<>0,$AO$10=1)),IF(AP$19<=$AM52,CHOOSE(RANDBETWEEN(1,$AL52),$AG$20,$AG$21,$AG$22,$AG$23,$AG$24,$AG$25),""),AW52) | AQ52: =IF(AND($AP$10=1,OR($AT52<>0,$AO$10=1)),IF(AQ$19<=$AM52,CHOOSE(RANDBETWEEN(1,$AL52),$AG$20,$AG$21,$AG$22,$AG$23,$AG$24,$AG$25),""),AX52) | AR52: =IF(AND($AP$10=1,OR($AT52<>0,$AO$10=1)),IF(AR$19<=$AM52,CHOOSE(RANDBETWEEN(1,$AL52),$AG$20,$AG$21,$AG$22,$AG$23,$AG$24,$AG$25),""),AY52) | AS52: =IF(AND($AP$10=1,OR($AT52<>0,$AO$10=1)),IF(AS$19<=$AM52,CHOOSE(RANDBETWEEN(1,$AL52),$AG$20,$AG$21,$AG$22,$AG$23,$AG$24,$AG$25),""),AZ52) | AT52: =ROUND(SUMPRODUCT(1/COUNTIF(AN52:AS52,AN52:AS52))-IFERROR(COUNTBLANK(AN52:AS52)/COUNTBLANK(AN52:AS52),0)-AM52,0) -> 0 | AU52: =IFERROR(IF($AP$10=0,0,AN52),0) | AV52: =IFERROR(IF($AP$10=0,0,AO52),0) | AW52: =IFERROR(IF($AP$10=0,0,AP52),0) | AX52: =IFERROR(IF($AP$10=0,0,AQ52),0) | AY52: =IFERROR(IF($AP$10=0,0,AR52),0) | AZ52: =IFERROR(IF($AP$10=0,0,AS52),0)
B53: =B52 -> 2 | C53: =IFERROR(HLOOKUP(ANS!C52,$M$22:$R$22,1,FALSE),0)+IFERROR(HLOOKUP(ANS!C52,$M$32:$R$32,1,FALSE),0)+IFERROR(HLOOKUP(ANS!C52,$M$42:$R$42,1,FALSE),0)+IFERROR(HLOOKUP(ANS!C52,$M$52:$R$52,1,FALSE),0)+IFERROR(HLOOKUP(ANS!C52,$M$62:$R$62,1,FALSE),0)+IFERROR(HLOOKUP(ANS!C52,$M$72:$R$72,1,FALSE),0)+IFERROR(HLOOKUP(ANS!C52,$M$82:$R$82,1,FALSE),0) -> 55 | D53: =IF(C53>=ANS!C52,0,1) -> 0 | E53: =IF(D53,ANS!C52,"") | F53: =IFERROR(SMALL($E$51:$E$59,ANS!B52),"") | J53: 3 | K53: =MAX(1,$G$60) -> 4 | L53: =WEIGHTS!G51 -> 4 | M53: =IF(AND($O$10=1,OR($S53<>0,$N$10=1)),IF(M$19<=$L53,CHOOSE(RANDBETWEEN(1,$K53),$F$60,$F$61,$F$62,$F$63,$F$64,$F$65,$F$66,$F$67,$F$68,$F$69,$F$70,$F$71,$F$72,$F$73,$F$74,$F$75,$F$76,$F$77,$F$78,$F$79,$F$80,$F$81,$F$82,$F$83,$F$84,$F$85,$F$86,$F$87,$F$88,$F$89,$F$90,$F$91),""),T53) -> 28 | N53: =IF(AND($O$10=1,OR($S53<>0,$N$10=1)),IF(N$19<=$L53,CHOOSE(RANDBETWEEN(1,$K53),$F$60,$F$61,$F$62,$F$63,$F$64,$F$65,$F$66,$F$67,$F$68,$F$69,$F$70,$F$71,$F$72,$F$73,$F$74,$F$75,$F$76,$F$77,$F$78,$F$79,$F$80,$F$81,$F$82,$F$83,$F$84,$F$85,$F$86,$F$87,$F$88,$F$89,$F$90,$F$91),""),U53) -> 128 | O53: =IF(AND($O$10=1,OR($S53<>0,$N$10=1)),IF(O$19<=$L53,CHOOSE(RANDBETWEEN(1,$K53),$F$60,$F$61,$F$62,$F$63,$F$64,$F$65,$F$66,$F$67,$F$68,$F$69,$F$70,$F$71,$F$72,$F$73,$F$74,$F$75,$F$76,$F$77,$F$78,$F$79,$F$80,$F$81,$F$82,$F$83,$F$84,$F$85,$F$86,$F$87,$F$88,$F$89,$F$90,$F$91),""),V53) -> 103 | P53: =IF(AND($O$10=1,OR($S53<>0,$N$10=1)),IF(P$19<=$L53,CHOOSE(RANDBETWEEN(1,$K53),$F$60,$F$61,$F$62,$F$63,$F$64,$F$65,$F$66,$F$67,$F$68,$F$69,$F$70,$F$71,$F$72,$F$73,$F$74,$F$75,$F$76,$F$77,$F$78,$F$79,$F$80,$F$81,$F$82,$F$83,$F$84,$F$85,$F$86,$F$87,$F$88,$F$89,$F$90,$F$91),""),W53) -> 121 | Q53: =IF(AND($O$10=1,OR($S53<>0,$N$10=1)),IF(Q$19<=$L53,CHOOSE(RANDBETWEEN(1,$K53),$F$60,$F$61,$F$62,$F$63,$F$64,$F$65,$F$66,$F$67,$F$68,$F$69,$F$70,$F$71,$F$72,$F$73,$F$74,$F$75,$F$76,$F$77,$F$78,$F$79,$F$80,$F$81,$F$82,$F$83,$F$84,$F$85,$F$86,$F$87,$F$88,$F$89,$F$90,$F$91),""),X53) | R53: =IF(AND($O$10=1,OR($S53<>0,$N$10=1)),IF(R$19<=$L53,CHOOSE(RANDBETWEEN(1,$K53),$F$60,$F$61,$F$62,$F$63,$F$64,$F$65,$F$66,$F$67,$F$68,$F$69,$F$70,$F$71,$F$72,$F$73,$F$74,$F$75,$F$76,$F$77,$F$78,$F$79,$F$80,$F$81,$F$82,$F$83,$F$84,$F$85,$F$86,$F$87,$F$88,$F$89,$F$90,$F$91),""),Y53) | S53: =ROUND(SUMPRODUCT(1/COUNTIF(M53:R53,M53:R53))-IFERROR(COUNTBLANK(M53:R53)/COUNTBLANK(M53:R53),0)-L53,0) -> 0 | T53: =IFERROR(IF($O$10=0,0,M53),0) -> 28 | U53: =IFERROR(IF($O$10=0,0,N53),0) -> 128 | V53: =IFERROR(IF($O$10=0,0,O53),0) -> 103 | W53: =IFERROR(IF($O$10=0,0,P53),0) -> 121 | X53: =IFERROR(IF($O$10=0,0,Q53),0) | Y53: =IFERROR(IF($O$10=0,0,R53),0) | AC53: =AC52 -> 3 | AD53: =IFERROR(HLOOKUP(ANS!M52,$AN$23:$AS$23,1,FALSE),0)+IFERROR(HLOOKUP(ANS!M52,$AN$33:$AS$33,1,FALSE),0)+IFERROR(HLOOKUP(ANS!M52,$AN$43:$AS$43,1,FALSE),0)+IFERROR(HLOOKUP(ANS!M52,$AN$53:$AS$53,1,FALSE),0)+IFERROR(HLOOKUP(ANS!M52,$AN$63:$AS$63,1,FALSE),0)+IFERROR(HLOOKUP(ANS!M52,$AN$73:$AS$73,1,FALSE),0)+IFERROR(HLOOKUP(ANS!M52,$AN$83:$AS$83,1,FALSE),0) -> 100 | AE53: =IF(AD53>=ANS!M52,0,1) -> 0 | AF53: =IF(AE53,ANS!M52,"") | AG53: =IFERROR(SMALL($AF$26:$AF$60,ANS!L52),"") | AK53: 3 | AL53: =MAX(1,$AH$26) -> 5 | AM53: =WEIGHTS!G64 -> 5 | AN53: =IF(AND($AP$10=1,OR($AT53<>0,$AO$10=1)),IF(AN$19<=$AM53,CHOOSE(RANDBETWEEN(1,$AL53),$AG$26,$AG$27,$AG$28,$AG$29,$AG$30,$AG$31,$AG$32,$AG$33,$AG$34,$AG$35,$AG$36,$AG$37,$AG$38,$AG$39,$AG$40,$AG$41,$AG$42,$AG$43,$AG$44,$AG$45,$AG$46,$AG$47,$AG$48,$AG$49,$AG$50,$AG$51,$AG$52,$AG$53,$AG$54,$AG$55,$AG$56,$AG$57,$AG$58,$AG$59,$AG$60),""),AU53) -> 96 | AO53: =IF(AND($AP$10=1,OR($AT53<>0,$AO$10=1)),IF(AO$19<=$AM53,CHOOSE(RANDBETWEEN(1,$AL53),$AG$26,$AG$27,$AG$28,$AG$29,$AG$30,$AG$31,$AG$32,$AG$33,$AG$34,$AG$35,$AG$36,$AG$37,$AG$38,$AG$39,$AG$40,$AG$41,$AG$42,$AG$43,$AG$44,$AG$45,$AG$46,$AG$47,$AG$48,$AG$49,$AG$50,$AG$51,$AG$52,$AG$53,$AG$54,$AG$55,$AG$56,$AG$57,$AG$58,$AG$59,$AG$60),""),AV53) -> 25 | AP53: =IF(AND($AP$10=1,OR($AT53<>0,$AO$10=1)),IF(AP$19<=$AM53,CHOOSE(RANDBETWEEN(1,$AL53),$AG$26,$AG$27,$AG$28,$AG$29,$AG$30,$AG$31,$AG$32,$AG$33,$AG$34,$AG$35,$AG$36,$AG$37,$AG$38,$AG$39,$AG$40,$AG$41,$AG$42,$AG$43,$AG$44,$AG$45,$AG$46,$AG$47,$AG$48,$AG$49,$AG$50,$AG$51,$AG$52,$AG$53,$AG$54,$AG$55,$AG$56,$AG$57,$AG$58,$AG$59,$AG$60),""),AW53) -> 52 | AQ53: =IF(AND($AP$10=1,OR($AT53<>0,$AO$10=1)),IF(AQ$19<=$AM53,CHOOSE(RANDBETWEEN(1,$AL53),$AG$26,$AG$27,$AG$28,$AG$29,$AG$30,$AG$31,$AG$32,$AG$33,$AG$34,$AG$35,$AG$36,$AG$37,$AG$38,$AG$39,$AG$40,$AG$41,$AG$42,$AG$43,$AG$44,$AG$45,$AG$46,$AG$47,$AG$48,$AG$49,$AG$50,$AG$51,$AG$52,$AG$53,$AG$54,$AG$55,$AG$56,$AG$57,$AG$58,$AG$59,$AG$60),""),AX53) -> 83 | AR53: =IF(AND($AP$10=1,OR($AT53<>0,$AO$10=1)),IF(AR$19<=$AM53,CHOOSE(RANDBETWEEN(1,$AL53),$AG$26,$AG$27,$AG$28,$AG$29,$AG$30,$AG$31,$AG$32,$AG$33,$AG$34,$AG$35,$AG$36,$AG$37,$AG$38,$AG$39,$AG$40,$AG$41,$AG$42,$AG$43,$AG$44,$AG$45,$AG$46,$AG$47,$AG$48,$AG$49,$AG$50,$AG$51,$AG$52,$AG$53,$AG$54,$AG$55,$AG$56,$AG$57,$AG$58,$AG$59,$AG$60),""),AY53) -> 48 | AS53: =IF(AND($AP$10=1,OR($AT53<>0,$AO$10=1)),IF(AS$19<=$AM53,CHOOSE(RANDBETWEEN(1,$AL53),$AG$26,$AG$27,$AG$28,$AG$29,$AG$30,$AG$31,$AG$32,$AG$33,$AG$34,$AG$35,$AG$36,$AG$37,$AG$38,$AG$39,$AG$40,$AG$41,$AG$42,$AG$43,$AG$44,$AG$45,$AG$46,$AG$47,$AG$48,$AG$49,$AG$50,$AG$51,$AG$52,$AG$53,$AG$54,$AG$55,$AG$56,$AG$57,$AG$58,$AG$59,$AG$60),""),AZ53) | AT53: =ROUND(SUMPRODUCT(1/COUNTIF(AN53:AS53,AN53:AS53))-IFERROR(COUNTBLANK(AN53:AS53)/COUNTBLANK(AN53:AS53),0)-AM53,0) -> 0 | AU53: =IFERROR(IF($AP$10=0,0,AN53),0) -> 96 | AV53: =IFERROR(IF($AP$10=0,0,AO53),0) -> 25 | AW53: =IFERROR(IF($AP$10=0,0,AP53),0) -> 52 | AX53: =IFERROR(IF($AP$10=0,0,AQ53),0) -> 83 | AY53: =IFERROR(IF($AP$10=0,0,AR53),0) -> 48 | AZ53: =IFERROR(IF($AP$10=0,0,AS53),0)
B54: =B53 -> 2 | C54: =IFERROR(HLOOKUP(ANS!C53,$M$22:$R$22,1,FALSE),0)+IFERROR(HLOOKUP(ANS!C53,$M$32:$R$32,1,FALSE),0)+IFERROR(HLOOKUP(ANS!C53,$M$42:$R$42,1,FALSE),0)+IFERROR(HLOOKUP(ANS!C53,$M$52:$R$52,1,FALSE),0)+IFERROR(HLOOKUP(ANS!C53,$M$62:$R$62,1,FALSE),0)+IFERROR(HLOOKUP(ANS!C53,$M$72:$R$72,1,FALSE),0)+IFERROR(HLOOKUP(ANS!C53,$M$82:$R$82,1,FALSE),0) -> 74 | D54: =IF(C54>=ANS!C53,0,1) -> 0 | E54: =IF(D54,ANS!C53,"") | F54: =IFERROR(SMALL($E$51:$E$59,ANS!B53),"") | J54: 4 | K54: =MAX(1,$G$92) -> 4 | L54: =WEIGHTS!G52 -> 2 | M54: =IF(AND($O$10=1,OR($S54<>0,$N$10=1)),IF(M$19<=$L54,CHOOSE(RANDBETWEEN(1,$K54),$F$92,$F$93,$F$94,$F$95,$F$96,$F$97,$F$98,$F$99,$F$100,$F$101,$F$102,$F$103,$F$104,$F$105,$F$106,$F$107,$F$108,$F$109,$F$110),""),T54) -> 135 | N54: =IF(AND($O$10=1,OR($S54<>0,$N$10=1)),IF(N$19<=$L54,CHOOSE(RANDBETWEEN(1,$K54),$F$92,$F$93,$F$94,$F$95,$F$96,$F$97,$F$98,$F$99,$F$100,$F$101,$F$102,$F$103,$F$104,$F$105,$F$106,$F$107,$F$108,$F$109,$F$110),""),U54) -> 7 | O54: =IF(AND($O$10=1,OR($S54<>0,$N$10=1)),IF(O$19<=$L54,CHOOSE(RANDBETWEEN(1,$K54),$F$92,$F$93,$F$94,$F$95,$F$96,$F$97,$F$98,$F$99,$F$100,$F$101,$F$102,$F$103,$F$104,$F$105,$F$106,$F$107,$F$108,$F$109,$F$110),""),V54) | P54: =IF(AND($O$10=1,OR($S54<>0,$N$10=1)),IF(P$19<=$L54,CHOOSE(RANDBETWEEN(1,$K54),$F$92,$F$93,$F$94,$F$95,$F$96,$F$97,$F$98,$F$99,$F$100,$F$101,$F$102,$F$103,$F$104,$F$105,$F$106,$F$107,$F$108,$F$109,$F$110),""),W54) | Q54: =IF(AND($O$10=1,OR($S54<>0,$N$10=1)),IF(Q$19<=$L54,CHOOSE(RANDBETWEEN(1,$K54),$F$92,$F$93,$F$94,$F$95,$F$96,$F$97,$F$98,$F$99,$F$100,$F$101,$F$102,$F$103,$F$104,$F$105,$F$106,$F$107,$F$108,$F$109,$F$110),""),X54) | R54: =IF(AND($O$10=1,OR($S54<>0,$N$10=1)),IF(R$19<=$L54,CHOOSE(RANDBETWEEN(1,$K54),$F$92,$F$93,$F$94,$F$95,$F$96,$F$97,$F$98,$F$99,$F$100,$F$101,$F$102,$F$103,$F$104,$F$105,$F$106,$F$107,$F$108,$F$109,$F$110),""),Y54) | S54: =ROUND(SUMPRODUCT(1/COUNTIF(M54:R54,M54:R54))-IFERROR(COUNTBLANK(M54:R54)/COUNTBLANK(M54:R54),0)-L54,0) -> 0 | T54: =IFERROR(IF($O$10=0,0,M54),0) -> 135 | U54: =IFERROR(IF($O$10=0,0,N54),0) -> 7 | V54: =IFERROR(IF($O$10=0,0,O54),0) | W54: =IFERROR(IF($O$10=0,0,P54),0) | X54: =IFERROR(IF($O$10=0,0,Q54),0) | Y54: =IFERROR(IF($O$10=0,0,R54),0) | AC54: =AC53 -> 3 | AD54: =IFERROR(HLOOKUP(ANS!M53,$AN$23:$AS$23,1,FALSE),0)+IFERROR(HLOOKUP(ANS!M53,$AN$33:$AS$33,1,FALSE),0)+IFERROR(HLOOKUP(ANS!M53,$AN$43:$AS$43,1,FALSE),0)+IFERROR(HLOOKUP(ANS!M53,$AN$53:$AS$53,1,FALSE),0)+IFERROR(HLOOKUP(ANS!M53,$AN$63:$AS$63,1,FALSE),0)+IFERROR(HLOOKUP(ANS!M53,$AN$73:$AS$73,1,FALSE),0)+IFERROR(HLOOKUP(ANS!M53,$AN$83:$AS$83,1,FALSE),0) -> 102 | AE54: =IF(AD54>=ANS!M53,0,1) -> 0 | AF54: =IF(AE54,ANS!M53,"") | AG54: =IFERROR(SMALL($AF$26:$AF$60,ANS!L53),"") | AK54: 4 | AL54: =MAX(1,$AH$61) -> 3 | AM54: =WEIGHTS!G65 -> 2 | AN54: =IF(AND($AP$10=1,OR($AT54<>0,$AO$10=1)),IF(AN$19<=$AM54,CHOOSE(RANDBETWEEN(1,$AL54),$AG$61,$AG$62,$AG$63,$AG$64,$AG$65,$AG$66,$AG$67,$AG$68,$AG$69,$AG$70,$AG$71,$AG$72,$AG$73,$AG$74,$AG$75,$AG$76),""),AU54) -> 72 | AO54: =IF(AND($AP$10=1,OR($AT54<>0,$AO$10=1)),IF(AO$19<=$AM54,CHOOSE(RANDBETWEEN(1,$AL54),$AG$61,$AG$62,$AG$63,$AG$64,$AG$65,$AG$66,$AG$67,$AG$68,$AG$69,$AG$70,$AG$71,$AG$72,$AG$73,$AG$74,$AG$75,$AG$76),""),AV54) -> 65 | AP54: =IF(AND($AP$10=1,OR($AT54<>0,$AO$10=1)),IF(AP$19<=$AM54,CHOOSE(RANDBETWEEN(1,$AL54),$AG$61,$AG$62,$AG$63,$AG$64,$AG$65,$AG$66,$AG$67,$AG$68,$AG$69,$AG$70,$AG$71,$AG$72,$AG$73,$AG$74,$AG$75,$AG$76),""),AW54) | AQ54: =IF(AND($AP$10=1,OR($AT54<>0,$AO$10=1)),IF(AQ$19<=$AM54,CHOOSE(RANDBETWEEN(1,$AL54),$AG$61,$AG$62,$AG$63,$AG$64,$AG$65,$AG$66,$AG$67,$AG$68,$AG$69,$AG$70,$AG$71,$AG$72,$AG$73,$AG$74,$AG$75,$AG$76),""),AX54) | AR54: =IF(AND($AP$10=1,OR($AT54<>0,$AO$10=1)),IF(AR$19<=$AM54,CHOOSE(RANDBETWEEN(1,$AL54),$AG$61,$AG$62,$AG$63,$AG$64,$AG$65,$AG$66,$AG$67,$AG$68,$AG$69,$AG$70,$AG$71,$AG$72,$AG$73,$AG$74,$AG$75,$AG$76),""),AY54) | AS54: =IF(AND($AP$10=1,OR($AT54<>0,$AO$10=1)),IF(AS$19<=$AM54,CHOOSE(RANDBETWEEN(1,$AL54),$AG$61,$AG$62,$AG$63,$AG$64,$AG$65,$AG$66,$AG$67,$AG$68,$AG$69,$AG$70,$AG$71,$AG$72,$AG$73,$AG$74,$AG$75,$AG$76),""),AZ54) | AT54: =ROUND(SUMPRODUCT(1/COUNTIF(AN54:AS54,AN54:AS54))-IFERROR(COUNTBLANK(AN54:AS54)/COUNTBLANK(AN54:AS54),0)-AM54,0) -> 0 | AU54: =IFERROR(IF($AP$10=0,0,AN54),0) -> 72 | AV54: =IFERROR(IF($AP$10=0,0,AO54),0) -> 65 | AW54: =IFERROR(IF($AP$10=0,0,AP54),0) | AX54: =IFERROR(IF($AP$10=0,0,AQ54),0) | AY54: =IFERROR(IF($AP$10=0,0,AR54),0) | AZ54: =IFERROR(IF($AP$10=0,0,AS54),0)
